From mboxrd@z Thu Jan  1 00:00:00 1970
Return-Path: <test-report-bounces@dpdk.org>
Received: from mails.dpdk.org (mails.dpdk.org [217.70.189.124])
	by inbox.dpdk.org (Postfix) with ESMTP id BFB8445914
	for <public@inbox.dpdk.org>; Fri,  6 Sep 2024 00:47:26 +0200 (CEST)
Received: from mails.dpdk.org (localhost [127.0.0.1])
	by mails.dpdk.org (Postfix) with ESMTP id B0E1C40264;
	Fri,  6 Sep 2024 00:47:26 +0200 (CEST)
Received: from mail-oo1-f98.google.com (mail-oo1-f98.google.com
 [209.85.161.98]) by mails.dpdk.org (Postfix) with ESMTP id C7F724025C
 for <test-report@dpdk.org>; Fri,  6 Sep 2024 00:47:24 +0200 (CEST)
Received: by mail-oo1-f98.google.com with SMTP id
 006d021491bc7-5df9a9f7fe2so934415eaf.2
 for <test-report@dpdk.org>; Thu, 05 Sep 2024 15:47:24 -0700 (PDT)
DKIM-Signature: v=1; a=rsa-sha256; c=relaxed/relaxed;
 d=iol.unh.edu; s=unh-iol; t=1725576444; x=1726181244; darn=dpdk.org;
 h=references:in-reply-to:cc:to:from:subject:message-id:date:from:to
 :cc:subject:date:message-id:reply-to;
 bh=zk134RM3EaV5gF22PcBGsmQUROfh0h6+N9uJ/IwmBBo=;
 b=VvRGmiVYEpDJdG6NyYD9JIDv4/NtN5LBM8L3eT8g9aiA/BwVWuJUQR06pm6JnOiGYh
 JemavyvbIBu0NlpQ1ZUegiwj4Cjph812VqD13BKEBs4F/0P6OM3t8Cibh+ZQ4JenclzL
 gBZoXmmZF/cG2ayW5VFXorJGwQ3KRXHigGY50=
X-Google-DKIM-Signature: v=1; a=rsa-sha256; c=relaxed/relaxed;
 d=1e100.net; s=20230601; t=1725576444; x=1726181244;
 h=references:in-reply-to:cc:to:from:subject:message-id:date
 :x-gm-message-state:from:to:cc:subject:date:message-id:reply-to;
 bh=zk134RM3EaV5gF22PcBGsmQUROfh0h6+N9uJ/IwmBBo=;
 b=sjYMuIOz/Df7d2Y7kocnRkjIv6UHvIMCYm4bj6rrghfiQmpvWxa9Qxwr/dGMCEXDih
 DmQAMgoat0zXdBuNESjpAwZQjXeoqIlqIUmwy7Dbm7N0eRD8DuU5iwxyaU/UYZTSaJsP
 zRGre5491JMqZRk4q1S5pXRPy+eQfaHsQJa4ou/yRgxyVw2RlCnqmraZs0PEmfCYqbbo
 9pLOP3+haLZA3hDcOxVhEp8hoNObNmlw+sGk6UA1gckHb5B7hM/dwON3ftNPpeumHOAR
 4GAw1N3Razwij+XKrSFFaFTm7CyY9BDQy1u18tE7ZsUZV3u86Gc6Tk/Jr7wLLQ2RN4rF
 wiNw==
X-Gm-Message-State: AOJu0Yw7UjEdtW0ECa3Pga/uHcXvIByBKqzig78qg84BQkoyC6V8z3G3
 Qnae5/YtNuJhK8m4+HwAMEOy/HX3HHVEnTyd/slM1q09PDBRP+2oFd+CCtSMOsnO1wggMyd2AjI
 zj2c10kbKv/CokGuUAKLN1Cgg29QtWe9bpb/p72rGX/jiojajKXC2Fk61
X-Google-Smtp-Source: AGHT+IF0VMxWuY+J8nX+qDvcRj6aHZ4GEmkGyM1JFnGMOuGD2fRZS1Jd0DnAEJZSWJdixDtKGynXMRjmPKe4
X-Received: by 2002:a05:6359:5a8d:b0:1a1:c19f:403a with SMTP id
 e5c5f4694b2df-1b8386e666bmr96458355d.17.1725576444008; 
 Thu, 05 Sep 2024 15:47:24 -0700 (PDT)
Received: from postal.iol.unh.edu (postal.iol.unh.edu.
 [2606:4100:3880:1234::84]) by smtp-relay.gmail.com with ESMTPS id
 41be03b00d2f7-7d50deef6dfsm86115a12.14.2024.09.05.15.47.23
 (version=TLS1_2 cipher=ECDHE-ECDSA-AES128-GCM-SHA256 bits=128/128);
 Thu, 05 Sep 2024 15:47:23 -0700 (PDT)
X-Relaying-Domain: iol.unh.edu
Date: Thu, 05 Sep 2024 15:47:23 -0700 (PDT)
Message-ID: <66da34fb.630a0220.31d02.6816SMTPIN_ADDED_MISSING@mx.google.com>
Received: from [172.17.0.2] (unknown [172.18.0.214])
 by postal.iol.unh.edu (Postfix) with ESMTP id 3E7EB605C351;
 Thu,  5 Sep 2024 18:47:23 -0400 (EDT)
Subject: |SUCCESS| pw143647-143643 [PATCH] [v4,7/7] doc: testpmd support even
From: dpdklab@iol.unh.edu
To: Test Report <test-report@dpdk.org>
Cc: dpdk-test-reports@iol.unh.edu
In-Reply-To: <20240905092504.10725-8-fengchengwen@huawei.com>
References: <20240905092504.10725-8-fengchengwen@huawei.com>
Content-Type: text/plain
X-BeenThere: test-report@dpdk.org
X-Mailman-Version: 2.1.29
Precedence: list
List-Id: automatic DPDK test reports <test-report.dpdk.org>
List-Unsubscribe: <https://mails.dpdk.org/options/test-report>,
 <mailto:test-report-request@dpdk.org?subject=unsubscribe>
List-Archive: <http://mails.dpdk.org/archives/test-report/>
List-Post: <mailto:test-report@dpdk.org>
List-Help: <mailto:test-report-request@dpdk.org?subject=help>
List-Subscribe: <https://mails.dpdk.org/listinfo/test-report>,
 <mailto:test-report-request@dpdk.org?subject=subscribe>
Errors-To: test-report-bounces@dpdk.org

Test-Label: iol-unit-arm64-testing
Test-Status: SUCCESS
http://dpdk.org/patch/143643

_Testing PASS_

Submitter: Chengwen Feng <fengchengwen@huawei.com>
Date: Thursday, September 05 2024 09:25:04 
DPDK git baseline: Repo:dpdk
  Branch: master
  CommitID:523fd7b3adfdf5a87651e8ca33bc69223b3211d5

143647-143643 --> testing pass

Upstream job id: Generic-Unit-Test-DPDK#258477

Test environment and result as below:

+-----------------------------+----------------+--------------+------------------------------+---------------------------+
|         Environment         | dpdk_unit_test | lpm_autotest | cryptodev_sw_snow3g_autotest | cryptodev_sw_zuc_autotest |
+=============================+================+==============+==============================+===========================+
| 32-bit Ubuntu 20.04.4 (ARM) | PASS           | SKIPPED      | SKIPPED                      | SKIPPED                   |
+-----------------------------+----------------+--------------+------------------------------+---------------------------+
| Debian 11 (Buster) (ARM)    | PASS           | SKIPPED      | SKIPPED                      | SKIPPED                   |
+-----------------------------+----------------+--------------+------------------------------+---------------------------+
| CentOS Stream 9 (ARM)       | PASS           | SKIPPED      | SKIPPED                      | SKIPPED                   |
+-----------------------------+----------------+--------------+------------------------------+---------------------------+
| Debian 12 (arm)             | PASS           | SKIPPED      | PASS                         | PASS                      |
+-----------------------------+----------------+--------------+------------------------------+---------------------------+
| Fedora 37 (ARM)             | PASS           | SKIPPED      | SKIPPED                      | SKIPPED                   |
+-----------------------------+----------------+--------------+------------------------------+---------------------------+
| Fedora 38 (ARM)             | PASS           | SKIPPED      | SKIPPED                      | SKIPPED                   |
+-----------------------------+----------------+--------------+------------------------------+---------------------------+
| Fedora 38 (ARM Clang)       | PASS           | SKIPPED      | SKIPPED                      | SKIPPED                   |
+-----------------------------+----------------+--------------+------------------------------+---------------------------+
| Fedora 39 (ARM)             | PASS           | SKIPPED      | SKIPPED                      | SKIPPED                   |
+-----------------------------+----------------+--------------+------------------------------+---------------------------+
| Fedora 40 (ARM)             | PASS           | SKIPPED      | SKIPPED                      | SKIPPED                   |
+-----------------------------+----------------+--------------+------------------------------+---------------------------+
| Fedora 39 (ARM Clang)       | PASS           | SKIPPED      | SKIPPED                      | SKIPPED                   |
+-----------------------------+----------------+--------------+------------------------------+---------------------------+
| Fedora 40 (ARM Clang)       | PASS           | SKIPPED      | SKIPPED                      | SKIPPED                   |
+-----------------------------+----------------+--------------+------------------------------+---------------------------+
| RHEL9 (ARM)                 | PASS           | SKIPPED      | SKIPPED                      | SKIPPED                   |
+-----------------------------+----------------+--------------+------------------------------+---------------------------+
| Ubuntu 20.04 (ARM)          | PASS           | SKIPPED      | SKIPPED                      | SKIPPED                   |
+-----------------------------+----------------+--------------+------------------------------+---------------------------+
| Ubuntu 22.04 (ARM)          | PASS           | SKIPPED      | SKIPPED                      | SKIPPED                   |
+-----------------------------+----------------+--------------+------------------------------+---------------------------+
| Ubuntu 24.04 (ARM)          | PASS           | SKIPPED      | SKIPPED                      | SKIPPED                   |
+-----------------------------+----------------+--------------+------------------------------+---------------------------+
| Ubuntu 20.04 ARM SVE        | SKIPPED        | PASS         | SKIPPED                      | SKIPPED                   |
+-----------------------------+----------------+--------------+------------------------------+---------------------------+


32-bit Ubuntu 20.04.4 (ARM)
	Kernel: 5.4.0-155-generic aarch64
	Compiler: gcc 9.4

Debian 11 (Buster) (ARM)
	Kernel: Depends on container host
	Compiler: gcc (Debian 10.2.1-6) 10.2.1 20210110

CentOS Stream 9 (ARM)
	Kernel: Depends on container host
	Compiler: gcc 11.4.1 20231218 (Red Hat 11.4.1-3)

Debian 12 (arm)
	Kernel: Depends on container host
	Compiler: gcc (Debian 12.2.0-14) 12.2.0

Fedora 37 (ARM)
	Kernel: Depends on container host
	Compiler: gcc 12.3.1 20230508 (Red Hat 12.3.1-1)

Fedora 38 (ARM)
	Kernel: Depends on container host
	Compiler: gcc 13.2.1 20240316 (Red Hat 13.2.1-7)

Fedora 38 (ARM Clang)
	Kernel: Depends on container host
	Compiler: clang 16.0.6 (Fedora 16.0.6-4.fc38)

Fedora 39 (ARM)
	Kernel: Depends on container host
	Compiler: gcc 13.3.1 20240522 (Red Hat 13.3.1-1)

Fedora 40 (ARM)
	Kernel: Depends on container host
	Compiler: gcc 14.2.1 20240801 (Red Hat 14.2.1-1)

Fedora 39 (ARM Clang)
	Kernel: Depends on container host
	Compiler: clang 17.0.6 (Fedora 17.0.6-2.fc39)

Fedora 40 (ARM Clang)
	Kernel: Depends on container host
	Compiler: clang 18.1.6 (Fedora 18.1.6-3.fc40)

RHEL9 (ARM)
	Kernel: Depends on container host
	Compiler: gcc 11.4.1 20231218 (Red Hat 11.4.1-3)

Ubuntu 20.04 (ARM)
	Kernel: Depends on container host
	Compiler: gcc (Ubuntu 9.4.0-1ubuntu1~20.04.2) 9.4.0

Ubuntu 22.04 (ARM)
	Kernel: Depends on container host
	Compiler: gcc (Ubuntu 11.4.0-1ubuntu1~22.04) 11.4.0

Ubuntu 24.04 (ARM)
	Kernel: Depends on container host
	Compiler: gcc (Ubuntu 13.2.0-23ubuntu4) 13.2.0

Ubuntu 20.04 ARM SVE
	Kernel: Depends on container host
	Compiler: gcc (Ubuntu 10.5.0-1ubuntu1~20.04) 10.5.0

To view detailed results, visit:
https://lab.dpdk.org/results/dashboard/patchsets/30916/

UNH-IOL DPDK Community Lab

To manage your email subscriptions, visit: 
https://lab.dpdk.org/results/dashboard/preferences/subscriptions/