From mboxrd@z Thu Jan  1 00:00:00 1970
Return-Path: <test-report-bounces@dpdk.org>
Received: from mails.dpdk.org (mails.dpdk.org [217.70.189.124])
	by inbox.dpdk.org (Postfix) with ESMTP id E254E45914
	for <public@inbox.dpdk.org>; Fri,  6 Sep 2024 00:51:36 +0200 (CEST)
Received: from mails.dpdk.org (localhost [127.0.0.1])
	by mails.dpdk.org (Postfix) with ESMTP id D761E42E50;
	Fri,  6 Sep 2024 00:51:36 +0200 (CEST)
Received: from mail-yw1-f225.google.com (mail-yw1-f225.google.com
 [209.85.128.225])
 by mails.dpdk.org (Postfix) with ESMTP id 4A9764025C
 for <test-report@dpdk.org>; Fri,  6 Sep 2024 00:51:33 +0200 (CEST)
Received: by mail-yw1-f225.google.com with SMTP id
 00721157ae682-690aabe2600so12627767b3.0
 for <test-report@dpdk.org>; Thu, 05 Sep 2024 15:51:33 -0700 (PDT)
DKIM-Signature: v=1; a=rsa-sha256; c=relaxed/relaxed;
 d=iol.unh.edu; s=unh-iol; t=1725576692; x=1726181492; darn=dpdk.org;
 h=references:in-reply-to:cc:to:from:subject:message-id:date:from:to
 :cc:subject:date:message-id:reply-to;
 bh=YvtrJ4JzZRJwkOyOlPnGuMYrueTKs2UNYOqVJfNHiZo=;
 b=MzgZ23KAd7DVLWxNZieiuI4wA5dU6kKVsNq192oDhuJSw5kNfwF+PaLFLNkZtLDwXl
 H7uxuXSX5OU+B0c0675+SowQmvoYWxlMQ6pCdxf/oUQpvVWqgFFZ15UKrAtor24O5QB5
 Gj9UxdVOanCfsuFVwbwdqKt3gXsx42YFYQ7v4=
X-Google-DKIM-Signature: v=1; a=rsa-sha256; c=relaxed/relaxed;
 d=1e100.net; s=20230601; t=1725576692; x=1726181492;
 h=references:in-reply-to:cc:to:from:subject:message-id:date
 :x-gm-message-state:from:to:cc:subject:date:message-id:reply-to;
 bh=YvtrJ4JzZRJwkOyOlPnGuMYrueTKs2UNYOqVJfNHiZo=;
 b=HANOYBNo/CcxIK/a5NWnpFuHBDf6MYVfZVKfK4E/ziGyZRAlcJI5m0QoTKZDLJnRp6
 zUtOt6TfuOPmbwyoo/wbR7ca2oAObtDNcaAguvHa+eXiZtSkr0QYeCDq6x0+R2sO9dKq
 vacLSc0KH3oAZprlX4m3Vse83/ljhapnQlgJu2mpH+/g4jyHWhhEGbTbl8fy/20hUMUG
 LLaBBZuT+MX5EvqL7AAbLhY2MOswzOzdnzdPjT3BngnnMTyR+XQBhBMDH9rhmTMaLFoN
 uHLVeibdmj74c7FshhJ+86lD1dlwRDqYp4gPKEwtTfE8LjLKgKgks59X5T5XopfYnJtY
 SiNA==
X-Gm-Message-State: AOJu0Yyvtw4ixwjbkYw988qoNyowfMX1x06++PYbseTU92sTFtp6ROpH
 CKn0lJiuIwNNfIHHchkA8nLm3l73RDhp1BLDZDauz1mNTDZaSq7TBppb3D2J82tM0xJH0f4hE6I
 wqPaBNBSdqn1JzGRWOxqY2Gd+MKKKqgknD6SIIfxL
X-Google-Smtp-Source: AGHT+IEHh2Pt5jDE81G59wrBBvxZQDun2OsGVf5wyYQVZfJome2TuSqlQ/9PCZ6VxI+c0zJC2UWc6idHHQ0f
X-Received: by 2002:a05:690c:4584:b0:62f:9e2d:3e5d with SMTP id
 00721157ae682-6db4527391dmr6404807b3.43.1725576692571; 
 Thu, 05 Sep 2024 15:51:32 -0700 (PDT)
Received: from postal.iol.unh.edu (postal.iol.unh.edu. [132.177.123.84])
 by smtp-relay.gmail.com with ESMTPS id
 00721157ae682-6d2d3e991b0sm7169757b3.30.2024.09.05.15.51.32
 (version=TLS1_2 cipher=ECDHE-ECDSA-AES128-GCM-SHA256 bits=128/128);
 Thu, 05 Sep 2024 15:51:32 -0700 (PDT)
X-Relaying-Domain: iol.unh.edu
Date: Thu, 05 Sep 2024 15:51:32 -0700 (PDT)
Message-ID: <66da35f4.810a0220.1041dc.c6e2SMTPIN_ADDED_MISSING@mx.google.com>
Received: from [172.17.0.2] (unknown [172.18.0.214])
 by postal.iol.unh.edu (Postfix) with ESMTP id 3C8AB605C351;
 Thu,  5 Sep 2024 18:51:32 -0400 (EDT)
Subject: |SUCCESS| pw143668-143673 [PATCH] [6/6] app/test: add asymmetric tes
From: dpdklab@iol.unh.edu
To: Test Report <test-report@dpdk.org>
Cc: dpdk-test-reports@iol.unh.edu
In-Reply-To: <20240905145612.1732-7-gmuthukrishn@marvell.com>
References: <20240905145612.1732-7-gmuthukrishn@marvell.com>
Content-Type: text/plain
X-BeenThere: test-report@dpdk.org
X-Mailman-Version: 2.1.29
Precedence: list
List-Id: automatic DPDK test reports <test-report.dpdk.org>
List-Unsubscribe: <https://mails.dpdk.org/options/test-report>,
 <mailto:test-report-request@dpdk.org?subject=unsubscribe>
List-Archive: <http://mails.dpdk.org/archives/test-report/>
List-Post: <mailto:test-report@dpdk.org>
List-Help: <mailto:test-report-request@dpdk.org?subject=help>
List-Subscribe: <https://mails.dpdk.org/listinfo/test-report>,
 <mailto:test-report-request@dpdk.org?subject=subscribe>
Errors-To: test-report-bounces@dpdk.org

Test-Label: iol-compile-amd64-testing
Test-Status: SUCCESS
http://dpdk.org/patch/143673

_Testing PASS_

Submitter: Gowrishankar Muthukrishnan <gmuthukrishn@marvell.com>
Date: Thursday, September 05 2024 14:56:10 
DPDK git baseline: Repo:dpdk
  Branch: master
  CommitID:41dd9a6bc2d9c6e20e139ad713cc9d172572dd43

143668-143673 --> testing pass

Upstream job id: Generic-VM-DPDK-Compile-Meson#29175

Test environment and result as below:

+---------------------+--------------------+-------------------+
|     Environment     | dpdk_meson_compile | dpdk_msvc_compile |
+=====================+====================+===================+
| FreeBSD 14.1        | PASS               | SKIPPED           |
+---------------------+--------------------+-------------------+
| FreeBSD 13.3        | PASS               | SKIPPED           |
+---------------------+--------------------+-------------------+
| Windows Server 2022 | SKIPPED            | PASS              |
+---------------------+--------------------+-------------------+


FreeBSD 14.1
	Kernel: 14.1-RELEASE-p3
	Compiler: clang 18.1.5

FreeBSD 13.3
	Kernel: 13.3-RELEASE-p5
	Compiler: clang 17.0.6

Windows Server 2022
	Kernel: 10.0.20348.2031
	Compiler: clang 15.0.7, gcc 14.1.0 (MinGW), and MSVC VS 19.39.33521

To view detailed results, visit:
https://lab.dpdk.org/results/dashboard/patchsets/30925/

UNH-IOL DPDK Community Lab

To manage your email subscriptions, visit: 
https://lab.dpdk.org/results/dashboard/preferences/subscriptions/