From mboxrd@z Thu Jan  1 00:00:00 1970
Return-Path: <test-report-bounces@dpdk.org>
Received: from mails.dpdk.org (mails.dpdk.org [217.70.189.124])
	by inbox.dpdk.org (Postfix) with ESMTP id A9BE04557F
	for <public@inbox.dpdk.org>; Fri,  6 Sep 2024 15:34:58 +0200 (CEST)
Received: from mails.dpdk.org (localhost [127.0.0.1])
	by mails.dpdk.org (Postfix) with ESMTP id A52CD42E75;
	Fri,  6 Sep 2024 15:34:58 +0200 (CEST)
Received: from mail-yw1-f227.google.com (mail-yw1-f227.google.com
 [209.85.128.227])
 by mails.dpdk.org (Postfix) with ESMTP id 83E2D4025D
 for <test-report@dpdk.org>; Fri,  6 Sep 2024 15:34:54 +0200 (CEST)
Received: by mail-yw1-f227.google.com with SMTP id
 00721157ae682-6c130ffa0adso18594707b3.3
 for <test-report@dpdk.org>; Fri, 06 Sep 2024 06:34:54 -0700 (PDT)
DKIM-Signature: v=1; a=rsa-sha256; c=relaxed/relaxed;
 d=iol.unh.edu; s=unh-iol; t=1725629694; x=1726234494; darn=dpdk.org;
 h=references:in-reply-to:cc:to:from:subject:message-id:date:from:to
 :cc:subject:date:message-id:reply-to;
 bh=vOg9BAWGtBfZx7f4TtBHR7WMg0uPSyJRsd08gCU9F7k=;
 b=FiEqmTJTy9SbB9d36Nk8WIHwvfHvrD/C7W6wk7vUNCb3H0dvURkcrUkW05nj1vwydT
 3GHBRyq3/6PotA70kqQIPgBFbtGLutJdlE4JHiTQsUoXS4o0wAP77aCxHflu5amv3kEE
 cnizKQGFqQq+syv3UHVKWpRN3aM9nOcJpQe48=
X-Google-DKIM-Signature: v=1; a=rsa-sha256; c=relaxed/relaxed;
 d=1e100.net; s=20230601; t=1725629694; x=1726234494;
 h=references:in-reply-to:cc:to:from:subject:message-id:date
 :x-gm-message-state:from:to:cc:subject:date:message-id:reply-to;
 bh=vOg9BAWGtBfZx7f4TtBHR7WMg0uPSyJRsd08gCU9F7k=;
 b=pq87sobSm/jBjp2rysX+0tpKMZb5Xx51Tq2k9GgtPOCCt0cd0Ep/cxo9XiACfeKGIz
 AzXDHjmtGK6JttLiL7H39NW8Djb4fWEDkVevTr7Xbwyb7VwcD6kNCy1Kktuii1z6KsLk
 5ff4Vbdlz/GuAKLYq0VLcy5MswVvNu/G0q8JbqfKNnDHjQA+Ty3SEc5EZoqW2Y3pnspx
 TmKN/XokxOk10ehZZQD41MMvAna4b6ruWYE4cKqhLB/SMV0tADgb5O6RO+c+klhBp2Ek
 G8aIuRhTrmPrXZmBdhEqb4LC361iBKuB/9h7WnHii3ba2Ag/xUUSJg7dBFQMpOr3f1XQ
 KZNQ==
X-Gm-Message-State: AOJu0YwppUjcd2Fmhz6c7WcZ6/hZGQYw1ow4MNyPOhnzUyIuQ3jWiHyn
 TFgeJYnlSWE6Jg8fI31RzLL1uaeljjAaJQrTxS2gI5RCKPhAhX4i1hzMXKthpXrx4mFkwUsJSjc
 cxjSgA8FlmOjHN2ZIvx24bhynA4XuSH2XEj3ZLy/hPFNmFWoxySgAivRA
X-Google-Smtp-Source: AGHT+IEkfmVcg/xcgpjlNnk+1VCCcYmjKwg2n+AMSgGtx2aDJDDSzASm249BR98DopwL1cO7M2j/jVMOmCDC
X-Received: by 2002:a05:690c:2fc7:b0:6db:2d71:940 with SMTP id
 00721157ae682-6db44f37125mr23673127b3.21.1725629693867; 
 Fri, 06 Sep 2024 06:34:53 -0700 (PDT)
Received: from postal.iol.unh.edu (postal.iol.unh.edu.
 [2606:4100:3880:1234::84]) by smtp-relay.gmail.com with ESMTPS id
 00721157ae682-6d2d37da4e0sm7382907b3.16.2024.09.06.06.34.53
 (version=TLS1_2 cipher=ECDHE-ECDSA-AES128-GCM-SHA256 bits=128/128);
 Fri, 06 Sep 2024 06:34:53 -0700 (PDT)
X-Relaying-Domain: iol.unh.edu
Date: Fri, 06 Sep 2024 06:34:53 -0700 (PDT)
Message-ID: <66db04fd.810a0220.63943.c892SMTPIN_ADDED_MISSING@mx.google.com>
Received: from [172.17.0.4] (unknown [172.18.0.213])
 by postal.iol.unh.edu (Postfix) with ESMTP id 828556050A6D;
 Fri,  6 Sep 2024 09:34:53 -0400 (EDT)
Subject: |SUCCESS| pw143603-143605 [PATCH] [3/3] examples/ptpclient: add freq
From: dpdklab@iol.unh.edu
To: Test Report <test-report@dpdk.org>
Cc: dpdk-test-reports@iol.unh.edu
In-Reply-To: <20240905013144.844499-4-mingjinx.ye@intel.com>
References: <20240905013144.844499-4-mingjinx.ye@intel.com>
Content-Type: text/plain
X-BeenThere: test-report@dpdk.org
X-Mailman-Version: 2.1.29
Precedence: list
List-Id: automatic DPDK test reports <test-report.dpdk.org>
List-Unsubscribe: <https://mails.dpdk.org/options/test-report>,
 <mailto:test-report-request@dpdk.org?subject=unsubscribe>
List-Archive: <http://mails.dpdk.org/archives/test-report/>
List-Post: <mailto:test-report@dpdk.org>
List-Help: <mailto:test-report-request@dpdk.org?subject=help>
List-Subscribe: <https://mails.dpdk.org/listinfo/test-report>,
 <mailto:test-report-request@dpdk.org?subject=subscribe>
Errors-To: test-report-bounces@dpdk.org

Test-Label: iol-sample-apps-testing
Test-Status: SUCCESS
http://dpdk.org/patch/143605

_Testing PASS_

Submitter: Mingjin Ye <mingjinx.ye@intel.com>
Date: Thursday, September 05 2024 01:31:44 
DPDK git baseline: Repo:dpdk
  Branch: master
  CommitID:5cce3d463a99dbb5e7797faaed6c68df6c2b549a

143603-143605 --> testing pass

Upstream job id: ACVP-FIPS-testing#6815

Test environment and result as below:

+--------------------+----------------------+----------------------+
|    Environment     | compressdev_zlib_pmd | dpdk_fips_validation |
+====================+======================+======================+
| Ubuntu 22.04 (ARM) | PASS                 | SKIPPED              |
+--------------------+----------------------+----------------------+
| Ubuntu 22.04       | PASS                 | SKIPPED              |
+--------------------+----------------------+----------------------+
| Ubuntu 20.04       | SKIPPED              | PASS                 |
+--------------------+----------------------+----------------------+


Ubuntu 22.04 (ARM)
	Kernel: 5.15.0-97-generic
	Compiler: gcc gcc (Ubuntu 11.4.0-1ubuntu1~22.04) 11.4.0

Ubuntu 22.04
	Kernel: 5.15.0-100-generic
	Compiler: gcc gcc (Ubuntu 11.4.0-1ubuntu1~22.04) 11.4.0

Ubuntu 20.04
	Kernel: Depends on container host
	Compiler: gcc (Ubuntu 9.4.0-1ubuntu1~20.04.2) 9.4.0

To view detailed results, visit:
https://lab.dpdk.org/results/dashboard/patchsets/30909/

UNH-IOL DPDK Community Lab

To manage your email subscriptions, visit: 
https://lab.dpdk.org/results/dashboard/preferences/subscriptions/