From mboxrd@z Thu Jan  1 00:00:00 1970
Return-Path: <test-report-bounces@dpdk.org>
Received: from mails.dpdk.org (mails.dpdk.org [217.70.189.124])
	by inbox.dpdk.org (Postfix) with ESMTP id 1B73B45920
	for <public@inbox.dpdk.org>; Fri,  6 Sep 2024 18:35:04 +0200 (CEST)
Received: from mails.dpdk.org (localhost [127.0.0.1])
	by mails.dpdk.org (Postfix) with ESMTP id 15BD442EB0;
	Fri,  6 Sep 2024 18:35:04 +0200 (CEST)
Received: from mail-il1-f225.google.com (mail-il1-f225.google.com
 [209.85.166.225])
 by mails.dpdk.org (Postfix) with ESMTP id B0C3242E82
 for <test-report@dpdk.org>; Fri,  6 Sep 2024 18:35:02 +0200 (CEST)
Received: by mail-il1-f225.google.com with SMTP id
 e9e14a558f8ab-39e6a1e0079so8595735ab.0
 for <test-report@dpdk.org>; Fri, 06 Sep 2024 09:35:02 -0700 (PDT)
DKIM-Signature: v=1; a=rsa-sha256; c=relaxed/relaxed;
 d=iol.unh.edu; s=unh-iol; t=1725640502; x=1726245302; darn=dpdk.org;
 h=references:in-reply-to:cc:to:from:subject:message-id:date:from:to
 :cc:subject:date:message-id:reply-to;
 bh=a+V/9z9fbpQBQUCBpRYkdc/Vi9Kt45W//WMsUfjIrHA=;
 b=ROlgax/wmHOJ+7gevsOb+ZP8YK6w4rSNfJ5by1hcLZWYUlJIlLOAJ+2TUYqDYG01Bz
 lGLPW6HppclMRNg2HIvL+Ig313sfQOIg32sGyExuQJW3s9bZJP8Zl83oasnROhz/51NU
 KG4Z/v5Q7ScVA9ADXw9fMw6mMT+OrbPkjNEfY=
X-Google-DKIM-Signature: v=1; a=rsa-sha256; c=relaxed/relaxed;
 d=1e100.net; s=20230601; t=1725640502; x=1726245302;
 h=references:in-reply-to:cc:to:from:subject:message-id:date
 :x-gm-message-state:from:to:cc:subject:date:message-id:reply-to;
 bh=a+V/9z9fbpQBQUCBpRYkdc/Vi9Kt45W//WMsUfjIrHA=;
 b=RNzETFTkznxXQYIJzyr/9O0LghVL/Qh0/85twiPUBtL+ZI/Ludc1YomQ8ktwSLRSP2
 vM4Kca7IUIKA2CyQBlGcVQD5HZ2K/LoHB7pZObyD4aJGc59CppLDN2vjRXfuKkx1ybXh
 6HZwfDTROTOojscY3/0MbDBtO0fJ4pf93ix+HP8fvRRDlrOiNX/ukmxHNId4W+jvyJdk
 EGQqjwA16HXpquYgWMO8lGtIJoHXF3DnhXSKwkaExSmmk1AUNxcp9ya8BRp6F1sdtTi3
 fkXOkm0NTT9rUmG98snk1OEM+MlSO0z4Fe2tg1o7ZqBSWNdevj7ICbJeu2lv8WOTtof0
 D5nw==
X-Gm-Message-State: AOJu0YzHRsfoXwpoiCnceHoQ4pXCoSgZjcUN6NWoiZEiNT0ZRGSycsfq
 8fcP/YTcWtUoVosn4k1PAqcqDGxkszTsvdADq4l8p5a17pjmbB/pphlKIQZMX4J0uyeCaloorEg
 UBxuzEDEGD0UjsAEeyCAyTKxVIVCHeADN+wLowLRwM+2MzZJF5yDYJoX5
X-Google-Smtp-Source: AGHT+IFqGec0Kg5nIulbf8OAk6yaZnpQSvqFtO3DxYUotB7n4qxYslq/VZaKOXyJ8C08TWup+oxc6gMD9U7H
X-Received: by 2002:a05:6e02:1385:b0:397:2918:6f52 with SMTP id
 e9e14a558f8ab-3a04f0f27b7mr38266985ab.25.1725640501896; 
 Fri, 06 Sep 2024 09:35:01 -0700 (PDT)
Received: from postal.iol.unh.edu (postal.iol.unh.edu.
 [2606:4100:3880:1234::84]) by smtp-relay.gmail.com with ESMTPS id
 8926c6da1cb9f-4ced2dcbf08sm560295173.14.2024.09.06.09.35.01
 (version=TLS1_2 cipher=ECDHE-ECDSA-AES128-GCM-SHA256 bits=128/128);
 Fri, 06 Sep 2024 09:35:01 -0700 (PDT)
X-Relaying-Domain: iol.unh.edu
Date: Fri, 06 Sep 2024 09:35:01 -0700 (PDT)
Message-ID: <66db2f35.050a0220.14caa4.e526SMTPIN_ADDED_MISSING@mx.google.com>
Received: from [172.17.0.4] (unknown [172.18.0.214])
 by postal.iol.unh.edu (Postfix) with ESMTP id 677C76050A6D;
 Fri,  6 Sep 2024 12:35:01 -0400 (EDT)
Subject: |SUCCESS| pw143688-143689 [PATCH] [3/3] net/mlx5/hws: print CQE erro
From: dpdklab@iol.unh.edu
To: Test Report <test-report@dpdk.org>
Cc: dpdk-test-reports@iol.unh.edu
In-Reply-To: <20240906102151.171965-4-gavinl@nvidia.com>
References: <20240906102151.171965-4-gavinl@nvidia.com>
Content-Type: text/plain
X-BeenThere: test-report@dpdk.org
X-Mailman-Version: 2.1.29
Precedence: list
List-Id: automatic DPDK test reports <test-report.dpdk.org>
List-Unsubscribe: <https://mails.dpdk.org/options/test-report>,
 <mailto:test-report-request@dpdk.org?subject=unsubscribe>
List-Archive: <http://mails.dpdk.org/archives/test-report/>
List-Post: <mailto:test-report@dpdk.org>
List-Help: <mailto:test-report-request@dpdk.org?subject=help>
List-Subscribe: <https://mails.dpdk.org/listinfo/test-report>,
 <mailto:test-report-request@dpdk.org?subject=subscribe>
Errors-To: test-report-bounces@dpdk.org

Test-Label: iol-compile-amd64-testing
Test-Status: SUCCESS
http://dpdk.org/patch/143689

_Testing PASS_

Submitter: Gavin Li <gavinl@nvidia.com>
Date: Friday, September 06 2024 10:21:51 
DPDK git baseline: Repo:dpdk
  Branch: master
  CommitID:1afebcc334d9a19f94b87062815067f77a195f76

143688-143689 --> testing pass

Upstream job id: Windows-Compile-DPDK-VS#3006

Test environment and result as below:

+---------------------+--------------------+----------------------+-----------------------+-------------------+
|     Environment     | dpdk_meson_compile | dpdk_mingw64_compile | dpdk_win_llvm_compile | dpdk_msvc_compile |
+=====================+====================+======================+=======================+===================+
| FreeBSD 13.3        | PASS               | SKIPPED              | SKIPPED               | SKIPPED           |
+---------------------+--------------------+----------------------+-----------------------+-------------------+
| FreeBSD 14.1        | PASS               | SKIPPED              | SKIPPED               | SKIPPED           |
+---------------------+--------------------+----------------------+-----------------------+-------------------+
| Windows Server 2022 | SKIPPED            | PASS                 | PASS                  | PASS              |
+---------------------+--------------------+----------------------+-----------------------+-------------------+


FreeBSD 13.3
	Kernel: 13.3-RELEASE-p5
	Compiler: clang 17.0.6

FreeBSD 14.1
	Kernel: 14.1-RELEASE-p3
	Compiler: clang 18.1.5

Windows Server 2022
	Kernel: 10.0.20348.2031
	Compiler: clang 15.0.7, gcc 14.1.0 (MinGW), and MSVC VS 19.39.33521

To view detailed results, visit:
https://lab.dpdk.org/results/dashboard/patchsets/30933/

UNH-IOL DPDK Community Lab

To manage your email subscriptions, visit: 
https://lab.dpdk.org/results/dashboard/preferences/subscriptions/