From mboxrd@z Thu Jan  1 00:00:00 1970
Return-Path: <test-report-bounces@dpdk.org>
Received: from mails.dpdk.org (mails.dpdk.org [217.70.189.124])
	by inbox.dpdk.org (Postfix) with ESMTP id 857C045921
	for <public@inbox.dpdk.org>; Sat,  7 Sep 2024 00:59:17 +0200 (CEST)
Received: from mails.dpdk.org (localhost [127.0.0.1])
	by mails.dpdk.org (Postfix) with ESMTP id 619EC4028F;
	Sat,  7 Sep 2024 00:59:17 +0200 (CEST)
Received: from mail-il1-f227.google.com (mail-il1-f227.google.com
 [209.85.166.227])
 by mails.dpdk.org (Postfix) with ESMTP id C1A6940280
 for <test-report@dpdk.org>; Sat,  7 Sep 2024 00:59:16 +0200 (CEST)
Received: by mail-il1-f227.google.com with SMTP id
 e9e14a558f8ab-39f540795afso9147465ab.0
 for <test-report@dpdk.org>; Fri, 06 Sep 2024 15:59:16 -0700 (PDT)
DKIM-Signature: v=1; a=rsa-sha256; c=relaxed/relaxed;
 d=iol.unh.edu; s=unh-iol; t=1725663556; x=1726268356; darn=dpdk.org;
 h=references:in-reply-to:cc:to:from:subject:message-id:date:from:to
 :cc:subject:date:message-id:reply-to;
 bh=PuIcvc3p6bnD/IVOnUMU9aw01HElIDfi0lyCy4nj268=;
 b=WikGJ/f07/E51asiPVnWYbrXyZCg+uU3AshoUZZ+PdU1b+hNavkNfP+WSD27m5E8l6
 a0QfB5I6RzxTgBhvOymQedxWTn+eZEKcZOgvLMO5neBIcIDPhM2A8iWxJPvuevHipGPv
 yBeeadEDp/WS7rVprXtPOQRNESDNqRPWQPAH4=
X-Google-DKIM-Signature: v=1; a=rsa-sha256; c=relaxed/relaxed;
 d=1e100.net; s=20230601; t=1725663556; x=1726268356;
 h=references:in-reply-to:cc:to:from:subject:message-id:date
 :x-gm-message-state:from:to:cc:subject:date:message-id:reply-to;
 bh=PuIcvc3p6bnD/IVOnUMU9aw01HElIDfi0lyCy4nj268=;
 b=PI4WiORGfFjPB+X4tg+csktz9Hz2K47mRmzElUezM6foQvkpGdC+vvsTbYWmoqYx+D
 W1OkcKAM3DgBgkCmB/4s0rChLBT8iFSDmqzXrKJCHSxgvTZMh8uZziiQHqGMw1+Ghs33
 Et+b8SmZji8zrZRl0JCB3ME1qpWWVHlrZGS1hm7+M3cbtzIJuFe3HkLmWGHZ3f+gFsh+
 IXp5FuzJZR4P8EBF/XJswIRCVIPwPfgZhFFL9JYkWsMnhVNf6WMUZSsxWpD/TKujbxRJ
 adHlxoznQeQr0WrPFE2cxJM3NZf9yRjdzsLXVwV8RVjwENh6BDJg5m09D+hEL6lQSUUJ
 A39g==
X-Gm-Message-State: AOJu0Yw5tLROzkdqFwog+U6UyhmNsM0mDVgG1kFNe7DcrmeecocFNmmL
 +lw7GlK2iOkHYi/GedGTMftjVD0SH+0qmwxuLDbLMFrf/0yf+kA67ex2SaDlomyE4oIbvsBZTdN
 OSp//ZTkcEZZlB9xHa5qBP2Gw+NQYKXCxg2KYRt7I
X-Google-Smtp-Source: AGHT+IFRhR6YVGHV7JcNp5okqdrMXHuThBJxpYU2jbxPvm7DaS9VnnCNPzrrzDZpmHWT+TUeF0GmK7ceExHy
X-Received: by 2002:a05:6e02:1fcb:b0:375:a5de:5d46 with SMTP id
 e9e14a558f8ab-3a04f0670bdmr54396765ab.5.1725663555954; 
 Fri, 06 Sep 2024 15:59:15 -0700 (PDT)
Received: from postal.iol.unh.edu (postal.iol.unh.edu. [132.177.123.84])
 by smtp-relay.gmail.com with ESMTPS id
 e9e14a558f8ab-3a058fdd868sm15865ab.35.2024.09.06.15.59.15
 (version=TLS1_2 cipher=ECDHE-ECDSA-AES128-GCM-SHA256 bits=128/128);
 Fri, 06 Sep 2024 15:59:15 -0700 (PDT)
X-Relaying-Domain: iol.unh.edu
Date: Fri, 06 Sep 2024 15:59:15 -0700 (PDT)
Message-ID: <66db8943.920a0220.2db8c.01faSMTPIN_ADDED_MISSING@mx.google.com>
Received: from [172.21.0.4] (unknown [172.18.0.240])
 by postal.iol.unh.edu (Postfix) with ESMTP id 6D148605C351;
 Fri,  6 Sep 2024 18:59:15 -0400 (EDT)
Subject: |SUCCESS| pw143690-143694 [PATCH] [RFC,v1,5/5] lcore: store physical
From: dpdklab@iol.unh.edu
To: Test Report <test-report@dpdk.org>
Cc: dpdk-test-reports@iol.unh.edu
In-Reply-To: <f68d303116b86fd1df004c43941c72444a697c9d.1725622420.git.anatoly.burakov@intel.com>
References: <f68d303116b86fd1df004c43941c72444a697c9d.1725622420.git.anatoly.burakov@intel.com>
Content-Type: text/plain
X-BeenThere: test-report@dpdk.org
X-Mailman-Version: 2.1.29
Precedence: list
List-Id: automatic DPDK test reports <test-report.dpdk.org>
List-Unsubscribe: <https://mails.dpdk.org/options/test-report>,
 <mailto:test-report-request@dpdk.org?subject=unsubscribe>
List-Archive: <http://mails.dpdk.org/archives/test-report/>
List-Post: <mailto:test-report@dpdk.org>
List-Help: <mailto:test-report-request@dpdk.org?subject=help>
List-Subscribe: <https://mails.dpdk.org/listinfo/test-report>,
 <mailto:test-report-request@dpdk.org?subject=subscribe>
Errors-To: test-report-bounces@dpdk.org

Test-Label: iol-unit-amd64-testing
Test-Status: SUCCESS
http://dpdk.org/patch/143694

_Testing PASS_

Submitter: Burakov, Anatoly <anatoly.burakov@intel.com>
Date: Friday, September 06 2024 11:47:31 
DPDK git baseline: Repo:dpdk
  Branch: master
  CommitID:41dd9a6bc2d9c6e20e139ad713cc9d172572dd43

143690-143694 --> testing pass

Upstream job id: Generic-Unit-Test-DPDK#259362

Test environment and result as below:

+---------------------+----------------+
|     Environment     | dpdk_unit_test |
+=====================+================+
| CentOS Stream 9     | PASS           |
+---------------------+----------------+
| Debian 12           | PASS           |
+---------------------+----------------+
| Debian Bullseye     | PASS           |
+---------------------+----------------+
| Fedora 37           | PASS           |
+---------------------+----------------+
| Fedora 38 (Clang)   | PASS           |
+---------------------+----------------+
| Fedora 38           | PASS           |
+---------------------+----------------+
| Fedora 39 (Clang)   | PASS           |
+---------------------+----------------+
| Fedora 39           | PASS           |
+---------------------+----------------+
| Fedora 40           | PASS           |
+---------------------+----------------+
| RHEL8               | PASS           |
+---------------------+----------------+
| Fedora 40 (Clang)   | PASS           |
+---------------------+----------------+
| RHEL9               | PASS           |
+---------------------+----------------+
| Ubuntu 20.04        | PASS           |
+---------------------+----------------+
| Ubuntu 22.04        | PASS           |
+---------------------+----------------+
| Ubuntu 24.04        | PASS           |
+---------------------+----------------+
| Windows Server 2022 | PASS           |
+---------------------+----------------+


CentOS Stream 9
	Kernel: Depends on container host
	Compiler: gcc 11.4.1 20231218 (Red Hat 11.4.1-3)

Debian 12
	Kernel: Depends on container host
	Compiler: gcc (Debian 12.2.0-14) 12.2.0

Debian Bullseye
	Kernel: Depends on container host
	Compiler: gcc (Debian 10.2.1-6) 10.2.1 20210110

Fedora 37
	Kernel: Depends on container host system
	Compiler: gcc 12.3.1 20230508 (Red Hat 12.3.1-1)

Fedora 38 (Clang)
	Kernel: Depends on container host
	Compiler: clang 16.0.6 (Fedora 16.0.6-4.fc38)

Fedora 38
	Kernel: Depends on container host
	Compiler: gcc 13.2.1 20240316 (Red Hat 13.2.1-7)

Fedora 39 (Clang)
	Kernel: Depends on container host
	Compiler: clang 17.0.6 (Fedora 17.0.6-2.fc39)

Fedora 39
	Kernel: Depends on container host
	Compiler: gcc 13.3.1 20240522 (Red Hat 13.3.1-1)

Fedora 40
	Kernel: Depends on container host
	Compiler: gcc 14.2.1 20240801 (Red Hat 14.2.1-1)

RHEL8
	Kernel: Depends on container host
	Compiler: gcc 8.5.0 20210514 (Red Hat 8.5.0-22)

Fedora 40 (Clang)
	Kernel: Depends on container host
	Compiler: clang 18.1.6 (Fedora 18.1.6-3.fc40)

RHEL9
	Kernel: Depends on container host
	Compiler: gcc 11.4.1 20231218 (Red Hat 11.4.1-3)

Ubuntu 20.04
	Kernel: Depends on container host
	Compiler: gcc (Ubuntu 9.4.0-1ubuntu1~20.04.2) 9.4.0

Ubuntu 22.04
	Kernel: Depends on container host
	Compiler: gcc (Ubuntu 11.4.0-1ubuntu1~22.04) 11.4.0

Ubuntu 24.04
	Kernel: Depends on container host
	Compiler: gcc (Ubuntu 13.2.0-23ubuntu4) 13.2.0

Windows Server 2022
	Kernel: 10.0.20348.2031
	Compiler: clang 15.0.7, gcc 14.1.0 (MinGW), and MSVC VS 19.39.33521

To view detailed results, visit:
https://lab.dpdk.org/results/dashboard/patchsets/30934/

UNH-IOL DPDK Community Lab

To manage your email subscriptions, visit: 
https://lab.dpdk.org/results/dashboard/preferences/subscriptions/