From mboxrd@z Thu Jan  1 00:00:00 1970
Return-Path: <test-report-bounces@dpdk.org>
Received: from mails.dpdk.org (mails.dpdk.org [217.70.189.124])
	by inbox.dpdk.org (Postfix) with ESMTP id 758DB45923
	for <public@inbox.dpdk.org>; Sat,  7 Sep 2024 02:07:51 +0200 (CEST)
Received: from mails.dpdk.org (localhost [127.0.0.1])
	by mails.dpdk.org (Postfix) with ESMTP id 70AC74028F;
	Sat,  7 Sep 2024 02:07:51 +0200 (CEST)
Received: from mail-yb1-f227.google.com (mail-yb1-f227.google.com
 [209.85.219.227])
 by mails.dpdk.org (Postfix) with ESMTP id 2615F40280
 for <test-report@dpdk.org>; Sat,  7 Sep 2024 02:07:50 +0200 (CEST)
Received: by mail-yb1-f227.google.com with SMTP id
 3f1490d57ef6-e1a9dc3f0a3so2940919276.0
 for <test-report@dpdk.org>; Fri, 06 Sep 2024 17:07:50 -0700 (PDT)
DKIM-Signature: v=1; a=rsa-sha256; c=relaxed/relaxed;
 d=iol.unh.edu; s=unh-iol; t=1725667669; x=1726272469; darn=dpdk.org;
 h=references:in-reply-to:cc:to:from:subject:message-id:date:from:to
 :cc:subject:date:message-id:reply-to;
 bh=fyrY63wBiSLXJE0rE4pniuHnajiczuDr9/U/IHYi7tA=;
 b=We8r71aPO+FypseMNHraydsJRyaICk2qaOYTo/jZy4cq191mVPjZeYROsNVfUZL9Cq
 L7LRL69h6EXuxY2BeytnYzE0PPTVMqGAT1y3Z7wXs+edyo/FmU8gu/VgsB6U4BunlRGH
 zaxtpQIrD4Gwzjeg/ekA4RGdNZs6Nl89P2rfE=
X-Google-DKIM-Signature: v=1; a=rsa-sha256; c=relaxed/relaxed;
 d=1e100.net; s=20230601; t=1725667669; x=1726272469;
 h=references:in-reply-to:cc:to:from:subject:message-id:date
 :x-gm-message-state:from:to:cc:subject:date:message-id:reply-to;
 bh=fyrY63wBiSLXJE0rE4pniuHnajiczuDr9/U/IHYi7tA=;
 b=mHUo76oF+zSLOh4mQTm11aBs+ppFj2yKNjH0VYOONGgMakO4C+DhEhMrYuw+HAtVWg
 2Lf+777ph8fAGhytVgpfc1akrbsxeIDmjoI03y8VEK5wrnx6osxiB1MFmINihlNT/I8N
 IwcCTybwLw8DLn6vMPJDCbc1xZKqmwZJBjNK/S2tndQJKia1EoteSnF9XGh5AgeSn8Fm
 kX5YqpRdYxZW5J6nPrZSFFPyD4H4aicDzwHBjrPKIinK5NZHCNKOXqlABz2xQhtHUFjA
 xTItrNL+g4GWXPeSZ8iPqC8KFbRWnuFyPoXEbuP9UaRu/eHVaVrdY75aaF4qFztRPL63
 rj4w==
X-Gm-Message-State: AOJu0YyB6Cq0J6WamQXgAg5PdKM+SYF8yfY+EbPG+IFgV2hMz/9UfhZc
 MEI77PfpD105RhPOIYi68eevTVXmniN//ih2mzrSmuOAcIr8Yq6m5LBzwVW6fb0/sDVLwqF6tiY
 Y1zP0er4F6mLDs8YhVZlgTUl9nDn/Ir87AWLtTfqcOaCAyCY0+unbSMyO
X-Google-Smtp-Source: AGHT+IFWTv7Ui8XunxlYcu3iU3Wjbgc1ZvFeUO2YgNwppgajiZ0bjC/+NHpmTt9Ys0YIi6goy8DkMLCk5QIS
X-Received: by 2002:a05:690c:6612:b0:6db:3b2f:a188 with SMTP id
 00721157ae682-6db4516fb00mr55762047b3.32.1725667669451; 
 Fri, 06 Sep 2024 17:07:49 -0700 (PDT)
Received: from postal.iol.unh.edu (postal.iol.unh.edu.
 [2606:4100:3880:1234::84]) by smtp-relay.gmail.com with ESMTPS id
 00721157ae682-6db5c6aed5csm119857b3.54.2024.09.06.17.07.49
 (version=TLS1_2 cipher=ECDHE-ECDSA-AES128-GCM-SHA256 bits=128/128);
 Fri, 06 Sep 2024 17:07:49 -0700 (PDT)
X-Relaying-Domain: iol.unh.edu
Date: Fri, 06 Sep 2024 17:07:49 -0700 (PDT)
Message-ID: <66db9955.810a0220.39f1f.108aSMTPIN_ADDED_MISSING@mx.google.com>
Received: from [172.17.0.3] (unknown [172.18.0.217])
 by postal.iol.unh.edu (Postfix) with ESMTP id 1E5AF605C351;
 Fri,  6 Sep 2024 20:07:49 -0400 (EDT)
Subject: |SUCCESS| pw143760 [PATCH] fib: implement RCU rule reclamation
From: dpdklab@iol.unh.edu
To: Test Report <test-report@dpdk.org>
Cc: dpdk-test-reports@iol.unh.edu
In-Reply-To: <20240906170907.1325808-1-vladimir.medvedkin@intel.com>
References: <20240906170907.1325808-1-vladimir.medvedkin@intel.com>
Content-Type: text/plain
X-BeenThere: test-report@dpdk.org
X-Mailman-Version: 2.1.29
Precedence: list
List-Id: automatic DPDK test reports <test-report.dpdk.org>
List-Unsubscribe: <https://mails.dpdk.org/options/test-report>,
 <mailto:test-report-request@dpdk.org?subject=unsubscribe>
List-Archive: <http://mails.dpdk.org/archives/test-report/>
List-Post: <mailto:test-report@dpdk.org>
List-Help: <mailto:test-report-request@dpdk.org?subject=help>
List-Subscribe: <https://mails.dpdk.org/listinfo/test-report>,
 <mailto:test-report-request@dpdk.org?subject=subscribe>
Errors-To: test-report-bounces@dpdk.org

Test-Label: iol-compile-amd64-testing
Test-Status: SUCCESS
http://dpdk.org/patch/143760

_Testing PASS_

Submitter: Vladimir Medvedkin <vladimir.medvedkin@intel.com>
Date: Friday, September 06 2024 17:09:07 
DPDK git baseline: Repo:dpdk
  Branch: master
  CommitID:41dd9a6bc2d9c6e20e139ad713cc9d172572dd43

143760 --> testing pass

Upstream job id: Windows-Compile-DPDK-VS#3020

Test environment and result as below:

+---------------------+----------------------+-----------------------+--------------------+-------------------+
|     Environment     | dpdk_mingw64_compile | dpdk_win_llvm_compile | dpdk_meson_compile | dpdk_msvc_compile |
+=====================+======================+=======================+====================+===================+
| Windows Server 2022 | PASS                 | PASS                  | SKIPPED            | PASS              |
+---------------------+----------------------+-----------------------+--------------------+-------------------+
| FreeBSD 13.3        | SKIPPED              | SKIPPED               | PASS               | SKIPPED           |
+---------------------+----------------------+-----------------------+--------------------+-------------------+
| FreeBSD 14.1        | SKIPPED              | SKIPPED               | PASS               | SKIPPED           |
+---------------------+----------------------+-----------------------+--------------------+-------------------+


Windows Server 2022
	Kernel: 10.0.20348.2031
	Compiler: clang 15.0.7, gcc 14.1.0 (MinGW), and MSVC VS 19.39.33521

FreeBSD 13.3
	Kernel: 13.3-RELEASE-p5
	Compiler: clang 17.0.6

FreeBSD 14.1
	Kernel: 14.1-RELEASE-p3
	Compiler: clang 18.1.5

To view detailed results, visit:
https://lab.dpdk.org/results/dashboard/patchsets/30951/

UNH-IOL DPDK Community Lab

To manage your email subscriptions, visit: 
https://lab.dpdk.org/results/dashboard/preferences/subscriptions/