From mboxrd@z Thu Jan  1 00:00:00 1970
Return-Path: <test-report-bounces@dpdk.org>
Received: from mails.dpdk.org (mails.dpdk.org [217.70.189.124])
	by inbox.dpdk.org (Postfix) with ESMTP id 9619745928
	for <public@inbox.dpdk.org>; Sat,  7 Sep 2024 06:42:26 +0200 (CEST)
Received: from mails.dpdk.org (localhost [127.0.0.1])
	by mails.dpdk.org (Postfix) with ESMTP id 9075F4029B;
	Sat,  7 Sep 2024 06:42:26 +0200 (CEST)
Received: from mail-io1-f98.google.com (mail-io1-f98.google.com
 [209.85.166.98]) by mails.dpdk.org (Postfix) with ESMTP id 7DA854028F
 for <test-report@dpdk.org>; Sat,  7 Sep 2024 06:42:25 +0200 (CEST)
Received: by mail-io1-f98.google.com with SMTP id
 ca18e2360f4ac-82a20593ec1so138199139f.2
 for <test-report@dpdk.org>; Fri, 06 Sep 2024 21:42:25 -0700 (PDT)
DKIM-Signature: v=1; a=rsa-sha256; c=relaxed/relaxed;
 d=iol.unh.edu; s=unh-iol; t=1725684145; x=1726288945; darn=dpdk.org;
 h=references:in-reply-to:cc:to:from:subject:message-id:date:from:to
 :cc:subject:date:message-id:reply-to;
 bh=wLWgDI0w++UpB+HZp2MsMnQ3KbH5nCYLGFHx3nlTWKQ=;
 b=inmj/51rmXivaQDFU4BiPETWuKaCn79u0vrBJ9KWLPJxQxvz8pGo/AyBA+ELLu/+bh
 WjQlzgqTkdjzWXC8oWZ71ColA23x9hVxNp8mNgfglGFH0MOT4NhEJYKJG8CoWs4MuTw5
 t2IluRWP55HkK9Hv0zFgBj9BKVpcaH/jQv/BY=
X-Google-DKIM-Signature: v=1; a=rsa-sha256; c=relaxed/relaxed;
 d=1e100.net; s=20230601; t=1725684145; x=1726288945;
 h=references:in-reply-to:cc:to:from:subject:message-id:date
 :x-gm-message-state:from:to:cc:subject:date:message-id:reply-to;
 bh=wLWgDI0w++UpB+HZp2MsMnQ3KbH5nCYLGFHx3nlTWKQ=;
 b=jNO4a79sCi2l1JaMwRtm0JyIc90dgVBqRXMP+dktz399gTyCRHki6fhc8X36e7UPUo
 PrMBB2YyeYjtGnlGwBGaTSbn9EmTNv2nSmlkgIPx5Ozw1tSx5IhOXzciLe80qBw+f1Hm
 KIkMlcEZeMaVBzB+k/rEfjKuXFObXnOJdYnm8THTcLPhJq9dcBYkcM3Xf6oOiZFUdMR4
 nBOX0kLpLvYDsgeMArrBvjU5qBU+EQVP5+2TNQbhAFGQbqJatDk+7RHDDNT0fhX+euti
 ZySUHOsoVRmXUxP7/y42XEekXQUGUWg1aa1HJ6kLhahChUCw2aOgXXyQiaJdV909hXEk
 JR9A==
X-Gm-Message-State: AOJu0YxBQ6JrQFU1Nim2vnHuFJxsJ0nRgj52BCD1VMFLoypgwdXDZDUu
 uLjDnwEsV31TbktRchJ52aV7APAHw48xDlmtWjFl84zRUYCPgEjYvBtie0J7XFbBDt40XkuBm69
 XJMhz0uViHWdn+DVsWGVVUsSZUt0krhTbO2o0oBoD
X-Google-Smtp-Source: AGHT+IGsQJWgMqgow9MowLtVekgry6Uge4ZLrEyppsuqiuPwvzJqLAI4DRI3twnK7/3TlBzJaoWZkyCGGQl0
X-Received: by 2002:a92:c24d:0:b0:39f:93a7:e788 with SMTP id
 e9e14a558f8ab-3a052238550mr44406025ab.2.1725684144778; 
 Fri, 06 Sep 2024 21:42:24 -0700 (PDT)
Received: from postal.iol.unh.edu (postal.iol.unh.edu. [132.177.123.84])
 by smtp-relay.gmail.com with ESMTPS id
 8926c6da1cb9f-4d0945d33b1sm25509173.37.2024.09.06.21.42.24
 (version=TLS1_2 cipher=ECDHE-ECDSA-AES128-GCM-SHA256 bits=128/128);
 Fri, 06 Sep 2024 21:42:24 -0700 (PDT)
X-Relaying-Domain: iol.unh.edu
Date: Fri, 06 Sep 2024 21:42:24 -0700 (PDT)
Message-ID: <66dbd9b0.050a0220.9e921.2591SMTPIN_ADDED_MISSING@mx.google.com>
Received: from [172.21.0.3] (unknown [172.18.0.240])
 by postal.iol.unh.edu (Postfix) with ESMTP id 4D150605C351;
 Sat,  7 Sep 2024 00:42:24 -0400 (EDT)
Subject: |SUCCESS| pw143688-143689 [PATCH] [3/3] net/mlx5/hws: print CQE erro
From: dpdklab@iol.unh.edu
To: Test Report <test-report@dpdk.org>
Cc: dpdk-test-reports@iol.unh.edu
In-Reply-To: <20240906102151.171965-4-gavinl@nvidia.com>
References: <20240906102151.171965-4-gavinl@nvidia.com>
Content-Type: text/plain
X-BeenThere: test-report@dpdk.org
X-Mailman-Version: 2.1.29
Precedence: list
List-Id: automatic DPDK test reports <test-report.dpdk.org>
List-Unsubscribe: <https://mails.dpdk.org/options/test-report>,
 <mailto:test-report-request@dpdk.org?subject=unsubscribe>
List-Archive: <http://mails.dpdk.org/archives/test-report/>
List-Post: <mailto:test-report@dpdk.org>
List-Help: <mailto:test-report-request@dpdk.org?subject=help>
List-Subscribe: <https://mails.dpdk.org/listinfo/test-report>,
 <mailto:test-report-request@dpdk.org?subject=subscribe>
Errors-To: test-report-bounces@dpdk.org

Test-Label: iol-compile-amd64-testing
Test-Status: SUCCESS
http://dpdk.org/patch/143689

_Testing PASS_

Submitter: Gavin Li <gavinl@nvidia.com>
Date: Friday, September 06 2024 10:21:51 
DPDK git baseline: Repo:dpdk
  Branch: master
  CommitID:1afebcc334d9a19f94b87062815067f77a195f76

143688-143689 --> testing pass

Upstream job id: Generic-DPDK-Compile-Meson#296885

Test environment and result as below:

+---------------------+--------------------+----------------------+-----------------------+-------------------+------------------+-------------------+
|     Environment     | dpdk_meson_compile | dpdk_mingw64_compile | dpdk_win_llvm_compile | dpdk_msvc_compile | dpdk_compile_ovs | dpdk_compile_spdk |
+=====================+====================+======================+=======================+===================+==================+===================+
| FreeBSD 13.3        | PASS               | SKIPPED              | SKIPPED               | SKIPPED           | SKIPPED          | SKIPPED           |
+---------------------+--------------------+----------------------+-----------------------+-------------------+------------------+-------------------+
| FreeBSD 14.1        | PASS               | SKIPPED              | SKIPPED               | SKIPPED           | SKIPPED          | SKIPPED           |
+---------------------+--------------------+----------------------+-----------------------+-------------------+------------------+-------------------+
| CentOS Stream 9     | PASS               | SKIPPED              | SKIPPED               | SKIPPED           | PASS             | PASS              |
+---------------------+--------------------+----------------------+-----------------------+-------------------+------------------+-------------------+
| Debian Bullseye     | PASS               | SKIPPED              | SKIPPED               | SKIPPED           | PASS             | PASS              |
+---------------------+--------------------+----------------------+-----------------------+-------------------+------------------+-------------------+
| Debian 12           | PASS               | SKIPPED              | SKIPPED               | SKIPPED           | PASS             | PASS              |
+---------------------+--------------------+----------------------+-----------------------+-------------------+------------------+-------------------+
| Fedora 37           | PASS               | SKIPPED              | SKIPPED               | SKIPPED           | PASS             | PASS              |
+---------------------+--------------------+----------------------+-----------------------+-------------------+------------------+-------------------+
| Fedora 38 (Clang)   | PASS               | SKIPPED              | SKIPPED               | SKIPPED           | PASS             | PASS              |
+---------------------+--------------------+----------------------+-----------------------+-------------------+------------------+-------------------+
| Fedora 38           | PASS               | SKIPPED              | SKIPPED               | SKIPPED           | PASS             | PASS              |
+---------------------+--------------------+----------------------+-----------------------+-------------------+------------------+-------------------+
| Fedora 39 (Clang)   | PASS               | SKIPPED              | SKIPPED               | SKIPPED           | PASS             | PASS              |
+---------------------+--------------------+----------------------+-----------------------+-------------------+------------------+-------------------+
| Fedora 39           | PASS               | SKIPPED              | SKIPPED               | SKIPPED           | PASS             | PASS              |
+---------------------+--------------------+----------------------+-----------------------+-------------------+------------------+-------------------+
| Fedora 40 (Clang)   | PASS               | SKIPPED              | SKIPPED               | SKIPPED           | PASS             | PASS              |
+---------------------+--------------------+----------------------+-----------------------+-------------------+------------------+-------------------+
| Fedora 40           | PASS               | SKIPPED              | SKIPPED               | SKIPPED           | PASS             | PASS              |
+---------------------+--------------------+----------------------+-----------------------+-------------------+------------------+-------------------+
| RHEL8               | PASS               | SKIPPED              | SKIPPED               | SKIPPED           | PASS             | SKIPPED           |
+---------------------+--------------------+----------------------+-----------------------+-------------------+------------------+-------------------+
| RHEL9               | PASS               | SKIPPED              | SKIPPED               | SKIPPED           | PASS             | SKIPPED           |
+---------------------+--------------------+----------------------+-----------------------+-------------------+------------------+-------------------+
| Ubuntu 20.04        | PASS               | SKIPPED              | SKIPPED               | SKIPPED           | PASS             | SKIPPED           |
+---------------------+--------------------+----------------------+-----------------------+-------------------+------------------+-------------------+
| Ubuntu 22.04        | PASS               | SKIPPED              | SKIPPED               | SKIPPED           | PASS             | PASS              |
+---------------------+--------------------+----------------------+-----------------------+-------------------+------------------+-------------------+
| openSUSE Leap 15    | PASS               | SKIPPED              | SKIPPED               | SKIPPED           | PASS             | SKIPPED           |
+---------------------+--------------------+----------------------+-----------------------+-------------------+------------------+-------------------+
| Alpine              | PASS               | SKIPPED              | SKIPPED               | SKIPPED           | PASS             | SKIPPED           |
+---------------------+--------------------+----------------------+-----------------------+-------------------+------------------+-------------------+
| Ubuntu 24.04        | PASS               | SKIPPED              | SKIPPED               | SKIPPED           | PASS             | PASS              |
+---------------------+--------------------+----------------------+-----------------------+-------------------+------------------+-------------------+
| Windows Server 2022 | SKIPPED            | PASS                 | PASS                  | PASS              | SKIPPED          | SKIPPED           |
+---------------------+--------------------+----------------------+-----------------------+-------------------+------------------+-------------------+


FreeBSD 13.3
	Kernel: 13.3-RELEASE-p5
	Compiler: clang 17.0.6

FreeBSD 14.1
	Kernel: 14.1-RELEASE-p3
	Compiler: clang 18.1.5

CentOS Stream 9
	Kernel: Depends on container host
	Compiler: gcc 11.4.1 20231218 (Red Hat 11.4.1-3)

Debian Bullseye
	Kernel: Depends on container host
	Compiler: gcc (Debian 10.2.1-6) 10.2.1 20210110

Debian 12
	Kernel: Depends on container host
	Compiler: gcc (Debian 12.2.0-14) 12.2.0

Fedora 37
	Kernel: Depends on container host system
	Compiler: gcc 12.3.1 20230508 (Red Hat 12.3.1-1)

Fedora 38 (Clang)
	Kernel: Depends on container host
	Compiler: clang 16.0.6 (Fedora 16.0.6-4.fc38)

Fedora 38
	Kernel: Depends on container host
	Compiler: gcc 13.2.1 20240316 (Red Hat 13.2.1-7)

Fedora 39 (Clang)
	Kernel: Depends on container host
	Compiler: clang 17.0.6 (Fedora 17.0.6-2.fc39)

Fedora 39
	Kernel: Depends on container host
	Compiler: gcc 13.3.1 20240522 (Red Hat 13.3.1-1)

Fedora 40 (Clang)
	Kernel: Depends on container host
	Compiler: clang 18.1.6 (Fedora 18.1.6-3.fc40)

Fedora 40
	Kernel: Depends on container host
	Compiler: gcc 14.2.1 20240801 (Red Hat 14.2.1-1)

RHEL8
	Kernel: Depends on container host
	Compiler: gcc 8.5.0 20210514 (Red Hat 8.5.0-22)

RHEL9
	Kernel: Depends on container host
	Compiler: gcc 11.4.1 20231218 (Red Hat 11.4.1-3)

Ubuntu 20.04
	Kernel: Depends on container host
	Compiler: gcc (Ubuntu 9.4.0-1ubuntu1~20.04.2) 9.4.0

Ubuntu 22.04
	Kernel: Depends on container host
	Compiler: gcc (Ubuntu 11.4.0-1ubuntu1~22.04) 11.4.0

openSUSE Leap 15
	Kernel: Depends on container host
	Compiler: gcc (SUSE Linux) 7.5.0

Alpine
	Kernel: Depends on container host
	Compiler: gcc (Alpine 13.2.1_git20240309) 13.2.1 20240309

Ubuntu 24.04
	Kernel: Depends on container host
	Compiler: gcc (Ubuntu 13.2.0-23ubuntu4) 13.2.0

Windows Server 2022
	Kernel: 10.0.20348.2031
	Compiler: clang 15.0.7, gcc 14.1.0 (MinGW), and MSVC VS 19.39.33521

To view detailed results, visit:
https://lab.dpdk.org/results/dashboard/patchsets/30933/

UNH-IOL DPDK Community Lab

To manage your email subscriptions, visit: 
https://lab.dpdk.org/results/dashboard/preferences/subscriptions/