From mboxrd@z Thu Jan  1 00:00:00 1970
Return-Path: <test-report-bounces@dpdk.org>
Received: from mails.dpdk.org (mails.dpdk.org [217.70.189.124])
	by inbox.dpdk.org (Postfix) with ESMTP id 733E545932
	for <public@inbox.dpdk.org>; Sun,  8 Sep 2024 03:41:17 +0200 (CEST)
Received: from mails.dpdk.org (localhost [127.0.0.1])
	by mails.dpdk.org (Postfix) with ESMTP id 7A7F340294;
	Sun,  8 Sep 2024 03:41:16 +0200 (CEST)
Received: from mail-yb1-f225.google.com (mail-yb1-f225.google.com
 [209.85.219.225])
 by mails.dpdk.org (Postfix) with ESMTP id AE5274026F
 for <test-report@dpdk.org>; Sun,  8 Sep 2024 03:41:15 +0200 (CEST)
Received: by mail-yb1-f225.google.com with SMTP id
 3f1490d57ef6-e1d2cf4cbf1so3160202276.1
 for <test-report@dpdk.org>; Sat, 07 Sep 2024 18:41:15 -0700 (PDT)
DKIM-Signature: v=1; a=rsa-sha256; c=relaxed/relaxed;
 d=iol.unh.edu; s=unh-iol; t=1725759675; x=1726364475; darn=dpdk.org;
 h=cc:to:from:subject:message-id:date:from:to:cc:subject:date
 :message-id:reply-to;
 bh=cFDME9dqnj3yqJ1KMYZYSc3kD8gyTDwzY7OJ1+6Iiik=;
 b=Quo8joZn4X2PPK31WcOpktnn3jyxyfs49zZxv6yy75EPkcIb6Zcd3u+ao+rbPcxWZB
 AeeybUbomsf7nGZJDawpqVqFFFbT3flJcN1wgKrcZu6UvUAQQNbAat/VfKCQ94gWcsqt
 ZFjuuPCzimzH8TSMe+JFyA6KlFK60ucPBC5IM=
X-Google-DKIM-Signature: v=1; a=rsa-sha256; c=relaxed/relaxed;
 d=1e100.net; s=20230601; t=1725759675; x=1726364475;
 h=cc:to:from:subject:message-id:date:x-gm-message-state:from:to:cc
 :subject:date:message-id:reply-to;
 bh=cFDME9dqnj3yqJ1KMYZYSc3kD8gyTDwzY7OJ1+6Iiik=;
 b=jQBRugJBTH5pP0YI5v1BpfJ0p2taWvp0TBxSG4G0YX8vn+vkJpYxsYxoR4RXkSbIOu
 TlK0vfzUJTKgDNg/irpXvHhsyCaEMu7QZOEYfbZ0k3z0Y7r/WiiwHBRD6ewELw+f8Byy
 EzSpIiDQTg379kJrMpQ1kk2YiTZTr/vxW4kFs+318O2BrvWS/+EPHOEWCF7SzOIfd7xS
 /ba3sNZh5j3fuI7BC4M1BTjP991kTN6Og/z7sryU3eJsfiZMfzii7UyGvCSug6ihrQQi
 MMSaxMKNdApfpur99dWwZYd2ODM4Ib9DPKI5RReGuckesOBFfGpuGTKSXBljNLTk0GcT
 9IiA==
X-Gm-Message-State: AOJu0YyqYHLGc5wsZZBNjh/V3vXMwLL2P6KQJ0bTqfujwEVFPFauEESl
 g3ZgFtHsRwr5Shsm8xh0M/kELJHXdQARMF8EYhcEURYxmizERXMbg5wAJIEej6eW1Cw+dFcOwiN
 keTr76w2OIQ+JcO9f7hOh9SuBQC7MMBXjuOrFHtkgyXt9oqVpDqr0R0XJ
X-Google-Smtp-Source: AGHT+IGt3lqeWoP54ozUVaxFxWVDP2O8FHoX9cgT1APGqDVuGkJ0iYt3PyLNaCmMQtR5OEfU8EfIpxdIToEo
X-Received: by 2002:a05:6902:2589:b0:e13:cf5c:72af with SMTP id
 3f1490d57ef6-e1d34a4df3bmr7769405276.47.1725759674952; 
 Sat, 07 Sep 2024 18:41:14 -0700 (PDT)
Received: from postal.iol.unh.edu (postal.iol.unh.edu.
 [2606:4100:3880:1234::84]) by smtp-relay.gmail.com with ESMTPS id
 3f1490d57ef6-e1d4b4a6c3csm90192276.33.2024.09.07.18.41.14
 (version=TLS1_2 cipher=ECDHE-ECDSA-AES128-GCM-SHA256 bits=128/128);
 Sat, 07 Sep 2024 18:41:14 -0700 (PDT)
X-Relaying-Domain: iol.unh.edu
Date: Sat, 07 Sep 2024 18:41:14 -0700 (PDT)
Message-ID: <66dd00ba.250a0220.27d2b7.8105SMTPIN_ADDED_MISSING@mx.google.com>
Received: from [172.17.0.4] (unknown [172.18.0.217])
 by postal.iol.unh.edu (Postfix) with ESMTP id 9868B6050A6D;
 Sat,  7 Sep 2024 21:41:14 -0400 (EDT)
Subject: |SUCCESS| [GIT MASTER] 41dd9a6bc2d9c6e20e139ad713cc9d172572dd43
From: dpdklab@iol.unh.edu
To: Test Report <test-report@dpdk.org>
Cc: dpdk-test-reports@iol.unh.edu
Content-Type: text/plain
X-BeenThere: test-report@dpdk.org
X-Mailman-Version: 2.1.29
Precedence: list
List-Id: automatic DPDK test reports <test-report.dpdk.org>
List-Unsubscribe: <https://mails.dpdk.org/options/test-report>,
 <mailto:test-report-request@dpdk.org?subject=unsubscribe>
List-Archive: <http://mails.dpdk.org/archives/test-report/>
List-Post: <mailto:test-report@dpdk.org>
List-Help: <mailto:test-report-request@dpdk.org?subject=help>
List-Subscribe: <https://mails.dpdk.org/listinfo/test-report>,
 <mailto:test-report-request@dpdk.org?subject=subscribe>
Errors-To: test-report-bounces@dpdk.org

_Testing PASS_

Branch: dpdk

41dd9a6bc2d9c6e20e139ad713cc9d172572dd43 --> testing pass

Upstream job id: Generic-DPDK-Compile-Meson#297615

Test environment and result as below:

+---------------------+--------------------+------------------+-------------------+----------------------+-----------------------+-------------------+
|     Environment     | dpdk_meson_compile | dpdk_compile_ovs | dpdk_compile_spdk | dpdk_mingw64_compile | dpdk_win_llvm_compile | dpdk_msvc_compile |
+=====================+====================+==================+===================+======================+=======================+===================+
| CentOS Stream 9     | PASS               | PASS             | PASS              | SKIPPED              | SKIPPED               | SKIPPED           |
+---------------------+--------------------+------------------+-------------------+----------------------+-----------------------+-------------------+
| Debian Bullseye     | PASS               | PASS             | PASS              | SKIPPED              | SKIPPED               | SKIPPED           |
+---------------------+--------------------+------------------+-------------------+----------------------+-----------------------+-------------------+
| Fedora 38           | PASS               | PASS             | PASS              | SKIPPED              | SKIPPED               | SKIPPED           |
+---------------------+--------------------+------------------+-------------------+----------------------+-----------------------+-------------------+
| Fedora 37           | PASS               | PASS             | PASS              | SKIPPED              | SKIPPED               | SKIPPED           |
+---------------------+--------------------+------------------+-------------------+----------------------+-----------------------+-------------------+
| Fedora 38 (Clang)   | PASS               | PASS             | PASS              | SKIPPED              | SKIPPED               | SKIPPED           |
+---------------------+--------------------+------------------+-------------------+----------------------+-----------------------+-------------------+
| Debian 12           | PASS               | PASS             | PASS              | SKIPPED              | SKIPPED               | SKIPPED           |
+---------------------+--------------------+------------------+-------------------+----------------------+-----------------------+-------------------+
| Fedora 39 (Clang)   | PASS               | PASS             | PASS              | SKIPPED              | SKIPPED               | SKIPPED           |
+---------------------+--------------------+------------------+-------------------+----------------------+-----------------------+-------------------+
| Fedora 39           | PASS               | PASS             | PASS              | SKIPPED              | SKIPPED               | SKIPPED           |
+---------------------+--------------------+------------------+-------------------+----------------------+-----------------------+-------------------+
| Fedora 40 (Clang)   | PASS               | PASS             | PASS              | SKIPPED              | SKIPPED               | SKIPPED           |
+---------------------+--------------------+------------------+-------------------+----------------------+-----------------------+-------------------+
| openSUSE Leap 15    | PASS               | PASS             | SKIPPED           | SKIPPED              | SKIPPED               | SKIPPED           |
+---------------------+--------------------+------------------+-------------------+----------------------+-----------------------+-------------------+
| Fedora 40           | PASS               | PASS             | PASS              | SKIPPED              | SKIPPED               | SKIPPED           |
+---------------------+--------------------+------------------+-------------------+----------------------+-----------------------+-------------------+
| Ubuntu 20.04        | PASS               | PASS             | SKIPPED           | SKIPPED              | SKIPPED               | SKIPPED           |
+---------------------+--------------------+------------------+-------------------+----------------------+-----------------------+-------------------+
| RHEL8               | PASS               | PASS             | SKIPPED           | SKIPPED              | SKIPPED               | SKIPPED           |
+---------------------+--------------------+------------------+-------------------+----------------------+-----------------------+-------------------+
| RHEL9               | PASS               | PASS             | SKIPPED           | SKIPPED              | SKIPPED               | SKIPPED           |
+---------------------+--------------------+------------------+-------------------+----------------------+-----------------------+-------------------+
| Ubuntu 22.04        | PASS               | PASS             | PASS              | SKIPPED              | SKIPPED               | SKIPPED           |
+---------------------+--------------------+------------------+-------------------+----------------------+-----------------------+-------------------+
| Ubuntu 24.04        | PASS               | PASS             | PASS              | SKIPPED              | SKIPPED               | SKIPPED           |
+---------------------+--------------------+------------------+-------------------+----------------------+-----------------------+-------------------+
| FreeBSD 13.3        | PASS               | SKIPPED          | SKIPPED           | SKIPPED              | SKIPPED               | SKIPPED           |
+---------------------+--------------------+------------------+-------------------+----------------------+-----------------------+-------------------+
| Alpine              | PASS               | PASS             | SKIPPED           | SKIPPED              | SKIPPED               | SKIPPED           |
+---------------------+--------------------+------------------+-------------------+----------------------+-----------------------+-------------------+
| Arch Linux          | PASS               | PASS             | SKIPPED           | SKIPPED              | SKIPPED               | SKIPPED           |
+---------------------+--------------------+------------------+-------------------+----------------------+-----------------------+-------------------+
| FreeBSD 14.1        | PASS               | SKIPPED          | SKIPPED           | SKIPPED              | SKIPPED               | SKIPPED           |
+---------------------+--------------------+------------------+-------------------+----------------------+-----------------------+-------------------+
| Windows Server 2022 | SKIPPED            | SKIPPED          | SKIPPED           | PASS                 | PASS                  | PASS              |
+---------------------+--------------------+------------------+-------------------+----------------------+-----------------------+-------------------+


CentOS Stream 9
	Kernel: Depends on container host
	Compiler: gcc 11.4.1 20231218 (Red Hat 11.4.1-3)

Debian Bullseye
	Kernel: Depends on container host
	Compiler: gcc (Debian 10.2.1-6) 10.2.1 20210110

Fedora 38
	Kernel: Depends on container host
	Compiler: gcc 13.2.1 20240316 (Red Hat 13.2.1-7)

Fedora 37
	Kernel: Depends on container host system
	Compiler: gcc 12.3.1 20230508 (Red Hat 12.3.1-1)

Fedora 38 (Clang)
	Kernel: Depends on container host
	Compiler: clang 16.0.6 (Fedora 16.0.6-4.fc38)

Debian 12
	Kernel: Depends on container host
	Compiler: gcc (Debian 12.2.0-14) 12.2.0

Fedora 39 (Clang)
	Kernel: Depends on container host
	Compiler: clang 17.0.6 (Fedora 17.0.6-2.fc39)

Fedora 39
	Kernel: Depends on container host
	Compiler: gcc 13.3.1 20240522 (Red Hat 13.3.1-1)

Fedora 40 (Clang)
	Kernel: Depends on container host
	Compiler: clang 18.1.6 (Fedora 18.1.6-3.fc40)

openSUSE Leap 15
	Kernel: Depends on container host
	Compiler: gcc (SUSE Linux) 7.5.0

Fedora 40
	Kernel: Depends on container host
	Compiler: gcc 14.2.1 20240801 (Red Hat 14.2.1-1)

Ubuntu 20.04
	Kernel: Depends on container host
	Compiler: gcc (Ubuntu 9.4.0-1ubuntu1~20.04.2) 9.4.0

RHEL8
	Kernel: Depends on container host
	Compiler: gcc 8.5.0 20210514 (Red Hat 8.5.0-22)

RHEL9
	Kernel: Depends on container host
	Compiler: gcc 11.4.1 20231218 (Red Hat 11.4.1-3)

Ubuntu 22.04
	Kernel: Depends on container host
	Compiler: gcc (Ubuntu 11.4.0-1ubuntu1~22.04) 11.4.0

Ubuntu 24.04
	Kernel: Depends on container host
	Compiler: gcc (Ubuntu 13.2.0-23ubuntu4) 13.2.0

FreeBSD 13.3
	Kernel: 13.3-RELEASE-p5
	Compiler: clang 17.0.6

Alpine
	Kernel: Depends on container host
	Compiler: gcc (Alpine 13.2.1_git20240309) 13.2.1 20240309

Arch Linux
	Kernel: Depends on container host
	Compiler: gcc 14.2.1 20240805

FreeBSD 14.1
	Kernel: 14.1-RELEASE-p3
	Compiler: clang 18.1.5

Windows Server 2022
	Kernel: 10.0.20348.2031
	Compiler: clang 15.0.7, gcc 14.1.0 (MinGW), and MSVC VS 19.39.33521

To view detailed results, visit:
https://lab.dpdk.org/results/dashboard/tarballs/30506/

UNH-IOL DPDK Community Lab

To manage your email subscriptions, visit: 
https://lab.dpdk.org/results/dashboard/preferences/subscriptions/