From mboxrd@z Thu Jan  1 00:00:00 1970
Return-Path: <test-report-bounces@dpdk.org>
Received: from mails.dpdk.org (mails.dpdk.org [217.70.189.124])
	by inbox.dpdk.org (Postfix) with ESMTP id D3ED845933
	for <public@inbox.dpdk.org>; Sun,  8 Sep 2024 05:38:10 +0200 (CEST)
Received: from mails.dpdk.org (localhost [127.0.0.1])
	by mails.dpdk.org (Postfix) with ESMTP id AD98740275;
	Sun,  8 Sep 2024 05:38:10 +0200 (CEST)
Received: from mail-il1-f226.google.com (mail-il1-f226.google.com
 [209.85.166.226])
 by mails.dpdk.org (Postfix) with ESMTP id 439914026F
 for <test-report@dpdk.org>; Sun,  8 Sep 2024 05:38:09 +0200 (CEST)
Received: by mail-il1-f226.google.com with SMTP id
 e9e14a558f8ab-39fcae1d459so13052945ab.0
 for <test-report@dpdk.org>; Sat, 07 Sep 2024 20:38:09 -0700 (PDT)
DKIM-Signature: v=1; a=rsa-sha256; c=relaxed/relaxed;
 d=iol.unh.edu; s=unh-iol; t=1725766688; x=1726371488; darn=dpdk.org;
 h=cc:to:from:subject:message-id:date:from:to:cc:subject:date
 :message-id:reply-to;
 bh=bfJ+mHcJz2Tmc/l1dnfcqDpwMyS39CJkgiWwvNF8tLI=;
 b=iw3yzPmLTU6zN+bzrrnBaMMyAjaT+MWoO7zI5KsDDKQcVWGi81wXS/uTdFb93SN6FG
 kaGTH/6Vd7B0EcVX63NKmaObO2ge3P4ZoYKfEaq3ZOgmv0/HqKP0IPjojHjqyvFYnWLN
 MbuLKoVnROIIhDXKJvpVPMxWW0fMEp2bIbO9k=
X-Google-DKIM-Signature: v=1; a=rsa-sha256; c=relaxed/relaxed;
 d=1e100.net; s=20230601; t=1725766688; x=1726371488;
 h=cc:to:from:subject:message-id:date:x-gm-message-state:from:to:cc
 :subject:date:message-id:reply-to;
 bh=bfJ+mHcJz2Tmc/l1dnfcqDpwMyS39CJkgiWwvNF8tLI=;
 b=Zkqa1K5B7eQUoeUrw5kHALDb9YoG63DeVE7cy1ZYkxviLdzm1fyTi1Xu6QAIMNetTQ
 8dNZGqlS0enMwS86iU0k3xWWMJ5hdxpcP5++7ELqz23+49NOCgNqcpdtnc/FQdHlPSEW
 F1vjCd5Li5Y32pDFaT+C38f4oshg5ZHbq/B8UaLEPIGe6JIJk+o605KKYOMyL3U0zxAf
 /01pfFn/rhItntBOUdoib/6RdXJtW9QPe60XMXE/+aAsYqZEStspVGkRvaHSJAz6B9R0
 HxL2HcOoE0CO3Cuc+1HK8Ze4XgmHzP7inVJOECjGJf60PQnALFZHGfXd82Y0v2LGkKkN
 GlBg==
X-Gm-Message-State: AOJu0YwR/XVWjlaObZ2SMOL0+Jzk0inqEi59brxKf409U8BCLRoVYBAZ
 0fCI8yVlg74mULR0gkb1lWJfGB5G2IY0alM5Vg8IGnWiqz3fjq8WdOyDJokYX3bT/iTm+BwN2Ce
 iADVhz1kv5G0PM5mWSlYE/q2/YVjHhVeXrmCYMI4ltadz42LFzHgH630o
X-Google-Smtp-Source: AGHT+IFHmm67kc/R5BYP1Lb9B82//kMzpV5gyjuSBqpIs8LNJf1lUDcM3B0D5cU2hOt51GiUdB0TUcDJlT18
X-Received: by 2002:a05:6e02:1705:b0:3a0:4bd1:c1ba with SMTP id
 e9e14a558f8ab-3a05746e431mr44393475ab.16.1725766688368; 
 Sat, 07 Sep 2024 20:38:08 -0700 (PDT)
Received: from postal.iol.unh.edu (postal.iol.unh.edu.
 [2606:4100:3880:1234::84]) by smtp-relay.gmail.com with ESMTPS id
 8926c6da1cb9f-4d09464d772sm107830173.67.2024.09.07.20.38.08
 (version=TLS1_2 cipher=ECDHE-ECDSA-AES128-GCM-SHA256 bits=128/128);
 Sat, 07 Sep 2024 20:38:08 -0700 (PDT)
X-Relaying-Domain: iol.unh.edu
Date: Sat, 07 Sep 2024 20:38:08 -0700 (PDT)
Message-ID: <66dd1c20.050a0220.16b98a.9cdbSMTPIN_ADDED_MISSING@mx.google.com>
Received: from [172.17.0.3] (unknown [172.18.0.217])
 by postal.iol.unh.edu (Postfix) with ESMTP id EF0116050A6D;
 Sat,  7 Sep 2024 23:38:07 -0400 (EDT)
Subject: |SUCCESS| [GIT MASTER] 41dd9a6bc2d9c6e20e139ad713cc9d172572dd43
From: dpdklab@iol.unh.edu
To: Test Report <test-report@dpdk.org>
Cc: dpdk-test-reports@iol.unh.edu
Content-Type: text/plain
X-BeenThere: test-report@dpdk.org
X-Mailman-Version: 2.1.29
Precedence: list
List-Id: automatic DPDK test reports <test-report.dpdk.org>
List-Unsubscribe: <https://mails.dpdk.org/options/test-report>,
 <mailto:test-report-request@dpdk.org?subject=unsubscribe>
List-Archive: <http://mails.dpdk.org/archives/test-report/>
List-Post: <mailto:test-report@dpdk.org>
List-Help: <mailto:test-report-request@dpdk.org?subject=help>
List-Subscribe: <https://mails.dpdk.org/listinfo/test-report>,
 <mailto:test-report-request@dpdk.org?subject=subscribe>
Errors-To: test-report-bounces@dpdk.org

_Testing PASS_

Branch: dpdk

41dd9a6bc2d9c6e20e139ad713cc9d172572dd43 --> testing pass

Upstream job id: Generic-DPDK-Compile-Meson#297622

Test environment and result as below:

+----------------------------------------+--------------------+
|              Environment               | dpdk_meson_compile |
+========================================+====================+
| RHEL9 (ARM)                            | PASS               |
+----------------------------------------+--------------------+
| Fedora 40 (ARM Clang)                  | PASS               |
+----------------------------------------+--------------------+
| Ubuntu 20.04 ARM GCC Cross Compile     | PASS               |
+----------------------------------------+--------------------+
| Fedora 37 (ARM)                        | PASS               |
+----------------------------------------+--------------------+
| Ubuntu 20.04 ARM SVE                   | PASS               |
+----------------------------------------+--------------------+
| Fedora 39 (ARM)                        | PASS               |
+----------------------------------------+--------------------+
| Debian 12 with MUSDK                   | PASS               |
+----------------------------------------+--------------------+
| Fedora 40 (ARM)                        | PASS               |
+----------------------------------------+--------------------+
| Fedora 39 (ARM Clang)                  | PASS               |
+----------------------------------------+--------------------+
| Fedora 38 (ARM)                        | PASS               |
+----------------------------------------+--------------------+
| Fedora 38 (ARM Clang)                  | PASS               |
+----------------------------------------+--------------------+
| Debian 11 (Buster) (ARM)               | PASS               |
+----------------------------------------+--------------------+
| Ubuntu 24.04 (ARM)                     | PASS               |
+----------------------------------------+--------------------+
| Ubuntu 20.04 (ARM)                     | PASS               |
+----------------------------------------+--------------------+
| CentOS Stream 9 (ARM)                  | PASS               |
+----------------------------------------+--------------------+
| Ubuntu 20.04 ARM Clang Cross Compile   | PASS               |
+----------------------------------------+--------------------+
| Debian 12 (arm)                        | PASS               |
+----------------------------------------+--------------------+
| Ubuntu 20.04 aarch32 GCC Cross Compile | PASS               |
+----------------------------------------+--------------------+
| Ubuntu 22.04 (ARM)                     | PASS               |
+----------------------------------------+--------------------+


RHEL9 (ARM)
	Kernel: Depends on container host
	Compiler: gcc 11.4.1 20231218 (Red Hat 11.4.1-3)

Fedora 40 (ARM Clang)
	Kernel: Depends on container host
	Compiler: clang 18.1.6 (Fedora 18.1.6-3.fc40)

Ubuntu 20.04 ARM GCC Cross Compile
	Kernel: Depends on container host
	Compiler: aarch64-linux-gnu-gcc (Ubuntu 9.4.0-1ubuntu1~20.04.2) 9.4.0

Fedora 37 (ARM)
	Kernel: Depends on container host
	Compiler: gcc 12.3.1 20230508 (Red Hat 12.3.1-1)

Ubuntu 20.04 ARM SVE
	Kernel: Depends on container host
	Compiler: gcc (Ubuntu 10.5.0-1ubuntu1~20.04) 10.5.0

Fedora 39 (ARM)
	Kernel: Depends on container host
	Compiler: gcc 13.3.1 20240522 (Red Hat 13.3.1-1)

Debian 12 with MUSDK
	Kernel: Depends on container host
	Compiler: gcc (Debian 12.2.0-14) 12.2.0

Fedora 40 (ARM)
	Kernel: Depends on container host
	Compiler: gcc 14.2.1 20240801 (Red Hat 14.2.1-1)

Fedora 39 (ARM Clang)
	Kernel: Depends on container host
	Compiler: clang 17.0.6 (Fedora 17.0.6-2.fc39)

Fedora 38 (ARM)
	Kernel: Depends on container host
	Compiler: gcc 13.2.1 20240316 (Red Hat 13.2.1-7)

Fedora 38 (ARM Clang)
	Kernel: Depends on container host
	Compiler: clang 16.0.6 (Fedora 16.0.6-4.fc38)

Debian 11 (Buster) (ARM)
	Kernel: Depends on container host
	Compiler: gcc (Debian 10.2.1-6) 10.2.1 20210110

Ubuntu 24.04 (ARM)
	Kernel: Depends on container host
	Compiler: gcc (Ubuntu 13.2.0-23ubuntu4) 13.2.0

Ubuntu 20.04 (ARM)
	Kernel: Depends on container host
	Compiler: gcc (Ubuntu 9.4.0-1ubuntu1~20.04.2) 9.4.0

CentOS Stream 9 (ARM)
	Kernel: Depends on container host
	Compiler: gcc 11.4.1 20231218 (Red Hat 11.4.1-3)

Ubuntu 20.04 ARM Clang Cross Compile
	Kernel: Depends on container host
	Compiler: clang 10.0.0-4ubuntu1

Debian 12 (arm)
	Kernel: Depends on container host
	Compiler: gcc (Debian 12.2.0-14) 12.2.0

Ubuntu 20.04 aarch32 GCC Cross Compile
	Kernel: Depends on container host
	Compiler: gcc 9.4.0

Ubuntu 22.04 (ARM)
	Kernel: Depends on container host
	Compiler: gcc (Ubuntu 11.4.0-1ubuntu1~22.04) 11.4.0

To view detailed results, visit:
https://lab.dpdk.org/results/dashboard/tarballs/30506/

UNH-IOL DPDK Community Lab

To manage your email subscriptions, visit: 
https://lab.dpdk.org/results/dashboard/preferences/subscriptions/