From mboxrd@z Thu Jan  1 00:00:00 1970
Return-Path: <test-report-bounces@dpdk.org>
Received: from mails.dpdk.org (mails.dpdk.org [217.70.189.124])
	by inbox.dpdk.org (Postfix) with ESMTP id 3057945938
	for <public@inbox.dpdk.org>; Sun,  8 Sep 2024 09:12:23 +0200 (CEST)
Received: from mails.dpdk.org (localhost [127.0.0.1])
	by mails.dpdk.org (Postfix) with ESMTP id 0DC9F40295;
	Sun,  8 Sep 2024 09:12:23 +0200 (CEST)
Received: from mail-qv1-f98.google.com (mail-qv1-f98.google.com
 [209.85.219.98]) by mails.dpdk.org (Postfix) with ESMTP id 5C20D4026F
 for <test-report@dpdk.org>; Sun,  8 Sep 2024 09:12:21 +0200 (CEST)
Received: by mail-qv1-f98.google.com with SMTP id
 6a1803df08f44-6c35618056aso16119016d6.1
 for <test-report@dpdk.org>; Sun, 08 Sep 2024 00:12:21 -0700 (PDT)
DKIM-Signature: v=1; a=rsa-sha256; c=relaxed/relaxed;
 d=iol.unh.edu; s=unh-iol; t=1725779541; x=1726384341; darn=dpdk.org;
 h=references:in-reply-to:cc:to:from:subject:message-id:date:from:to
 :cc:subject:date:message-id:reply-to;
 bh=HneOSx5HIcR0Wn/aZPyT73FgLdVYTpCVmh0CBSW1xg8=;
 b=DJ9WNAj5vsbQzbn6IcKNMSutqSlGLqmLnqZOPS3gW31JOm7LMMKwMCbN3tX9mxd63Q
 wRY63A4fdD9u2czDnc3HQlPkegwdywRJEbWociXLqe8dX1UELHSnCeRnSqhQeattCjZs
 hZyZs7lQnqmqKL7CmA9Y0ZX0Xfk4sIjCMkkkw=
X-Google-DKIM-Signature: v=1; a=rsa-sha256; c=relaxed/relaxed;
 d=1e100.net; s=20230601; t=1725779541; x=1726384341;
 h=references:in-reply-to:cc:to:from:subject:message-id:date
 :x-gm-message-state:from:to:cc:subject:date:message-id:reply-to;
 bh=HneOSx5HIcR0Wn/aZPyT73FgLdVYTpCVmh0CBSW1xg8=;
 b=myRdBCzdKXINfkpjDcA+L3F1wMC+T0qBHJae4t3c6nnFTg8sF4jYqza3rRC0Up1I76
 1c5232tFabWKKZamYoxn+NRPgUVXQgh3Ggy8XYPBSI7TdBjo+9ck/DfnewPEX7d7T4Gx
 Z1Nf2exAJ8F8mIZfFXSJUXHZrhUrihdVZxxTCduCfGEHFqdaPMiUd9DrLgYoHcX434Ap
 x0JAyvpzquRPWGbyoimkqJwVsZxlS+WiG6uDjcVKXW8RHcsWBHmbbCBImCBQAkvY7bA2
 7l5+5gydUZILmtEQRiOuEICDRN62LLrNbrcH959c3LwRO1RLlx2PxZSY7mUr7HTF4ud9
 Hdpw==
X-Gm-Message-State: AOJu0YyVVOGCHE8FoVrAdq4IhFFnW9uGM6aQKxZnlpcJUOpHm1dDrvs6
 0mp3qnzYZAlFZarSO00PEpf1L15Vif3g7OjopykgDqDkB8kiy/Xk+rMWxz3DvPrUPtpIEe9KT2/
 GkVABTcvtUzBjGU1D91ZWsl9X4Pi8gktjHT3YsBMU
X-Google-Smtp-Source: AGHT+IE9J2gH2UHbro9+fti4w7SuPPoEhS9CWC/Z6l8n2gWEcN68JED3tB+KspB5tHg7B3hvads1dR24AbtP
X-Received: by 2002:a05:6214:318c:b0:6c5:18a8:da11 with SMTP id
 6a1803df08f44-6c52851b23fmr106219456d6.40.1725779540729; 
 Sun, 08 Sep 2024 00:12:20 -0700 (PDT)
Received: from postal.iol.unh.edu (postal.iol.unh.edu. [132.177.123.84])
 by smtp-relay.gmail.com with ESMTPS id
 6a1803df08f44-6c534329678sm949976d6.7.2024.09.08.00.12.20
 (version=TLS1_2 cipher=ECDHE-ECDSA-AES128-GCM-SHA256 bits=128/128);
 Sun, 08 Sep 2024 00:12:20 -0700 (PDT)
X-Relaying-Domain: iol.unh.edu
Date: Sun, 08 Sep 2024 00:12:20 -0700 (PDT)
Message-ID: <66dd4e54.050a0220.1ee67e.8711SMTPIN_ADDED_MISSING@mx.google.com>
Received: from [172.21.0.2] (unknown [172.18.0.240])
 by postal.iol.unh.edu (Postfix) with ESMTP id 6FF5D6050A6D;
 Sun,  8 Sep 2024 03:12:16 -0400 (EDT)
Subject: |SUCCESS| pw143738-143741 [PATCH] [4/4] common/idpf: fix AVX-512 poi
From: dpdklab@iol.unh.edu
To: Test Report <test-report@dpdk.org>
Cc: dpdk-test-reports@iol.unh.edu
In-Reply-To: <20240906141127.628873-5-bruce.richardson@intel.com>
References: <20240906141127.628873-5-bruce.richardson@intel.com>
Content-Type: text/plain
X-BeenThere: test-report@dpdk.org
X-Mailman-Version: 2.1.29
Precedence: list
List-Id: automatic DPDK test reports <test-report.dpdk.org>
List-Unsubscribe: <https://mails.dpdk.org/options/test-report>,
 <mailto:test-report-request@dpdk.org?subject=unsubscribe>
List-Archive: <http://mails.dpdk.org/archives/test-report/>
List-Post: <mailto:test-report@dpdk.org>
List-Help: <mailto:test-report-request@dpdk.org?subject=help>
List-Subscribe: <https://mails.dpdk.org/listinfo/test-report>,
 <mailto:test-report-request@dpdk.org?subject=subscribe>
Errors-To: test-report-bounces@dpdk.org

Test-Label: iol-sample-apps-testing
Test-Status: SUCCESS
http://dpdk.org/patch/143741

_Testing PASS_

Submitter: Bruce Richardson <bruce.richardson@intel.com>
Date: Friday, September 06 2024 14:11:27 
DPDK git baseline: Repo:dpdk
  Branch: master
  CommitID:41dd9a6bc2d9c6e20e139ad713cc9d172572dd43

143738-143741 --> testing pass

Upstream job id: ACVP-FIPS-testing#6855

Test environment and result as below:

+--------------------+----------------------+----------------------+
|    Environment     | compressdev_zlib_pmd | dpdk_fips_validation |
+====================+======================+======================+
| Ubuntu 22.04 (ARM) | PASS                 | SKIPPED              |
+--------------------+----------------------+----------------------+
| Ubuntu 22.04       | PASS                 | SKIPPED              |
+--------------------+----------------------+----------------------+
| Ubuntu 20.04       | SKIPPED              | PASS                 |
+--------------------+----------------------+----------------------+


Ubuntu 22.04 (ARM)
	Kernel: 5.15.0-97-generic
	Compiler: gcc gcc (Ubuntu 11.4.0-1ubuntu1~22.04) 11.4.0

Ubuntu 22.04
	Kernel: 5.15.0-100-generic
	Compiler: gcc gcc (Ubuntu 11.4.0-1ubuntu1~22.04) 11.4.0

Ubuntu 20.04
	Kernel: Depends on container host
	Compiler: gcc (Ubuntu 9.4.0-1ubuntu1~20.04.2) 9.4.0

To view detailed results, visit:
https://lab.dpdk.org/results/dashboard/patchsets/30941/

UNH-IOL DPDK Community Lab

To manage your email subscriptions, visit: 
https://lab.dpdk.org/results/dashboard/preferences/subscriptions/