From mboxrd@z Thu Jan  1 00:00:00 1970
Return-Path: <test-report-bounces@dpdk.org>
Received: from mails.dpdk.org (mails.dpdk.org [217.70.189.124])
	by inbox.dpdk.org (Postfix) with ESMTP id AC6894594B
	for <public@inbox.dpdk.org>; Mon,  9 Sep 2024 21:21:04 +0200 (CEST)
Received: from mails.dpdk.org (localhost [127.0.0.1])
	by mails.dpdk.org (Postfix) with ESMTP id A5621415D7;
	Mon,  9 Sep 2024 21:21:04 +0200 (CEST)
Received: from mail-oa1-f98.google.com (mail-oa1-f98.google.com
 [209.85.160.98]) by mails.dpdk.org (Postfix) with ESMTP id E02144021F
 for <test-report@dpdk.org>; Mon,  9 Sep 2024 21:21:03 +0200 (CEST)
Received: by mail-oa1-f98.google.com with SMTP id
 586e51a60fabf-277f35c01f5so2242956fac.0
 for <test-report@dpdk.org>; Mon, 09 Sep 2024 12:21:03 -0700 (PDT)
DKIM-Signature: v=1; a=rsa-sha256; c=relaxed/relaxed;
 d=iol.unh.edu; s=unh-iol; t=1725909663; x=1726514463; darn=dpdk.org;
 h=references:in-reply-to:cc:to:from:subject:message-id:date:from:to
 :cc:subject:date:message-id:reply-to;
 bh=AiHzHov8r/K423k52JbRstjDWruHzg2IBra/S3/ewnM=;
 b=So218oLTrELPpvRp+7moFelKy2NGEZC04RJbdDpUccGCUyKiokbFfE8b91YBvDRkrd
 T5vtcwbCHVrW23tksEoQ4FVyKEUKnHRFwpaKB9sQRFhkW+ns+rBtS4ADK1ahGaV+ZLqR
 xVYce6GG11uRh32VuUUzaC8C5rMrqUIMOkV2A=
X-Google-DKIM-Signature: v=1; a=rsa-sha256; c=relaxed/relaxed;
 d=1e100.net; s=20230601; t=1725909663; x=1726514463;
 h=references:in-reply-to:cc:to:from:subject:message-id:date
 :x-gm-message-state:from:to:cc:subject:date:message-id:reply-to;
 bh=AiHzHov8r/K423k52JbRstjDWruHzg2IBra/S3/ewnM=;
 b=w72WLReIMFrzBfrCS/1l79rlLV56KtkognU9cC5yokcCMN510qEWWBIgQMZqLGG66z
 o02+R5WyNTIZnSq33TJhmuFXeByMxGTIQyPsPslQpRu4dBKMEX2BgI6zdZEKe3a0M2sC
 h52AjmEVgYHWwSKzx94bkdtbYquKj9h06vfYe2ndmfDmdyWm4K9zbo8nRBkvtp2yF2oB
 HBRYs2oUffzxzRoRG62h8xlvKJPUCaDetV6cMAqxc0/w0nXJsNpGRLVt7dPI1j8Pxl12
 Md1tU1gVvzVU39lMez11ATXmlYQQuQczC7npz08AcVdlCBGGVZsKv80y3jyPqwrGer+1
 a4KQ==
X-Gm-Message-State: AOJu0YxUDhxnlQf3W40h8uZkrT9tB/o1j5k4ZuNUSrAC4ARjzbmqnR/u
 5Gw2ivM9Lx7zHD4fHNQTbrAeBxVw8heR8it2L3MUBEYijEhedp3xFM0FJjrH+UAq3zyVXGANzE8
 qtAOy7bMq/y7qfZBKehj/CXuBtLPam9w66EfeNJfeXsJe11si7RbFVOmt
X-Google-Smtp-Source: AGHT+IGQ8TMgpqJbFzqC+hlgHUBU98awaPIZON+SP9Lyw80FZ/JHjFL6SmieIYopBcjgVKKFWj8tKqXqjhgj
X-Received: by 2002:a05:6870:5692:b0:278:4f7:6058 with SMTP id
 586e51a60fabf-27b9db339fcmr5204854fac.28.1725909663023; 
 Mon, 09 Sep 2024 12:21:03 -0700 (PDT)
Received: from postal.iol.unh.edu (postal.iol.unh.edu.
 [2606:4100:3880:1234::84]) by smtp-relay.gmail.com with ESMTPS id
 586e51a60fabf-27ba40a2e36sm237701fac.32.2024.09.09.12.21.02
 (version=TLS1_2 cipher=ECDHE-ECDSA-AES128-GCM-SHA256 bits=128/128);
 Mon, 09 Sep 2024 12:21:03 -0700 (PDT)
X-Relaying-Domain: iol.unh.edu
Date: Mon, 09 Sep 2024 12:21:03 -0700 (PDT)
Message-ID: <66df4a9f.050a0220.32a4d3.53a3SMTPIN_ADDED_MISSING@mx.google.com>
Received: from [172.21.0.5] (unknown [172.18.0.240])
 by postal.iol.unh.edu (Postfix) with ESMTP id EAADD605C380;
 Mon,  9 Sep 2024 15:20:58 -0400 (EDT)
Subject: |SUCCESS| pw143827-143829 [PATCH] [v12,3/3] event/dsw: add capabilit
From: dpdklab@iol.unh.edu
To: Test Report <test-report@dpdk.org>
Cc: dpdk-test-reports@iol.unh.edu
In-Reply-To: <20240909160506.2655354-4-abdullah.sevincer@intel.com>
References: <20240909160506.2655354-4-abdullah.sevincer@intel.com>
Content-Type: text/plain
X-BeenThere: test-report@dpdk.org
X-Mailman-Version: 2.1.29
Precedence: list
List-Id: automatic DPDK test reports <test-report.dpdk.org>
List-Unsubscribe: <https://mails.dpdk.org/options/test-report>,
 <mailto:test-report-request@dpdk.org?subject=unsubscribe>
List-Archive: <http://mails.dpdk.org/archives/test-report/>
List-Post: <mailto:test-report@dpdk.org>
List-Help: <mailto:test-report-request@dpdk.org?subject=help>
List-Subscribe: <https://mails.dpdk.org/listinfo/test-report>,
 <mailto:test-report-request@dpdk.org?subject=subscribe>
Errors-To: test-report-bounces@dpdk.org

Test-Label: iol-compile-amd64-testing
Test-Status: SUCCESS
http://dpdk.org/patch/143829

_Testing PASS_

Submitter: Abdullah Sevincer <abdullah.sevincer@intel.com>
Date: Monday, September 09 2024 16:05:06 
DPDK git baseline: Repo:dpdk
  Branch: master
  CommitID:cb9187bc5c2b4bab0ad80194ac3b60491de14e8c

143827-143829 --> testing pass

Upstream job id: Windows-Compile-DPDK-VS#3033

Test environment and result as below:

+---------------------+-----------------------+----------------------+--------------------+-------------------+
|     Environment     | dpdk_win_llvm_compile | dpdk_mingw64_compile | dpdk_meson_compile | dpdk_msvc_compile |
+=====================+=======================+======================+====================+===================+
| Windows Server 2022 | PASS                  | PASS                 | SKIPPED            | PASS              |
+---------------------+-----------------------+----------------------+--------------------+-------------------+
| FreeBSD 13.3        | SKIPPED               | SKIPPED              | PASS               | SKIPPED           |
+---------------------+-----------------------+----------------------+--------------------+-------------------+
| FreeBSD 14.1        | SKIPPED               | SKIPPED              | PASS               | SKIPPED           |
+---------------------+-----------------------+----------------------+--------------------+-------------------+


Windows Server 2022
	Kernel: 10.0.20348.2031
	Compiler: clang 15.0.7, gcc 14.1.0 (MinGW), and MSVC VS 19.39.33521

FreeBSD 13.3
	Kernel: 13.3-RELEASE-p5
	Compiler: clang 17.0.6

FreeBSD 14.1
	Kernel: 14.1-RELEASE-p3
	Compiler: clang 18.1.5

To view detailed results, visit:
https://lab.dpdk.org/results/dashboard/patchsets/30975/

UNH-IOL DPDK Community Lab

To manage your email subscriptions, visit: 
https://lab.dpdk.org/results/dashboard/preferences/subscriptions/