From mboxrd@z Thu Jan  1 00:00:00 1970
Return-Path: <test-report-bounces@dpdk.org>
Received: from mails.dpdk.org (mails.dpdk.org [217.70.189.124])
	by inbox.dpdk.org (Postfix) with ESMTP id A3CE34594B
	for <public@inbox.dpdk.org>; Mon,  9 Sep 2024 21:36:25 +0200 (CEST)
Received: from mails.dpdk.org (localhost [127.0.0.1])
	by mails.dpdk.org (Postfix) with ESMTP id 9992840E64;
	Mon,  9 Sep 2024 21:36:25 +0200 (CEST)
Received: from mail-pl1-f228.google.com (mail-pl1-f228.google.com
 [209.85.214.228])
 by mails.dpdk.org (Postfix) with ESMTP id BC9044021F
 for <test-report@dpdk.org>; Mon,  9 Sep 2024 21:36:24 +0200 (CEST)
Received: by mail-pl1-f228.google.com with SMTP id
 d9443c01a7336-206bd1c6ccdso43038195ad.3
 for <test-report@dpdk.org>; Mon, 09 Sep 2024 12:36:24 -0700 (PDT)
DKIM-Signature: v=1; a=rsa-sha256; c=relaxed/relaxed;
 d=iol.unh.edu; s=unh-iol; t=1725910584; x=1726515384; darn=dpdk.org;
 h=references:in-reply-to:cc:to:from:subject:message-id:date:from:to
 :cc:subject:date:message-id:reply-to;
 bh=a/FuGyqOw4BDUzFCtAyGDeWoZ9RcSxLlswHCW3BDaIs=;
 b=QsOEMjkKbyabnjH4F+w4LdwXublWzfj+kWQ/NKC0GWCVE9ZkneyV1/SRYwz6n1R1OA
 +3mJLgSemPIaw7VzsZyGZG3+Jo6JLDKmzWdGZAV4+Pppxl+pnEjTvV3QYDnQeP0umikn
 pd8n8gvKsazWL1BxXfK9qnv2ch8N2fEfm3VL0=
X-Google-DKIM-Signature: v=1; a=rsa-sha256; c=relaxed/relaxed;
 d=1e100.net; s=20230601; t=1725910584; x=1726515384;
 h=references:in-reply-to:cc:to:from:subject:message-id:date
 :x-gm-message-state:from:to:cc:subject:date:message-id:reply-to;
 bh=a/FuGyqOw4BDUzFCtAyGDeWoZ9RcSxLlswHCW3BDaIs=;
 b=BZfVQXIzqqDIQqL7+bHdRpduz0ZgeaihbY/VAif7LePUmauedL6y4Am5e6a479mg6v
 inQReb7wiDyjLRiwn1ss5p6SIvXCMWaVW6fYk5LaZvEKZp0YpdwKQBkEY80F4o3ULNsx
 O0L1+dpd6UWOZL0XRZ3iNGx9YKyG9ymFekCxTh9Rx452tpNu8KFds3F9M0j9YKSDtoo+
 ktSHs8DJdd/AoBoeaFX8ErBK9qudMDw4W4oNlM1qrfSHF6DYsKKYw2VVdFcWsKMS0phQ
 y1FdkQa1STwVO3Fyp5/e5jbecuyKXJLhKCPMuEiV3XdA7pamN238CIz9TBVonaH6FhCX
 78hg==
X-Gm-Message-State: AOJu0Yz++dqBZWRDxRNOxPXU+qONC/OwlcxDSAU023BKSshoemVADGBs
 nYKWDvzbbemxlFvzgpJh069IbCi5Dkq46r7hamilX0W7Xb6R89yGJhp51bjpl30KX+y+bOT/A8r
 2Bf/J8nUWcdWTDcc0Oyj7zcf/dEamEhSkU3qczZV5
X-Google-Smtp-Source: AGHT+IFDwaU50cmNlpv9kB9Ume6m0qW212Qjvvfs1V37KpYxWDNemUU4sEdMdtXd5UNF7Q1Rp6BdGBFhHpc9
X-Received: by 2002:a17:902:d2d2:b0:206:b79e:5780 with SMTP id
 d9443c01a7336-206f0507dc6mr133378995ad.24.1725910583861; 
 Mon, 09 Sep 2024 12:36:23 -0700 (PDT)
Received: from postal.iol.unh.edu (postal.iol.unh.edu. [132.177.123.84])
 by smtp-relay.gmail.com with ESMTPS id
 d9443c01a7336-20710e19264sm1346795ad.8.2024.09.09.12.36.23
 (version=TLS1_2 cipher=ECDHE-ECDSA-AES128-GCM-SHA256 bits=128/128);
 Mon, 09 Sep 2024 12:36:23 -0700 (PDT)
X-Relaying-Domain: iol.unh.edu
Date: Mon, 09 Sep 2024 12:36:23 -0700 (PDT)
Message-ID: <66df4e37.170a0220.76281.ad36SMTPIN_ADDED_MISSING@mx.google.com>
Received: from [172.21.0.3] (unknown [172.18.0.240])
 by postal.iol.unh.edu (Postfix) with ESMTP id 320F2605C380;
 Mon,  9 Sep 2024 15:36:20 -0400 (EDT)
Subject: |SUCCESS| pw143810-143814 [PATCH] [v3,5/5] dts: add testpmd set port
From: dpdklab@iol.unh.edu
To: Test Report <test-report@dpdk.org>
Cc: dpdk-test-reports@iol.unh.edu
In-Reply-To: <20240909110158.1009592-6-luca.vizzarro@arm.com>
References: <20240909110158.1009592-6-luca.vizzarro@arm.com>
Content-Type: text/plain
X-BeenThere: test-report@dpdk.org
X-Mailman-Version: 2.1.29
Precedence: list
List-Id: automatic DPDK test reports <test-report.dpdk.org>
List-Unsubscribe: <https://mails.dpdk.org/options/test-report>,
 <mailto:test-report-request@dpdk.org?subject=unsubscribe>
List-Archive: <http://mails.dpdk.org/archives/test-report/>
List-Post: <mailto:test-report@dpdk.org>
List-Help: <mailto:test-report-request@dpdk.org?subject=help>
List-Subscribe: <https://mails.dpdk.org/listinfo/test-report>,
 <mailto:test-report-request@dpdk.org?subject=subscribe>
Errors-To: test-report-bounces@dpdk.org

Test-Label: iol-compile-arm64-testing
Test-Status: SUCCESS
http://dpdk.org/patch/143814

_Testing PASS_

Submitter: Luca Vizzarro <luca.vizzarro@arm.com>
Date: Monday, September 09 2024 11:01:58 
DPDK git baseline: Repo:dpdk
  Branch: master
  CommitID:41dd9a6bc2d9c6e20e139ad713cc9d172572dd43

143810-143814 --> testing pass

Upstream job id: Generic-DPDK-Compile-Meson#298017

Test environment and result as below:

+----------------------------------------+--------------------+
|              Environment               | dpdk_meson_compile |
+========================================+====================+
| RHEL9 (ARM)                            | PASS               |
+----------------------------------------+--------------------+
| Ubuntu 20.04 ARM GCC Cross Compile     | PASS               |
+----------------------------------------+--------------------+
| Ubuntu 20.04 ARM SVE                   | PASS               |
+----------------------------------------+--------------------+
| Debian 12 with MUSDK                   | PASS               |
+----------------------------------------+--------------------+
| Fedora 37 (ARM)                        | PASS               |
+----------------------------------------+--------------------+
| Fedora 38 (ARM)                        | PASS               |
+----------------------------------------+--------------------+
| Fedora 38 (ARM Clang)                  | PASS               |
+----------------------------------------+--------------------+
| Fedora 39 (ARM)                        | PASS               |
+----------------------------------------+--------------------+
| Fedora 39 (ARM Clang)                  | PASS               |
+----------------------------------------+--------------------+
| Fedora 40 (ARM)                        | PASS               |
+----------------------------------------+--------------------+
| Fedora 40 (ARM Clang)                  | PASS               |
+----------------------------------------+--------------------+
| Ubuntu 20.04 (ARM)                     | PASS               |
+----------------------------------------+--------------------+
| Ubuntu 22.04 (ARM)                     | PASS               |
+----------------------------------------+--------------------+
| Ubuntu 24.04 (ARM)                     | PASS               |
+----------------------------------------+--------------------+
| CentOS Stream 9 (ARM)                  | PASS               |
+----------------------------------------+--------------------+
| Debian 11 (Buster) (ARM)               | PASS               |
+----------------------------------------+--------------------+
| Debian 12 (arm)                        | PASS               |
+----------------------------------------+--------------------+
| Ubuntu 20.04 ARM Clang Cross Compile   | PASS               |
+----------------------------------------+--------------------+
| Ubuntu 20.04 aarch32 GCC Cross Compile | PASS               |
+----------------------------------------+--------------------+


RHEL9 (ARM)
	Kernel: Depends on container host
	Compiler: gcc 11.4.1 20231218 (Red Hat 11.4.1-3)

Ubuntu 20.04 ARM GCC Cross Compile
	Kernel: Depends on container host
	Compiler: aarch64-linux-gnu-gcc (Ubuntu 9.4.0-1ubuntu1~20.04.2) 9.4.0

Ubuntu 20.04 ARM SVE
	Kernel: Depends on container host
	Compiler: gcc (Ubuntu 10.5.0-1ubuntu1~20.04) 10.5.0

Debian 12 with MUSDK
	Kernel: Depends on container host
	Compiler: gcc (Debian 12.2.0-14) 12.2.0

Fedora 37 (ARM)
	Kernel: Depends on container host
	Compiler: gcc 12.3.1 20230508 (Red Hat 12.3.1-1)

Fedora 38 (ARM)
	Kernel: Depends on container host
	Compiler: gcc 13.2.1 20240316 (Red Hat 13.2.1-7)

Fedora 38 (ARM Clang)
	Kernel: Depends on container host
	Compiler: clang 16.0.6 (Fedora 16.0.6-4.fc38)

Fedora 39 (ARM)
	Kernel: Depends on container host
	Compiler: gcc 13.3.1 20240522 (Red Hat 13.3.1-1)

Fedora 39 (ARM Clang)
	Kernel: Depends on container host
	Compiler: clang 17.0.6 (Fedora 17.0.6-2.fc39)

Fedora 40 (ARM)
	Kernel: Depends on container host
	Compiler: gcc 14.2.1 20240801 (Red Hat 14.2.1-1)

Fedora 40 (ARM Clang)
	Kernel: Depends on container host
	Compiler: clang 18.1.6 (Fedora 18.1.6-3.fc40)

Ubuntu 20.04 (ARM)
	Kernel: Depends on container host
	Compiler: gcc (Ubuntu 9.4.0-1ubuntu1~20.04.2) 9.4.0

Ubuntu 22.04 (ARM)
	Kernel: Depends on container host
	Compiler: gcc (Ubuntu 11.4.0-1ubuntu1~22.04) 11.4.0

Ubuntu 24.04 (ARM)
	Kernel: Depends on container host
	Compiler: gcc (Ubuntu 13.2.0-23ubuntu4) 13.2.0

CentOS Stream 9 (ARM)
	Kernel: Depends on container host
	Compiler: gcc 11.4.1 20231218 (Red Hat 11.4.1-3)

Debian 11 (Buster) (ARM)
	Kernel: Depends on container host
	Compiler: gcc (Debian 10.2.1-6) 10.2.1 20210110

Debian 12 (arm)
	Kernel: Depends on container host
	Compiler: gcc (Debian 12.2.0-14) 12.2.0

Ubuntu 20.04 ARM Clang Cross Compile
	Kernel: Depends on container host
	Compiler: clang 10.0.0-4ubuntu1

Ubuntu 20.04 aarch32 GCC Cross Compile
	Kernel: Depends on container host
	Compiler: gcc 9.4.0

To view detailed results, visit:
https://lab.dpdk.org/results/dashboard/patchsets/30969/

UNH-IOL DPDK Community Lab

To manage your email subscriptions, visit: 
https://lab.dpdk.org/results/dashboard/preferences/subscriptions/