From mboxrd@z Thu Jan  1 00:00:00 1970
Return-Path: <test-report-bounces@dpdk.org>
Received: from mails.dpdk.org (mails.dpdk.org [217.70.189.124])
	by inbox.dpdk.org (Postfix) with ESMTP id D891F4594C
	for <public@inbox.dpdk.org>; Tue, 10 Sep 2024 01:02:31 +0200 (CEST)
Received: from mails.dpdk.org (localhost [127.0.0.1])
	by mails.dpdk.org (Postfix) with ESMTP id B38FC40299;
	Tue, 10 Sep 2024 01:02:31 +0200 (CEST)
Received: from mail-io1-f98.google.com (mail-io1-f98.google.com
 [209.85.166.98]) by mails.dpdk.org (Postfix) with ESMTP id B7A464021F
 for <test-report@dpdk.org>; Tue, 10 Sep 2024 01:02:29 +0200 (CEST)
Received: by mail-io1-f98.google.com with SMTP id
 ca18e2360f4ac-82cec47242eso47479339f.0
 for <test-report@dpdk.org>; Mon, 09 Sep 2024 16:02:29 -0700 (PDT)
DKIM-Signature: v=1; a=rsa-sha256; c=relaxed/relaxed;
 d=iol.unh.edu; s=unh-iol; t=1725922949; x=1726527749; darn=dpdk.org;
 h=references:in-reply-to:cc:to:from:subject:message-id:date:from:to
 :cc:subject:date:message-id:reply-to;
 bh=XdAhI24SJ7ohq+8F4EhWKHr8XYjd2esv94nfoX1wzy4=;
 b=bRdhMiD4i+CyxziSvFZMKvAT/B0LgWLmOUyHT4AirDR5+vnu18EWXP+wjF5fFFSV/3
 fwLeukW/YLNcZM7fWh+5xNvkRvc7aXe34FUJ3PV2+ahqy+/pKIoEE1Eb3FHkH6Xewbsn
 eLTDwnREA8Zmp5iDOggy6cOVTAVQSUFw4Z87c=
X-Google-DKIM-Signature: v=1; a=rsa-sha256; c=relaxed/relaxed;
 d=1e100.net; s=20230601; t=1725922949; x=1726527749;
 h=references:in-reply-to:cc:to:from:subject:message-id:date
 :x-gm-message-state:from:to:cc:subject:date:message-id:reply-to;
 bh=XdAhI24SJ7ohq+8F4EhWKHr8XYjd2esv94nfoX1wzy4=;
 b=q4gSHNw/prWPR42p0TwZ7C8cyM6OXB056CUyvhefv6ZD+GYJohg7oaqf18TBtSS5cA
 gOHeiROi5G7xMvks4+Ghw3efZHMNHH1GeYMQ8aMVPnMSqJaggdHLixkTC2QPwJYIRL7j
 6eOqyNkh9PNyomO61WW65C6bxTeyWPKv1PwE8o5E0bFhhTFRYbdxTLmHxbhxD4bQqCVz
 eKMMnKNrGId09GKbMbrtcCbCRgaW5295nByYa3xXeucxDlKwcNsGk7RW+hSBqBmH/nFa
 cYRNFpeLXOe+3noFt/5wGuNC3J5SeczUhvappRbGMmxu28CWEbzA/lyV0fd7QzJLqP2g
 U/zA==
X-Gm-Message-State: AOJu0Yyx53b8GGB5bv0T0Np0AY/Ik2fzJtZ/JJ6EQ0ZVOK2PfUqi/yDr
 BAVh1fK9t/UG/Dx5XYZOVlNE0iPvW1YhAJcXYhtUPw/lp4BktdDhjARbQsoLm2zHEusSKPMnroo
 6oLHuNWmpeGDCfTTtxevG+OpH30YIUP1V6EpzFjG0
X-Google-Smtp-Source: AGHT+IHIrmnHt6vKTlgnv7TeV4/q3azApILtTDB5sNkYycl1Q6LLI4loX2iRinBpx7jNX4kxypDMKQOtqz+q
X-Received: by 2002:a05:6e02:1b01:b0:39e:69bc:a7fe with SMTP id
 e9e14a558f8ab-3a06b15a345mr12248985ab.10.1725922948911; 
 Mon, 09 Sep 2024 16:02:28 -0700 (PDT)
Received: from postal.iol.unh.edu (postal.iol.unh.edu. [132.177.123.84])
 by smtp-relay.gmail.com with ESMTPS id
 8926c6da1cb9f-4d09464e14fsm278018173.65.2024.09.09.16.02.28
 (version=TLS1_2 cipher=ECDHE-ECDSA-AES128-GCM-SHA256 bits=128/128);
 Mon, 09 Sep 2024 16:02:28 -0700 (PDT)
X-Relaying-Domain: iol.unh.edu
Date: Mon, 09 Sep 2024 16:02:28 -0700 (PDT)
Message-ID: <66df7e84.050a0220.27693a.7093SMTPIN_ADDED_MISSING@mx.google.com>
Received: from [172.21.0.3] (unknown [172.18.0.240])
 by postal.iol.unh.edu (Postfix) with ESMTP id B85A7605C381;
 Mon,  9 Sep 2024 19:02:25 -0400 (EDT)
Subject: |SUCCESS| pw143775-143785 [PATCH] [11/11] drivers: use per line logg
From: dpdklab@iol.unh.edu
To: Test Report <test-report@dpdk.org>
Cc: dpdk-test-reports@iol.unh.edu
In-Reply-To: <20240907145433.1479091-12-david.marchand@redhat.com>
References: <20240907145433.1479091-12-david.marchand@redhat.com>
Content-Type: text/plain
X-BeenThere: test-report@dpdk.org
X-Mailman-Version: 2.1.29
Precedence: list
List-Id: automatic DPDK test reports <test-report.dpdk.org>
List-Unsubscribe: <https://mails.dpdk.org/options/test-report>,
 <mailto:test-report-request@dpdk.org?subject=unsubscribe>
List-Archive: <http://mails.dpdk.org/archives/test-report/>
List-Post: <mailto:test-report@dpdk.org>
List-Help: <mailto:test-report-request@dpdk.org?subject=help>
List-Subscribe: <https://mails.dpdk.org/listinfo/test-report>,
 <mailto:test-report-request@dpdk.org?subject=subscribe>
Errors-To: test-report-bounces@dpdk.org

Test-Label: iol-compile-amd64-testing
Test-Status: SUCCESS
http://dpdk.org/patch/143785

_Testing PASS_

Submitter: David Marchand <david.marchand@redhat.com>
Date: Saturday, September 07 2024 14:54:31 
DPDK git baseline: Repo:dpdk
  Branch: master
  CommitID:41dd9a6bc2d9c6e20e139ad713cc9d172572dd43

143775-143785 --> testing pass

Upstream job id: Windows-Compile-DPDK-Native#22062

Test environment and result as below:

+---------------------+--------------------+-----------------------+----------------------+-------------------+
|     Environment     | dpdk_meson_compile | dpdk_win_llvm_compile | dpdk_mingw64_compile | dpdk_msvc_compile |
+=====================+====================+=======================+======================+===================+
| FreeBSD 13.3        | PASS               | SKIPPED               | SKIPPED              | SKIPPED           |
+---------------------+--------------------+-----------------------+----------------------+-------------------+
| FreeBSD 14.1        | PASS               | SKIPPED               | SKIPPED              | SKIPPED           |
+---------------------+--------------------+-----------------------+----------------------+-------------------+
| Windows Server 2022 | SKIPPED            | PASS                  | PASS                 | PASS              |
+---------------------+--------------------+-----------------------+----------------------+-------------------+


FreeBSD 13.3
	Kernel: 13.3-RELEASE-p5
	Compiler: clang 17.0.6

FreeBSD 14.1
	Kernel: 14.1-RELEASE-p3
	Compiler: clang 18.1.5

Windows Server 2022
	Kernel: 10.0.20348.2031
	Compiler: clang 15.0.7, gcc 14.1.0 (MinGW), and MSVC VS 19.39.33521

To view detailed results, visit:
https://lab.dpdk.org/results/dashboard/patchsets/30959/

UNH-IOL DPDK Community Lab

To manage your email subscriptions, visit: 
https://lab.dpdk.org/results/dashboard/preferences/subscriptions/