From mboxrd@z Thu Jan  1 00:00:00 1970
Return-Path: <test-report-bounces@dpdk.org>
Received: from mails.dpdk.org (mails.dpdk.org [217.70.189.124])
	by inbox.dpdk.org (Postfix) with ESMTP id 823474594F
	for <public@inbox.dpdk.org>; Tue, 10 Sep 2024 07:13:02 +0200 (CEST)
Received: from mails.dpdk.org (localhost [127.0.0.1])
	by mails.dpdk.org (Postfix) with ESMTP id 6063B4021F;
	Tue, 10 Sep 2024 07:13:02 +0200 (CEST)
Received: from mail-qv1-f100.google.com (mail-qv1-f100.google.com
 [209.85.219.100])
 by mails.dpdk.org (Postfix) with ESMTP id 73B6040151
 for <test-report@dpdk.org>; Tue, 10 Sep 2024 07:13:01 +0200 (CEST)
Received: by mail-qv1-f100.google.com with SMTP id
 6a1803df08f44-6c54a5fbceeso10064256d6.2
 for <test-report@dpdk.org>; Mon, 09 Sep 2024 22:13:01 -0700 (PDT)
DKIM-Signature: v=1; a=rsa-sha256; c=relaxed/relaxed;
 d=iol.unh.edu; s=unh-iol; t=1725945180; x=1726549980; darn=dpdk.org;
 h=references:in-reply-to:cc:to:from:subject:message-id:date:from:to
 :cc:subject:date:message-id:reply-to;
 bh=m7k0yHtHrCr75vvieM/oIXpCO6NZW98i6mtWRujj1Ko=;
 b=f9HDprtzTQf05FRVmmISOBE/Frwk67BSPSYRwh8WjP0ll+m574RuyaBspRGT3lI/Tz
 Do1ygxLWOJKxtwOWAZKdV/WKxCq0eJnB5Q87FiGZZB2of7BGinoTG2Zax/wlFiTRBcN9
 JfAnqKa6nO5H+B4zBQhieIJA7KquEPi2geNzw=
X-Google-DKIM-Signature: v=1; a=rsa-sha256; c=relaxed/relaxed;
 d=1e100.net; s=20230601; t=1725945180; x=1726549980;
 h=references:in-reply-to:cc:to:from:subject:message-id:date
 :x-gm-message-state:from:to:cc:subject:date:message-id:reply-to;
 bh=m7k0yHtHrCr75vvieM/oIXpCO6NZW98i6mtWRujj1Ko=;
 b=jzXku3Rtf+bEC4Omcbmm3ufWZEYlXLNde18HllZKfwC/hVf5G7fqmKobr8WxAsv9mg
 GnHEtZinhzq2ieGvID24CfDyCY5mGCjMzQ4SZrk2Zj7WMZCY9Ikkvf0JCA3SO3crarUy
 VWshMTIp4ZFamCYozb0NUxAImoXa0AQIyiLOl9qOJeadRivNcyk9frLwEggwnyyld4Rb
 XSYOqPajRxFadgugOmhiYVc7Uc11NVzLaimI3twpWjwQoXo4YtypSOTkqseNozxex9l5
 CzSL35UnQtlQEY+92cTXJsX99ajDaUxi1yXFefBOdcOPgCCJ96zXbQoObAuCQcsq3S9i
 QDcQ==
X-Gm-Message-State: AOJu0Yzq3ESUKt9qGPW9EqBtSQg6eCvEZeFc0ky207VpMzYf3u7VsRH7
 bhG8+Sq2lgYv4juMVBS+1b3uqcz4RPPgwCRNfvUyExNDYcjBHAVOsZAeYv4fAj+7jD2+zLJkXso
 OU4JWmUUq5Wj75JDERXMjuAIlzl1YlRP/HWFUU2Av
X-Google-Smtp-Source: AGHT+IGWovPPOodJ64dNgn06Ho/xXYlzko0O+flgQzl9/yQTSQX0I4ziNrFUTWuUguyX/96QOm3uyWBm3WaJ
X-Received: by 2002:a05:6214:3b81:b0:6c3:53a9:d610 with SMTP id
 6a1803df08f44-6c528508b89mr153266696d6.38.1725945180726; 
 Mon, 09 Sep 2024 22:13:00 -0700 (PDT)
Received: from postal.iol.unh.edu (postal.iol.unh.edu. [132.177.123.84])
 by smtp-relay.gmail.com with ESMTPS id
 6a1803df08f44-6c534720cadsm2243156d6.44.2024.09.09.22.13.00
 (version=TLS1_2 cipher=ECDHE-ECDSA-AES128-GCM-SHA256 bits=128/128);
 Mon, 09 Sep 2024 22:13:00 -0700 (PDT)
X-Relaying-Domain: iol.unh.edu
Date: Mon, 09 Sep 2024 22:13:00 -0700 (PDT)
Message-ID: <66dfd55c.0c0a0220.22f3b4.2402SMTPIN_ADDED_MISSING@mx.google.com>
Received: from [172.21.0.2] (unknown [172.18.0.240])
 by postal.iol.unh.edu (Postfix) with ESMTP id 58EEA605C380;
 Tue, 10 Sep 2024 01:12:56 -0400 (EDT)
Subject: |SUCCESS| pw143766-143767 [PATCH] [2/2] eal: detect supported driver
From: dpdklab@iol.unh.edu
To: Test Report <test-report@dpdk.org>
Cc: dpdk-test-reports@iol.unh.edu
In-Reply-To: <20240906210637.630356-2-wathsala.vithanage@arm.com>
References: <20240906210637.630356-2-wathsala.vithanage@arm.com>
Content-Type: text/plain
X-BeenThere: test-report@dpdk.org
X-Mailman-Version: 2.1.29
Precedence: list
List-Id: automatic DPDK test reports <test-report.dpdk.org>
List-Unsubscribe: <https://mails.dpdk.org/options/test-report>,
 <mailto:test-report-request@dpdk.org?subject=unsubscribe>
List-Archive: <http://mails.dpdk.org/archives/test-report/>
List-Post: <mailto:test-report@dpdk.org>
List-Help: <mailto:test-report-request@dpdk.org?subject=help>
List-Subscribe: <https://mails.dpdk.org/listinfo/test-report>,
 <mailto:test-report-request@dpdk.org?subject=subscribe>
Errors-To: test-report-bounces@dpdk.org

Test-Label: iol-unit-amd64-testing
Test-Status: SUCCESS
http://dpdk.org/patch/143767

_Testing PASS_

Submitter: Wathsala Vithanage <wathsala.vithanage@arm.com>
Date: Friday, September 06 2024 21:06:37 
DPDK git baseline: Repo:dpdk
  Branch: master
  CommitID:41dd9a6bc2d9c6e20e139ad713cc9d172572dd43

143766-143767 --> testing pass

Upstream job id: Generic-Unit-Test-DPDK#260496

Test environment and result as below:

+---------------------+----------------+
|     Environment     | dpdk_unit_test |
+=====================+================+
| Windows Server 2022 | PASS           |
+---------------------+----------------+
| CentOS Stream 9     | PASS           |
+---------------------+----------------+
| Debian 12           | PASS           |
+---------------------+----------------+
| Debian Bullseye     | PASS           |
+---------------------+----------------+
| Fedora 38           | PASS           |
+---------------------+----------------+
| Fedora 38 (Clang)   | PASS           |
+---------------------+----------------+
| Fedora 39           | PASS           |
+---------------------+----------------+
| Fedora 39 (Clang)   | PASS           |
+---------------------+----------------+
| Fedora 40           | PASS           |
+---------------------+----------------+
| RHEL9               | PASS           |
+---------------------+----------------+
| Fedora 40 (Clang)   | PASS           |
+---------------------+----------------+
| Ubuntu 20.04        | PASS           |
+---------------------+----------------+
| RHEL8               | PASS           |
+---------------------+----------------+
| Ubuntu 24.04        | PASS           |
+---------------------+----------------+
| Fedora 37           | PASS           |
+---------------------+----------------+
| Ubuntu 22.04        | PASS           |
+---------------------+----------------+


Windows Server 2022
	Kernel: 10.0.20348.2031
	Compiler: clang 15.0.7, gcc 14.1.0 (MinGW), and MSVC VS 19.39.33521

CentOS Stream 9
	Kernel: Depends on container host
	Compiler: gcc 11.4.1 20231218 (Red Hat 11.4.1-3)

Debian 12
	Kernel: Depends on container host
	Compiler: gcc (Debian 12.2.0-14) 12.2.0

Debian Bullseye
	Kernel: Depends on container host
	Compiler: gcc (Debian 10.2.1-6) 10.2.1 20210110

Fedora 38
	Kernel: Depends on container host
	Compiler: gcc 13.2.1 20240316 (Red Hat 13.2.1-7)

Fedora 38 (Clang)
	Kernel: Depends on container host
	Compiler: clang 16.0.6 (Fedora 16.0.6-4.fc38)

Fedora 39
	Kernel: Depends on container host
	Compiler: gcc 13.3.1 20240522 (Red Hat 13.3.1-1)

Fedora 39 (Clang)
	Kernel: Depends on container host
	Compiler: clang 17.0.6 (Fedora 17.0.6-2.fc39)

Fedora 40
	Kernel: Depends on container host
	Compiler: gcc 14.2.1 20240801 (Red Hat 14.2.1-1)

RHEL9
	Kernel: Depends on container host
	Compiler: gcc 11.4.1 20231218 (Red Hat 11.4.1-3)

Fedora 40 (Clang)
	Kernel: Depends on container host
	Compiler: clang 18.1.6 (Fedora 18.1.6-3.fc40)

Ubuntu 20.04
	Kernel: Depends on container host
	Compiler: gcc (Ubuntu 9.4.0-1ubuntu1~20.04.2) 9.4.0

RHEL8
	Kernel: Depends on container host
	Compiler: gcc 8.5.0 20210514 (Red Hat 8.5.0-22)

Ubuntu 24.04
	Kernel: Depends on container host
	Compiler: gcc (Ubuntu 13.2.0-23ubuntu4) 13.2.0

Fedora 37
	Kernel: Depends on container host system
	Compiler: gcc 12.3.1 20230508 (Red Hat 12.3.1-1)

Ubuntu 22.04
	Kernel: Depends on container host
	Compiler: gcc (Ubuntu 11.4.0-1ubuntu1~22.04) 11.4.0

To view detailed results, visit:
https://lab.dpdk.org/results/dashboard/patchsets/30955/

UNH-IOL DPDK Community Lab

To manage your email subscriptions, visit: 
https://lab.dpdk.org/results/dashboard/preferences/subscriptions/