From mboxrd@z Thu Jan  1 00:00:00 1970
Return-Path: <test-report-bounces@dpdk.org>
Received: from mails.dpdk.org (mails.dpdk.org [217.70.189.124])
	by inbox.dpdk.org (Postfix) with ESMTP id 8AE2545954
	for <public@inbox.dpdk.org>; Tue, 10 Sep 2024 11:20:59 +0200 (CEST)
Received: from mails.dpdk.org (localhost [127.0.0.1])
	by mails.dpdk.org (Postfix) with ESMTP id 77B1742DA3;
	Tue, 10 Sep 2024 11:20:59 +0200 (CEST)
Received: from mail-yb1-f226.google.com (mail-yb1-f226.google.com
 [209.85.219.226])
 by mails.dpdk.org (Postfix) with ESMTP id 8A7E742D7D
 for <test-report@dpdk.org>; Tue, 10 Sep 2024 11:20:56 +0200 (CEST)
Received: by mail-yb1-f226.google.com with SMTP id
 3f1490d57ef6-e1a9dc3efc1so6014040276.2
 for <test-report@dpdk.org>; Tue, 10 Sep 2024 02:20:56 -0700 (PDT)
DKIM-Signature: v=1; a=rsa-sha256; c=relaxed/relaxed;
 d=iol.unh.edu; s=unh-iol; t=1725960056; x=1726564856; darn=dpdk.org;
 h=references:in-reply-to:cc:to:from:subject:message-id:date:from:to
 :cc:subject:date:message-id:reply-to;
 bh=V20yIFVkjkTJ8LRMpIRp6BxsCTA9G+HSsKW43mUBf9E=;
 b=iMbD77f/OdPrwcHyEAsTUJfTzJGyM9It24zgWGfC93Kt/bszcsjyH4JOUiNH8GhBAD
 KgGL1hqK1uqGYmEFcS+H++sdi3AkwHvw//hfSW219a24wWRkvMleOs/nCvMwZ1rAwvqa
 jNdXbNxuVpOqXHaxo6WxmozlPW2rIuQfai4KU=
X-Google-DKIM-Signature: v=1; a=rsa-sha256; c=relaxed/relaxed;
 d=1e100.net; s=20230601; t=1725960056; x=1726564856;
 h=references:in-reply-to:cc:to:from:subject:message-id:date
 :x-gm-message-state:from:to:cc:subject:date:message-id:reply-to;
 bh=V20yIFVkjkTJ8LRMpIRp6BxsCTA9G+HSsKW43mUBf9E=;
 b=iC21tJx8y4X7n1TofS64zyZAQIbCzdkagnjaIy/JMk7q10X49xc15XJitACLTCN/Kh
 x3QUlP06FAUzAvtHcjB4FivGD1GJXD6WOqhOAm1pUPmgQKQMyiy67kOjjJjVS8eAxj29
 wYOSE660dSZjTiVXs/8cY880DYZEFrGlvGC1q0RNzQakU1fioZ8CILoTy4l8dnbrwHG5
 y80lFpMtDt4OC1n5bOrfMBk5Y1o6XnTGt+OqAQUG5lfi1Jf8T21aYzlGnNoRelHelSMi
 eeshAFJR5rClX3ODwjwuvb1A47QYr9qpumx2J27fmW1+TrxZKG0zvTwa1H3154lhurHj
 FdSg==
X-Gm-Message-State: AOJu0YxZ+O++dNuZ8OfFvjQR6xk8ax3qE+IXaRcL2/eydb0cxuTm5oDY
 AX7bjoyMyCtD+ZWzuZ2sJ9VQezpZ6cvTessuSXLbQmqx2c8wpZDQfw8ojTYnhxJMQ+jUxd6lU1y
 RCLIJjf55tVQHip3SDMxUQAUaB6VXxf7szFeO+j1+
X-Google-Smtp-Source: AGHT+IH+U8GtyZTxjpoS4F7t6YrR7zu52xdD7Ay6x/nqnzXAsCGz4lp6Uur2Slt9we4OcdjnTbVjuUAlxQMY
X-Received: by 2002:a05:6902:2589:b0:e1a:419c:976d with SMTP id
 3f1490d57ef6-e1d34896cb4mr13197222276.27.1725960055919; 
 Tue, 10 Sep 2024 02:20:55 -0700 (PDT)
Received: from postal.iol.unh.edu (postal.iol.unh.edu. [132.177.123.84])
 by smtp-relay.gmail.com with ESMTPS id
 3f1490d57ef6-e1d7bbc1a7dsm62541276.35.2024.09.10.02.20.55
 (version=TLS1_2 cipher=ECDHE-ECDSA-AES128-GCM-SHA256 bits=128/128);
 Tue, 10 Sep 2024 02:20:55 -0700 (PDT)
X-Relaying-Domain: iol.unh.edu
Date: Tue, 10 Sep 2024 02:20:55 -0700 (PDT)
Message-ID: <66e00f77.250a0220.223828.4793SMTPIN_ADDED_MISSING@mx.google.com>
Received: from [172.17.0.5] (unknown [172.18.0.217])
 by postal.iol.unh.edu (Postfix) with ESMTP id D68156050A73;
 Tue, 10 Sep 2024 05:20:51 -0400 (EDT)
Subject: |SUCCESS| pw143753-143756 [PATCH] [RFC,4/4] test/thash: add tests fo
From: dpdklab@iol.unh.edu
To: Test Report <test-report@dpdk.org>
Cc: dpdk-test-reports@iol.unh.edu
In-Reply-To: <20240906165318.1322550-5-vladimir.medvedkin@intel.com>
References: <20240906165318.1322550-5-vladimir.medvedkin@intel.com>
Content-Type: text/plain
X-BeenThere: test-report@dpdk.org
X-Mailman-Version: 2.1.29
Precedence: list
List-Id: automatic DPDK test reports <test-report.dpdk.org>
List-Unsubscribe: <https://mails.dpdk.org/options/test-report>,
 <mailto:test-report-request@dpdk.org?subject=unsubscribe>
List-Archive: <http://mails.dpdk.org/archives/test-report/>
List-Post: <mailto:test-report@dpdk.org>
List-Help: <mailto:test-report-request@dpdk.org?subject=help>
List-Subscribe: <https://mails.dpdk.org/listinfo/test-report>,
 <mailto:test-report-request@dpdk.org?subject=subscribe>
Errors-To: test-report-bounces@dpdk.org

Test-Label: iol-compile-amd64-testing
Test-Status: SUCCESS
http://dpdk.org/patch/143756

_Testing PASS_

Submitter: Vladimir Medvedkin <vladimir.medvedkin@intel.com>
Date: Friday, September 06 2024 16:53:18 
DPDK git baseline: Repo:dpdk
  Branch: master
  CommitID:41dd9a6bc2d9c6e20e139ad713cc9d172572dd43

143753-143756 --> testing pass

Upstream job id: Windows-Compile-DPDK-VS#3048

Test environment and result as below:

+---------------------+-----------------------+----------------------+--------------------+-------------------+
|     Environment     | dpdk_win_llvm_compile | dpdk_mingw64_compile | dpdk_meson_compile | dpdk_msvc_compile |
+=====================+=======================+======================+====================+===================+
| Windows Server 2022 | PASS                  | PASS                 | SKIPPED            | PASS              |
+---------------------+-----------------------+----------------------+--------------------+-------------------+
| FreeBSD 13.3        | SKIPPED               | SKIPPED              | PASS               | SKIPPED           |
+---------------------+-----------------------+----------------------+--------------------+-------------------+
| FreeBSD 14.1        | SKIPPED               | SKIPPED              | PASS               | SKIPPED           |
+---------------------+-----------------------+----------------------+--------------------+-------------------+


Windows Server 2022
	Kernel: 10.0.20348.2031
	Compiler: clang 15.0.7, gcc 14.1.0 (MinGW), and MSVC VS 19.39.33521

FreeBSD 13.3
	Kernel: 13.3-RELEASE-p5
	Compiler: clang 17.0.6

FreeBSD 14.1
	Kernel: 14.1-RELEASE-p3
	Compiler: clang 18.1.5

To view detailed results, visit:
https://lab.dpdk.org/results/dashboard/patchsets/30947/

UNH-IOL DPDK Community Lab

To manage your email subscriptions, visit: 
https://lab.dpdk.org/results/dashboard/preferences/subscriptions/