From mboxrd@z Thu Jan  1 00:00:00 1970
Return-Path: <test-report-bounces@dpdk.org>
Received: from mails.dpdk.org (mails.dpdk.org [217.70.189.124])
	by inbox.dpdk.org (Postfix) with ESMTP id 1315745955
	for <public@inbox.dpdk.org>; Tue, 10 Sep 2024 13:41:00 +0200 (CEST)
Received: from mails.dpdk.org (localhost [127.0.0.1])
	by mails.dpdk.org (Postfix) with ESMTP id F2F0E402AB;
	Tue, 10 Sep 2024 13:40:59 +0200 (CEST)
Received: from mail-yb1-f228.google.com (mail-yb1-f228.google.com
 [209.85.219.228])
 by mails.dpdk.org (Postfix) with ESMTP id 36373400D6
 for <test-report@dpdk.org>; Tue, 10 Sep 2024 13:40:58 +0200 (CEST)
Received: by mail-yb1-f228.google.com with SMTP id
 3f1490d57ef6-e0b7efa1c1bso5420507276.3
 for <test-report@dpdk.org>; Tue, 10 Sep 2024 04:40:58 -0700 (PDT)
DKIM-Signature: v=1; a=rsa-sha256; c=relaxed/relaxed;
 d=iol.unh.edu; s=unh-iol; t=1725968457; x=1726573257; darn=dpdk.org;
 h=references:in-reply-to:cc:to:from:subject:message-id:date:from:to
 :cc:subject:date:message-id:reply-to;
 bh=w9bPBcRGZqs0NcYCCPZCsx9Dtjp02ONfMYh4xzDPmmY=;
 b=TfJyGJ5ksFSO+HIjlgLVRJnuqclA3gHwKhwlIfHfAIi5ZYjRTvbjh7Kt/nMwcW2+yL
 MdOhL9iG2LbMap/oWr6WuqjMwTKDzsaDCZ8qZwy/RCiMOWylDm89Ppn/MW6CXIpEP9z0
 wdEr5iMo4/uwFShugyLfGOxlh7C9wRKXl6mT8=
X-Google-DKIM-Signature: v=1; a=rsa-sha256; c=relaxed/relaxed;
 d=1e100.net; s=20230601; t=1725968457; x=1726573257;
 h=references:in-reply-to:cc:to:from:subject:message-id:date
 :x-gm-message-state:from:to:cc:subject:date:message-id:reply-to;
 bh=w9bPBcRGZqs0NcYCCPZCsx9Dtjp02ONfMYh4xzDPmmY=;
 b=bvaDe62HaNQMje7C4yXbDNuU3RZ9trUz+EjiKAN+J7SVTH/bEVBiOHaekTRFrzK9Qu
 ZSgXUkvz0MuTK6Z/gKOKyojQtVmrgttRhlMzon4QPnFfA/1gl+ar3cnweUMTrM2joJMO
 JXJ0H+i611Am3oaaLhHkHvCcco+CWUo2C+sRFt0dXjn4QiAPCpcyLSVsOo5lCqUf9J5q
 YIJ7+quRpYjKAxslKx/tMkf8XWvyLMAzWIQqD2dsnSPYBts8PcS+G46SjWHYEI7L26jT
 G/1rl0rtC8DsPKKCGoit85rJxjJBNYnKLs04iPcocUsYqgVwybd++ZKLPTyGLQDL1n9g
 pP/Q==
X-Gm-Message-State: AOJu0YzH+OIs4EmxMuPKPm6jODfbXWs9ZTR9fVCVBMZECGIWg9MBznaY
 f+qZl3GEfvpB1FQjjGbe15KAo7FRPuVriKqi45MuBDpSkCJrhP7NjO12cejd4jvvo/basw31MxO
 351yOIi8Y4kHjlrIViK5ZtxnyzZQvs4Tr7OjxSixT0o7nKyeA7jhjSp8e
X-Google-Smtp-Source: AGHT+IEZUJFqOxxjtMv+5k7b+QaF+IQa/P/fKZBwYqKcB072gDBHKx20epbXgb/7H7iiugnFGEHA1JSJkSe3
X-Received: by 2002:a05:6902:983:b0:e11:6a21:2270 with SMTP id
 3f1490d57ef6-e1d34866d18mr13095799276.6.1725968457439; 
 Tue, 10 Sep 2024 04:40:57 -0700 (PDT)
Received: from postal.iol.unh.edu (postal.iol.unh.edu.
 [2606:4100:3880:1234::84]) by smtp-relay.gmail.com with ESMTPS id
 3f1490d57ef6-e1d7b9e335dsm66747276.7.2024.09.10.04.40.56
 (version=TLS1_2 cipher=ECDHE-ECDSA-AES128-GCM-SHA256 bits=128/128);
 Tue, 10 Sep 2024 04:40:57 -0700 (PDT)
X-Relaying-Domain: iol.unh.edu
Date: Tue, 10 Sep 2024 04:40:57 -0700 (PDT)
Message-ID: <66e03049.250a0220.2e6995.4fdeSMTPIN_ADDED_MISSING@mx.google.com>
Received: from [172.21.0.2] (unknown [172.18.0.240])
 by postal.iol.unh.edu (Postfix) with ESMTP id 56A246050A73;
 Tue, 10 Sep 2024 07:40:52 -0400 (EDT)
Subject: |SUCCESS| pw143753-143756 [PATCH] [RFC,4/4] test/thash: add tests fo
From: dpdklab@iol.unh.edu
To: Test Report <test-report@dpdk.org>
Cc: dpdk-test-reports@iol.unh.edu
In-Reply-To: <20240906165318.1322550-5-vladimir.medvedkin@intel.com>
References: <20240906165318.1322550-5-vladimir.medvedkin@intel.com>
Content-Type: text/plain
X-BeenThere: test-report@dpdk.org
X-Mailman-Version: 2.1.29
Precedence: list
List-Id: automatic DPDK test reports <test-report.dpdk.org>
List-Unsubscribe: <https://mails.dpdk.org/options/test-report>,
 <mailto:test-report-request@dpdk.org?subject=unsubscribe>
List-Archive: <http://mails.dpdk.org/archives/test-report/>
List-Post: <mailto:test-report@dpdk.org>
List-Help: <mailto:test-report-request@dpdk.org?subject=help>
List-Subscribe: <https://mails.dpdk.org/listinfo/test-report>,
 <mailto:test-report-request@dpdk.org?subject=subscribe>
Errors-To: test-report-bounces@dpdk.org

Test-Label: iol-compile-amd64-testing
Test-Status: SUCCESS
http://dpdk.org/patch/143756

_Testing PASS_

Submitter: Vladimir Medvedkin <vladimir.medvedkin@intel.com>
Date: Friday, September 06 2024 16:53:18 
DPDK git baseline: Repo:dpdk
  Branch: master
  CommitID:41dd9a6bc2d9c6e20e139ad713cc9d172572dd43

143753-143756 --> testing pass

Upstream job id: Generic-DPDK-Compile-Meson#298604

Test environment and result as below:

+---------------------+-----------------------+----------------------+--------------------+-------------------+------------------+-------------------+
|     Environment     | dpdk_win_llvm_compile | dpdk_mingw64_compile | dpdk_meson_compile | dpdk_msvc_compile | dpdk_compile_ovs | dpdk_compile_spdk |
+=====================+=======================+======================+====================+===================+==================+===================+
| Windows Server 2022 | PASS                  | PASS                 | SKIPPED            | PASS              | SKIPPED          | SKIPPED           |
+---------------------+-----------------------+----------------------+--------------------+-------------------+------------------+-------------------+
| FreeBSD 13.3        | SKIPPED               | SKIPPED              | PASS               | SKIPPED           | SKIPPED          | SKIPPED           |
+---------------------+-----------------------+----------------------+--------------------+-------------------+------------------+-------------------+
| FreeBSD 14.1        | SKIPPED               | SKIPPED              | PASS               | SKIPPED           | SKIPPED          | SKIPPED           |
+---------------------+-----------------------+----------------------+--------------------+-------------------+------------------+-------------------+
| CentOS Stream 9     | SKIPPED               | SKIPPED              | PASS               | SKIPPED           | PASS             | PASS              |
+---------------------+-----------------------+----------------------+--------------------+-------------------+------------------+-------------------+
| Debian Bullseye     | SKIPPED               | SKIPPED              | PASS               | SKIPPED           | PASS             | PASS              |
+---------------------+-----------------------+----------------------+--------------------+-------------------+------------------+-------------------+
| Debian 12           | SKIPPED               | SKIPPED              | PASS               | SKIPPED           | PASS             | PASS              |
+---------------------+-----------------------+----------------------+--------------------+-------------------+------------------+-------------------+
| Fedora 37           | SKIPPED               | SKIPPED              | PASS               | SKIPPED           | PASS             | PASS              |
+---------------------+-----------------------+----------------------+--------------------+-------------------+------------------+-------------------+
| Fedora 38 (Clang)   | SKIPPED               | SKIPPED              | PASS               | SKIPPED           | PASS             | PASS              |
+---------------------+-----------------------+----------------------+--------------------+-------------------+------------------+-------------------+
| Fedora 38           | SKIPPED               | SKIPPED              | PASS               | SKIPPED           | PASS             | PASS              |
+---------------------+-----------------------+----------------------+--------------------+-------------------+------------------+-------------------+
| Fedora 39 (Clang)   | SKIPPED               | SKIPPED              | PASS               | SKIPPED           | PASS             | PASS              |
+---------------------+-----------------------+----------------------+--------------------+-------------------+------------------+-------------------+
| Fedora 39           | SKIPPED               | SKIPPED              | PASS               | SKIPPED           | PASS             | PASS              |
+---------------------+-----------------------+----------------------+--------------------+-------------------+------------------+-------------------+
| Fedora 40 (Clang)   | SKIPPED               | SKIPPED              | PASS               | SKIPPED           | PASS             | PASS              |
+---------------------+-----------------------+----------------------+--------------------+-------------------+------------------+-------------------+
| Fedora 40           | SKIPPED               | SKIPPED              | PASS               | SKIPPED           | PASS             | PASS              |
+---------------------+-----------------------+----------------------+--------------------+-------------------+------------------+-------------------+
| openSUSE Leap 15    | SKIPPED               | SKIPPED              | PASS               | SKIPPED           | PASS             | SKIPPED           |
+---------------------+-----------------------+----------------------+--------------------+-------------------+------------------+-------------------+
| RHEL8               | SKIPPED               | SKIPPED              | PASS               | SKIPPED           | PASS             | SKIPPED           |
+---------------------+-----------------------+----------------------+--------------------+-------------------+------------------+-------------------+
| RHEL9               | SKIPPED               | SKIPPED              | PASS               | SKIPPED           | PASS             | SKIPPED           |
+---------------------+-----------------------+----------------------+--------------------+-------------------+------------------+-------------------+
| Ubuntu 20.04        | SKIPPED               | SKIPPED              | PASS               | SKIPPED           | PASS             | SKIPPED           |
+---------------------+-----------------------+----------------------+--------------------+-------------------+------------------+-------------------+
| Ubuntu 22.04        | SKIPPED               | SKIPPED              | PASS               | SKIPPED           | PASS             | PASS              |
+---------------------+-----------------------+----------------------+--------------------+-------------------+------------------+-------------------+
| Ubuntu 24.04        | SKIPPED               | SKIPPED              | PASS               | SKIPPED           | PASS             | PASS              |
+---------------------+-----------------------+----------------------+--------------------+-------------------+------------------+-------------------+
| Alpine              | SKIPPED               | SKIPPED              | PASS               | SKIPPED           | PASS             | SKIPPED           |
+---------------------+-----------------------+----------------------+--------------------+-------------------+------------------+-------------------+


Windows Server 2022
	Kernel: 10.0.20348.2031
	Compiler: clang 15.0.7, gcc 14.1.0 (MinGW), and MSVC VS 19.39.33521

FreeBSD 13.3
	Kernel: 13.3-RELEASE-p5
	Compiler: clang 17.0.6

FreeBSD 14.1
	Kernel: 14.1-RELEASE-p3
	Compiler: clang 18.1.5

CentOS Stream 9
	Kernel: Depends on container host
	Compiler: gcc 11.4.1 20231218 (Red Hat 11.4.1-3)

Debian Bullseye
	Kernel: Depends on container host
	Compiler: gcc (Debian 10.2.1-6) 10.2.1 20210110

Debian 12
	Kernel: Depends on container host
	Compiler: gcc (Debian 12.2.0-14) 12.2.0

Fedora 37
	Kernel: Depends on container host system
	Compiler: gcc 12.3.1 20230508 (Red Hat 12.3.1-1)

Fedora 38 (Clang)
	Kernel: Depends on container host
	Compiler: clang 16.0.6 (Fedora 16.0.6-4.fc38)

Fedora 38
	Kernel: Depends on container host
	Compiler: gcc 13.2.1 20240316 (Red Hat 13.2.1-7)

Fedora 39 (Clang)
	Kernel: Depends on container host
	Compiler: clang 17.0.6 (Fedora 17.0.6-2.fc39)

Fedora 39
	Kernel: Depends on container host
	Compiler: gcc 13.3.1 20240522 (Red Hat 13.3.1-1)

Fedora 40 (Clang)
	Kernel: Depends on container host
	Compiler: clang 18.1.6 (Fedora 18.1.6-3.fc40)

Fedora 40
	Kernel: Depends on container host
	Compiler: gcc 14.2.1 20240801 (Red Hat 14.2.1-1)

openSUSE Leap 15
	Kernel: Depends on container host
	Compiler: gcc (SUSE Linux) 7.5.0

RHEL8
	Kernel: Depends on container host
	Compiler: gcc 8.5.0 20210514 (Red Hat 8.5.0-22)

RHEL9
	Kernel: Depends on container host
	Compiler: gcc 11.4.1 20231218 (Red Hat 11.4.1-3)

Ubuntu 20.04
	Kernel: Depends on container host
	Compiler: gcc (Ubuntu 9.4.0-1ubuntu1~20.04.2) 9.4.0

Ubuntu 22.04
	Kernel: Depends on container host
	Compiler: gcc (Ubuntu 11.4.0-1ubuntu1~22.04) 11.4.0

Ubuntu 24.04
	Kernel: Depends on container host
	Compiler: gcc (Ubuntu 13.2.0-23ubuntu4) 13.2.0

Alpine
	Kernel: Depends on container host
	Compiler: gcc (Alpine 13.2.1_git20240309) 13.2.1 20240309

To view detailed results, visit:
https://lab.dpdk.org/results/dashboard/patchsets/30947/

UNH-IOL DPDK Community Lab

To manage your email subscriptions, visit: 
https://lab.dpdk.org/results/dashboard/preferences/subscriptions/