From mboxrd@z Thu Jan  1 00:00:00 1970
Return-Path: <test-report-bounces@dpdk.org>
Received: from mails.dpdk.org (mails.dpdk.org [217.70.189.124])
	by inbox.dpdk.org (Postfix) with ESMTP id 3DA6545913
	for <public@inbox.dpdk.org>; Wed, 11 Sep 2024 02:54:03 +0200 (CEST)
Received: from mails.dpdk.org (localhost [127.0.0.1])
	by mails.dpdk.org (Postfix) with ESMTP id 3584A402DE;
	Wed, 11 Sep 2024 02:54:03 +0200 (CEST)
Received: from mail-pf1-f225.google.com (mail-pf1-f225.google.com
 [209.85.210.225])
 by mails.dpdk.org (Postfix) with ESMTP id A638D402AB
 for <test-report@dpdk.org>; Wed, 11 Sep 2024 02:54:01 +0200 (CEST)
Received: by mail-pf1-f225.google.com with SMTP id
 d2e1a72fcca58-7178df70f28so1078204b3a.2
 for <test-report@dpdk.org>; Tue, 10 Sep 2024 17:54:01 -0700 (PDT)
DKIM-Signature: v=1; a=rsa-sha256; c=relaxed/relaxed;
 d=iol.unh.edu; s=unh-iol; t=1726016041; x=1726620841; darn=dpdk.org;
 h=references:in-reply-to:cc:to:from:subject:message-id:date:from:to
 :cc:subject:date:message-id:reply-to;
 bh=c56Se4HHNUFFvroG5sBN3NOUU9riuPnEnyvUmq+rEus=;
 b=bb/M/pcEiwVfmM6h/vLnwiwWMfpUFKcDQQjiJSOpg0fbzS0CF2H1mFpj2vGI86KuMj
 bEX1Y+DA+stVu3H5B1bnC2YWYIsP1rdQFpxEGbAsgtRizf8R2sxMlg1UV6NoYYsh9YHA
 NpEzvqJEXIn9T+TFv2ZPq9XfIKt3+nC/FT12M=
X-Google-DKIM-Signature: v=1; a=rsa-sha256; c=relaxed/relaxed;
 d=1e100.net; s=20230601; t=1726016041; x=1726620841;
 h=references:in-reply-to:cc:to:from:subject:message-id:date
 :x-gm-message-state:from:to:cc:subject:date:message-id:reply-to;
 bh=c56Se4HHNUFFvroG5sBN3NOUU9riuPnEnyvUmq+rEus=;
 b=hym4N7uLXscQFxyOUuQBAz73PbYpwKNTq92ZbdLfhxEJ/9TBYgeOXjKp91obG/9i2R
 FBzakJELAOs/Dd/R+AF84wyLFov63zbdNXsQ0oo2L55vWKFMk8Ed36MzVyK6BDTgt4Lz
 5hJMmdn6Bm0mVtHzIBwVM5iX56JL7YBdEE4KJ32lhdhweJfZJZnjppFtoVdXlj0EPZsO
 Ak6yPpqKees/QxJQlcVBNud/PTk8B8G8XTjFBBR3gHLmReL434GBlJZdOcX5aEBjqaem
 1PUXVp/X9uW4vlKI0s1LDVEiio4KcReeMD/f5NU1uBEAQ8LosfxuQY150uql39J3bm6c
 3JSA==
X-Gm-Message-State: AOJu0YzDNFZoDf0+MYAM/CNskb8AtolVlUqOB2wphTFVzNB7wTjXM3NC
 JWRu1Xc966iaYIxVyy0B6KU3VJ7qrqTjiKT1llcIIjc3ng437oH9+jw93h1YZpoTsBIgYI1dYhY
 tBNuvOSYMmjsFDw9SC2k5yw0FLGvPQ7YcBKMkf+o+UvWouHvsw/VkS7Mf
X-Google-Smtp-Source: AGHT+IESjd+bOpNeufcPopSjH0VpywNYpErbnyUbC0piIUEflRXEsBBE6sVfFDiZkAeFgs7XVepW+uM/k/NR
X-Received: by 2002:a05:6a00:6f5d:b0:717:8dd1:c309 with SMTP id
 d2e1a72fcca58-71916e48920mr1360500b3a.9.1726016040498; 
 Tue, 10 Sep 2024 17:54:00 -0700 (PDT)
Received: from postal.iol.unh.edu (postal.iol.unh.edu.
 [2606:4100:3880:1234::84]) by smtp-relay.gmail.com with ESMTPS id
 d2e1a72fcca58-71909026661sm160987b3a.13.2024.09.10.17.54.00
 (version=TLS1_2 cipher=ECDHE-ECDSA-AES128-GCM-SHA256 bits=128/128);
 Tue, 10 Sep 2024 17:54:00 -0700 (PDT)
X-Relaying-Domain: iol.unh.edu
Date: Tue, 10 Sep 2024 17:54:00 -0700 (PDT)
Message-ID: <66e0ea28.050a0220.256040.be4aSMTPIN_ADDED_MISSING@mx.google.com>
Received: from [172.21.0.2] (unknown [172.18.0.240])
 by postal.iol.unh.edu (Postfix) with ESMTP id CF827605C351;
 Tue, 10 Sep 2024 20:53:56 -0400 (EDT)
Subject: |SUCCESS| pw143905-143913 [PATCH] [v1,9/9] common/iavf: add RSS CONF
From: dpdklab@iol.unh.edu
To: Test Report <test-report@dpdk.org>
Cc: dpdk-test-reports@iol.unh.edu
In-Reply-To: <20240910101224.497044-10-soumyadeep.hore@intel.com>
References: <20240910101224.497044-10-soumyadeep.hore@intel.com>
Content-Type: text/plain
X-BeenThere: test-report@dpdk.org
X-Mailman-Version: 2.1.29
Precedence: list
List-Id: automatic DPDK test reports <test-report.dpdk.org>
List-Unsubscribe: <https://mails.dpdk.org/options/test-report>,
 <mailto:test-report-request@dpdk.org?subject=unsubscribe>
List-Archive: <http://mails.dpdk.org/archives/test-report/>
List-Post: <mailto:test-report@dpdk.org>
List-Help: <mailto:test-report-request@dpdk.org?subject=help>
List-Subscribe: <https://mails.dpdk.org/listinfo/test-report>,
 <mailto:test-report-request@dpdk.org?subject=subscribe>
Errors-To: test-report-bounces@dpdk.org

Test-Label: iol-unit-amd64-testing
Test-Status: SUCCESS
http://dpdk.org/patch/143913

_Testing PASS_

Submitter: Soumyadeep Hore <soumyadeep.hore@intel.com>
Date: Tuesday, September 10 2024 10:12:24 
DPDK git baseline: Repo:dpdk
  Branch: master
  CommitID:126a3817617a9cbf75bfe646249511f6c2fb326e

143905-143913 --> testing pass

Upstream job id: Generic-Unit-Test-DPDK#260882

Test environment and result as below:

+---------------------+----------------+
|     Environment     | dpdk_unit_test |
+=====================+================+
| CentOS Stream 9     | PASS           |
+---------------------+----------------+
| Debian Bullseye     | PASS           |
+---------------------+----------------+
| Debian 12           | PASS           |
+---------------------+----------------+
| Fedora 38           | PASS           |
+---------------------+----------------+
| Fedora 37           | PASS           |
+---------------------+----------------+
| Fedora 38 (Clang)   | PASS           |
+---------------------+----------------+
| Fedora 39           | PASS           |
+---------------------+----------------+
| Fedora 40 (Clang)   | PASS           |
+---------------------+----------------+
| Fedora 39 (Clang)   | PASS           |
+---------------------+----------------+
| Fedora 40           | PASS           |
+---------------------+----------------+
| RHEL8               | PASS           |
+---------------------+----------------+
| RHEL9               | PASS           |
+---------------------+----------------+
| Ubuntu 24.04        | PASS           |
+---------------------+----------------+
| Ubuntu 20.04        | PASS           |
+---------------------+----------------+
| Ubuntu 22.04        | PASS           |
+---------------------+----------------+
| Windows Server 2022 | PASS           |
+---------------------+----------------+


CentOS Stream 9
	Kernel: Depends on container host
	Compiler: gcc 11.4.1 20231218 (Red Hat 11.4.1-3)

Debian Bullseye
	Kernel: Depends on container host
	Compiler: gcc (Debian 10.2.1-6) 10.2.1 20210110

Debian 12
	Kernel: Depends on container host
	Compiler: gcc (Debian 12.2.0-14) 12.2.0

Fedora 38
	Kernel: Depends on container host
	Compiler: gcc 13.2.1 20240316 (Red Hat 13.2.1-7)

Fedora 37
	Kernel: Depends on container host system
	Compiler: gcc 12.3.1 20230508 (Red Hat 12.3.1-1)

Fedora 38 (Clang)
	Kernel: Depends on container host
	Compiler: clang 16.0.6 (Fedora 16.0.6-4.fc38)

Fedora 39
	Kernel: Depends on container host
	Compiler: gcc 13.3.1 20240522 (Red Hat 13.3.1-1)

Fedora 40 (Clang)
	Kernel: Depends on container host
	Compiler: clang 18.1.6 (Fedora 18.1.6-3.fc40)

Fedora 39 (Clang)
	Kernel: Depends on container host
	Compiler: clang 17.0.6 (Fedora 17.0.6-2.fc39)

Fedora 40
	Kernel: Depends on container host
	Compiler: gcc 14.2.1 20240801 (Red Hat 14.2.1-1)

RHEL8
	Kernel: Depends on container host
	Compiler: gcc 8.5.0 20210514 (Red Hat 8.5.0-22)

RHEL9
	Kernel: Depends on container host
	Compiler: gcc 11.4.1 20231218 (Red Hat 11.4.1-3)

Ubuntu 24.04
	Kernel: Depends on container host
	Compiler: gcc (Ubuntu 13.2.0-23ubuntu4) 13.2.0

Ubuntu 20.04
	Kernel: Depends on container host
	Compiler: gcc (Ubuntu 9.4.0-1ubuntu1~20.04.2) 9.4.0

Ubuntu 22.04
	Kernel: Depends on container host
	Compiler: gcc (Ubuntu 11.4.0-1ubuntu1~22.04) 11.4.0

Windows Server 2022
	Kernel: 10.0.20348.2031
	Compiler: clang 15.0.7, gcc 14.1.0 (MinGW), and MSVC VS 19.39.33521

To view detailed results, visit:
https://lab.dpdk.org/results/dashboard/patchsets/30991/

UNH-IOL DPDK Community Lab

To manage your email subscriptions, visit: 
https://lab.dpdk.org/results/dashboard/preferences/subscriptions/