From mboxrd@z Thu Jan  1 00:00:00 1970
Return-Path: <test-report-bounces@dpdk.org>
Received: from mails.dpdk.org (mails.dpdk.org [217.70.189.124])
	by inbox.dpdk.org (Postfix) with ESMTP id C378945913
	for <public@inbox.dpdk.org>; Wed, 11 Sep 2024 03:49:51 +0200 (CEST)
Received: from mails.dpdk.org (localhost [127.0.0.1])
	by mails.dpdk.org (Postfix) with ESMTP id A4AB3402DE;
	Wed, 11 Sep 2024 03:49:51 +0200 (CEST)
Received: from mail-qk1-f226.google.com (mail-qk1-f226.google.com
 [209.85.222.226])
 by mails.dpdk.org (Postfix) with ESMTP id 34121402AB
 for <test-report@dpdk.org>; Wed, 11 Sep 2024 03:49:50 +0200 (CEST)
Received: by mail-qk1-f226.google.com with SMTP id
 af79cd13be357-7a99fd5beb6so35987185a.0
 for <test-report@dpdk.org>; Tue, 10 Sep 2024 18:49:50 -0700 (PDT)
DKIM-Signature: v=1; a=rsa-sha256; c=relaxed/relaxed;
 d=iol.unh.edu; s=unh-iol; t=1726019389; x=1726624189; darn=dpdk.org;
 h=references:in-reply-to:cc:to:from:subject:message-id:date:from:to
 :cc:subject:date:message-id:reply-to;
 bh=XVrInZ1RKgnroxkH4spuMNfIr+uP8l3Pj+YVNfCepvc=;
 b=COSnOk0CFRHMcWD09U+W8QbfaOTxeGSmp3oPYz81aqXvEL4Wj3CoSY+7RFzWiDUD7r
 Ow8ZT0LR5a9wmeHR7Rrw/SxqDTU9dM9XzSBNWX5Io0Xx5eXhcbocxp5OXMO29nhM1Ey+
 TjnuIAiWUvGg3PuVDUCpWExy+kwoXzEkz0+WE=
X-Google-DKIM-Signature: v=1; a=rsa-sha256; c=relaxed/relaxed;
 d=1e100.net; s=20230601; t=1726019389; x=1726624189;
 h=references:in-reply-to:cc:to:from:subject:message-id:date
 :x-gm-message-state:from:to:cc:subject:date:message-id:reply-to;
 bh=XVrInZ1RKgnroxkH4spuMNfIr+uP8l3Pj+YVNfCepvc=;
 b=iey40wgXJWysFr4F8mV76lB3UFHEwYfD4ACbong6YjsSLB2RH7uq5pwAsjk1E7Hnil
 TfSettI7CYjuBOG0j5+vOkqndTLCK4oTpAy+QwdsJFoH3s+3/nggUQXnPk13hJeWWtLK
 4O+PLX6djiJulspW8QBxHhDQao3d3+qXOTG9q0IEprNJc9Z0WnImETFSygJ61DelCLvV
 XVMP8e/KnHINdeMbZc/Ne9rCcXKw9zd9r3OMy0LHeoUbD/9VIyx6SZn7tVuV/LX3E7Dv
 wRcBQvviisHhLtiIZ5FenQtK8umiikE6v2Xm1JMJA1cF08rBx7SkukjELHooShjS2LK8
 2h+Q==
X-Gm-Message-State: AOJu0YwKhhy5eXWwacQct9f2+g51TOtcI9M6NNSf189HJUUad4RC5oyY
 Kc0mYyKuamvnvjyy80qoAPHUEsTLbLeZUZKvywb9dL2/8EKRHJo64Ye4qg6rW5Bg/PvPjiWdpBP
 qQX3msfwwud2har24Q/7lD9ARJuSYsVox/0PpQ75i
X-Google-Smtp-Source: AGHT+IGMLTNW45Tiyw1zYcEBPWhwwluQkiN84lyV69uDOPWR6JpVzjM71338dSKPeaXn/FcuedW5N386+ytp
X-Received: by 2002:a05:620a:1a23:b0:7a9:ac78:353c with SMTP id
 af79cd13be357-7a9bf97cf40mr1031046385a.14.1726019389462; 
 Tue, 10 Sep 2024 18:49:49 -0700 (PDT)
Received: from postal.iol.unh.edu (postal.iol.unh.edu. [132.177.123.84])
 by smtp-relay.gmail.com with ESMTPS id
 af79cd13be357-7a9a7a41575sm30582285a.8.2024.09.10.18.49.48
 (version=TLS1_2 cipher=ECDHE-ECDSA-AES128-GCM-SHA256 bits=128/128);
 Tue, 10 Sep 2024 18:49:49 -0700 (PDT)
X-Relaying-Domain: iol.unh.edu
Date: Tue, 10 Sep 2024 18:49:49 -0700 (PDT)
Message-ID: <66e0f73d.050a0220.12212f.e63aSMTPIN_ADDED_MISSING@mx.google.com>
Received: from [172.17.0.2] (unknown [172.18.0.217])
 by postal.iol.unh.edu (Postfix) with ESMTP id 1CAB3605C351;
 Tue, 10 Sep 2024 21:49:45 -0400 (EDT)
Subject: |SUCCESS| pw143901-143903 [PATCH] [v2,3/3] examples/ptpclient: add f
From: dpdklab@iol.unh.edu
To: Test Report <test-report@dpdk.org>
Cc: dpdk-test-reports@iol.unh.edu
In-Reply-To: <20240910091328.922082-4-mingjinx.ye@intel.com>
References: <20240910091328.922082-4-mingjinx.ye@intel.com>
Content-Type: text/plain
X-BeenThere: test-report@dpdk.org
X-Mailman-Version: 2.1.29
Precedence: list
List-Id: automatic DPDK test reports <test-report.dpdk.org>
List-Unsubscribe: <https://mails.dpdk.org/options/test-report>,
 <mailto:test-report-request@dpdk.org?subject=unsubscribe>
List-Archive: <http://mails.dpdk.org/archives/test-report/>
List-Post: <mailto:test-report@dpdk.org>
List-Help: <mailto:test-report-request@dpdk.org?subject=help>
List-Subscribe: <https://mails.dpdk.org/listinfo/test-report>,
 <mailto:test-report-request@dpdk.org?subject=subscribe>
Errors-To: test-report-bounces@dpdk.org

Test-Label: iol-compile-amd64-testing
Test-Status: SUCCESS
http://dpdk.org/patch/143903

_Testing PASS_

Submitter: Mingjin Ye <mingjinx.ye@intel.com>
Date: Tuesday, September 10 2024 09:13:28 
DPDK git baseline: Repo:dpdk
  Branch: master
  CommitID:523fd7b3adfdf5a87651e8ca33bc69223b3211d5

143901-143903 --> testing pass

Upstream job id: Generic-VM-DPDK-Compile-Meson#29330

Test environment and result as below:

+---------------------+-----------------------+----------------------+--------------------+
|     Environment     | dpdk_win_llvm_compile | dpdk_mingw64_compile | dpdk_meson_compile |
+=====================+=======================+======================+====================+
| Windows Server 2022 | PASS                  | PASS                 | SKIPPED            |
+---------------------+-----------------------+----------------------+--------------------+
| FreeBSD 13.3        | SKIPPED               | SKIPPED              | PASS               |
+---------------------+-----------------------+----------------------+--------------------+
| FreeBSD 14.1        | SKIPPED               | SKIPPED              | PASS               |
+---------------------+-----------------------+----------------------+--------------------+


Windows Server 2022
	Kernel: 10.0.20348.2031
	Compiler: clang 15.0.7, gcc 14.1.0 (MinGW), and MSVC VS 19.39.33521

FreeBSD 13.3
	Kernel: 13.3-RELEASE-p5
	Compiler: clang 17.0.6

FreeBSD 14.1
	Kernel: 14.1-RELEASE-p3
	Compiler: clang 18.1.5

To view detailed results, visit:
https://lab.dpdk.org/results/dashboard/patchsets/30989/

UNH-IOL DPDK Community Lab

To manage your email subscriptions, visit: 
https://lab.dpdk.org/results/dashboard/preferences/subscriptions/