From mboxrd@z Thu Jan  1 00:00:00 1970
Return-Path: <test-report-bounces@dpdk.org>
Received: from mails.dpdk.org (mails.dpdk.org [217.70.189.124])
	by inbox.dpdk.org (Postfix) with ESMTP id 9CE4B4595B
	for <public@inbox.dpdk.org>; Wed, 11 Sep 2024 07:14:14 +0200 (CEST)
Received: from mails.dpdk.org (localhost [127.0.0.1])
	by mails.dpdk.org (Postfix) with ESMTP id 9314C402DE;
	Wed, 11 Sep 2024 07:14:14 +0200 (CEST)
Received: from mail-il1-f227.google.com (mail-il1-f227.google.com
 [209.85.166.227])
 by mails.dpdk.org (Postfix) with ESMTP id 168D1402D1
 for <test-report@dpdk.org>; Wed, 11 Sep 2024 07:14:14 +0200 (CEST)
Received: by mail-il1-f227.google.com with SMTP id
 e9e14a558f8ab-39f54ab8e69so1938415ab.1
 for <test-report@dpdk.org>; Tue, 10 Sep 2024 22:14:14 -0700 (PDT)
DKIM-Signature: v=1; a=rsa-sha256; c=relaxed/relaxed;
 d=iol.unh.edu; s=unh-iol; t=1726031653; x=1726636453; darn=dpdk.org;
 h=references:in-reply-to:cc:to:from:subject:message-id:date:from:to
 :cc:subject:date:message-id:reply-to;
 bh=1ZKaQ1+Aq6dA7F900uyfRMUvXOL0BU4bvX9/QPEFlnM=;
 b=S+yX6JlXsoB6wLneLeHJF4iYMsK48MDLpPDk3C+6/A4XfUZ6Kse7+9451lZOODFMoB
 /Iq26O9YnmJNtW4AnWs5++40SAxlrY6pDbxz8ALAwGgX237+3FkUnNh4hvLTK/QqMggc
 iKoy2NWrD1mXL6YRm6JN+v04hdOeGdFPhvzfs=
X-Google-DKIM-Signature: v=1; a=rsa-sha256; c=relaxed/relaxed;
 d=1e100.net; s=20230601; t=1726031653; x=1726636453;
 h=references:in-reply-to:cc:to:from:subject:message-id:date
 :x-gm-message-state:from:to:cc:subject:date:message-id:reply-to;
 bh=1ZKaQ1+Aq6dA7F900uyfRMUvXOL0BU4bvX9/QPEFlnM=;
 b=wWlBM/reubXZ1K3W+SsGnVUrFwZ+eTHiV+Ydb/TrTlKEmLyeQhELA8lFbnUrwPcyNy
 kfiuDG7nD8+me8IajpAQh6tWCD8vknpxfBHzfwqPPojxUJ/JyU73bdPOBDCfKvW0wZIb
 yjAKfq/4sf9Kgkyw1L/QNWPnT/DiuaAG/h2pgdt9p3MFirM6jZhfH9eisiB9PeWH85QJ
 6eWwigg28Ge3HHmjDvSv2WWF5UdnieDlF4mUuG5LMXDm2tLIf19tSIznQXa4KolnShcI
 WHZjmYYtb/25ZUaUm2vulgFG1isuVwRGz85emPjrohtnLcJpWrNeXSmDmGcynj3/mFeU
 JQ7Q==
X-Gm-Message-State: AOJu0YxRxvmXwePHTpBLM/yUlB5mhjmq6RjXr+t8HnjxbPva9CwBFwLy
 xaidY/FoaiBRlRNN8U3mlusFvlxocDeiaTMqlQ1aAgzVGOaclGO7H+i2A6u6GuL1Vi6CuZYDZf2
 DL/G4nmpJa49BkQdIqw92NrfSOWIGb8fteEph2uc9ENRjBafLAs/0LXlC
X-Google-Smtp-Source: AGHT+IFEyKcHYyXTYQzHJeuXeH+K6x/2jZspxVcj6pY5oNqHV7jf54Hu9dhzx+Akjvr8v0arz4M0bYpiaLlE
X-Received: by 2002:a92:c54b:0:b0:39f:4e36:4b93 with SMTP id
 e9e14a558f8ab-3a074c52a9emr11713925ab.6.1726031653353; 
 Tue, 10 Sep 2024 22:14:13 -0700 (PDT)
Received: from postal.iol.unh.edu (postal.iol.unh.edu.
 [2606:4100:3880:1234::84]) by smtp-relay.gmail.com with ESMTPS id
 8926c6da1cb9f-4d0945d77b6sm418785173.39.2024.09.10.22.14.12
 (version=TLS1_2 cipher=ECDHE-ECDSA-AES128-GCM-SHA256 bits=128/128);
 Tue, 10 Sep 2024 22:14:13 -0700 (PDT)
X-Relaying-Domain: iol.unh.edu
Date: Tue, 10 Sep 2024 22:14:13 -0700 (PDT)
Message-ID: <66e12725.050a0220.31c339.14b1SMTPIN_ADDED_MISSING@mx.google.com>
Received: from [172.21.0.4] (unknown [172.18.0.240])
 by postal.iol.unh.edu (Postfix) with ESMTP id 3E771605C351;
 Wed, 11 Sep 2024 01:14:09 -0400 (EDT)
Subject: |SUCCESS| pw143848-143849 [PATCH] [V1,3/3] net/mlx5/hws: print CQE e
From: dpdklab@iol.unh.edu
To: Test Report <test-report@dpdk.org>
Cc: dpdk-test-reports@iol.unh.edu
In-Reply-To: <20240910075853.292823-4-gavinl@nvidia.com>
References: <20240910075853.292823-4-gavinl@nvidia.com>
Content-Type: text/plain
X-BeenThere: test-report@dpdk.org
X-Mailman-Version: 2.1.29
Precedence: list
List-Id: automatic DPDK test reports <test-report.dpdk.org>
List-Unsubscribe: <https://mails.dpdk.org/options/test-report>,
 <mailto:test-report-request@dpdk.org?subject=unsubscribe>
List-Archive: <http://mails.dpdk.org/archives/test-report/>
List-Post: <mailto:test-report@dpdk.org>
List-Help: <mailto:test-report-request@dpdk.org?subject=help>
List-Subscribe: <https://mails.dpdk.org/listinfo/test-report>,
 <mailto:test-report-request@dpdk.org?subject=subscribe>
Errors-To: test-report-bounces@dpdk.org

Test-Label: iol-unit-amd64-testing
Test-Status: SUCCESS
http://dpdk.org/patch/143849

_Testing PASS_

Submitter: Gavin Li <gavinl@nvidia.com>
Date: Tuesday, September 10 2024 07:58:53 
DPDK git baseline: Repo:dpdk
  Branch: master
  CommitID:1afebcc334d9a19f94b87062815067f77a195f76

143848-143849 --> testing pass

Upstream job id: Generic-Unit-Test-DPDK#261045

Test environment and result as below:

+---------------------+----------------+
|     Environment     | dpdk_unit_test |
+=====================+================+
| Windows Server 2022 | PASS           |
+---------------------+----------------+
| CentOS Stream 9     | PASS           |
+---------------------+----------------+
| Debian Bullseye     | PASS           |
+---------------------+----------------+
| Debian 12           | PASS           |
+---------------------+----------------+
| Fedora 37           | PASS           |
+---------------------+----------------+
| Fedora 38           | PASS           |
+---------------------+----------------+
| Fedora 39           | PASS           |
+---------------------+----------------+
| Fedora 38 (Clang)   | PASS           |
+---------------------+----------------+
| Fedora 40           | PASS           |
+---------------------+----------------+
| Fedora 39 (Clang)   | PASS           |
+---------------------+----------------+
| RHEL8               | PASS           |
+---------------------+----------------+
| Fedora 40 (Clang)   | PASS           |
+---------------------+----------------+
| RHEL9               | PASS           |
+---------------------+----------------+
| Ubuntu 20.04        | PASS           |
+---------------------+----------------+
| Ubuntu 22.04        | PASS           |
+---------------------+----------------+
| Ubuntu 24.04        | PASS           |
+---------------------+----------------+


Windows Server 2022
	Kernel: 10.0.20348.2031
	Compiler: clang 15.0.7, gcc 14.1.0 (MinGW), and MSVC VS 19.39.33521

CentOS Stream 9
	Kernel: Depends on container host
	Compiler: gcc 11.4.1 20231218 (Red Hat 11.4.1-3)

Debian Bullseye
	Kernel: Depends on container host
	Compiler: gcc (Debian 10.2.1-6) 10.2.1 20210110

Debian 12
	Kernel: Depends on container host
	Compiler: gcc (Debian 12.2.0-14) 12.2.0

Fedora 37
	Kernel: Depends on container host system
	Compiler: gcc 12.3.1 20230508 (Red Hat 12.3.1-1)

Fedora 38
	Kernel: Depends on container host
	Compiler: gcc 13.2.1 20240316 (Red Hat 13.2.1-7)

Fedora 39
	Kernel: Depends on container host
	Compiler: gcc 13.3.1 20240522 (Red Hat 13.3.1-1)

Fedora 38 (Clang)
	Kernel: Depends on container host
	Compiler: clang 16.0.6 (Fedora 16.0.6-4.fc38)

Fedora 40
	Kernel: Depends on container host
	Compiler: gcc 14.2.1 20240801 (Red Hat 14.2.1-1)

Fedora 39 (Clang)
	Kernel: Depends on container host
	Compiler: clang 17.0.6 (Fedora 17.0.6-2.fc39)

RHEL8
	Kernel: Depends on container host
	Compiler: gcc 8.5.0 20210514 (Red Hat 8.5.0-22)

Fedora 40 (Clang)
	Kernel: Depends on container host
	Compiler: clang 18.1.6 (Fedora 18.1.6-3.fc40)

RHEL9
	Kernel: Depends on container host
	Compiler: gcc 11.4.1 20231218 (Red Hat 11.4.1-3)

Ubuntu 20.04
	Kernel: Depends on container host
	Compiler: gcc (Ubuntu 9.4.0-1ubuntu1~20.04.2) 9.4.0

Ubuntu 22.04
	Kernel: Depends on container host
	Compiler: gcc (Ubuntu 11.4.0-1ubuntu1~22.04) 11.4.0

Ubuntu 24.04
	Kernel: Depends on container host
	Compiler: gcc (Ubuntu 13.2.0-23ubuntu4) 13.2.0

To view detailed results, visit:
https://lab.dpdk.org/results/dashboard/patchsets/30983/

UNH-IOL DPDK Community Lab

To manage your email subscriptions, visit: 
https://lab.dpdk.org/results/dashboard/preferences/subscriptions/