From mboxrd@z Thu Jan  1 00:00:00 1970
Return-Path: <test-report-bounces@dpdk.org>
Received: from mails.dpdk.org (mails.dpdk.org [217.70.189.124])
	by inbox.dpdk.org (Postfix) with ESMTP id EB27D4595D
	for <public@inbox.dpdk.org>; Wed, 11 Sep 2024 08:23:26 +0200 (CEST)
Received: from mails.dpdk.org (localhost [127.0.0.1])
	by mails.dpdk.org (Postfix) with ESMTP id E5F0D402DE;
	Wed, 11 Sep 2024 08:23:26 +0200 (CEST)
Received: from mail-il1-f228.google.com (mail-il1-f228.google.com
 [209.85.166.228])
 by mails.dpdk.org (Postfix) with ESMTP id 457AF402D1
 for <test-report@dpdk.org>; Wed, 11 Sep 2024 08:23:25 +0200 (CEST)
Received: by mail-il1-f228.google.com with SMTP id
 e9e14a558f8ab-39f4ec52c5fso25313125ab.2
 for <test-report@dpdk.org>; Tue, 10 Sep 2024 23:23:25 -0700 (PDT)
DKIM-Signature: v=1; a=rsa-sha256; c=relaxed/relaxed;
 d=iol.unh.edu; s=unh-iol; t=1726035804; x=1726640604; darn=dpdk.org;
 h=references:in-reply-to:cc:to:from:subject:message-id:date:from:to
 :cc:subject:date:message-id:reply-to;
 bh=SJyqRV9axhvc2c8trvD/N1C4R2HCkMtBV9MTQh5uKfc=;
 b=ck+8p+Fi6wXfy/y2/Gz9yxnewoig/l8ChrVsUiUhHjvL1/S29QPpsa5HwSx3439i75
 AwHl1x/4vdH69hqiTSkRCw9yCkcfkYsqjLUht2RxOWxRfoMHsyD53oNz4iNaek8tAsWN
 RFhUb3L9LylAW/i8JoUVQJmUaKNvzJUNV7QGs=
X-Google-DKIM-Signature: v=1; a=rsa-sha256; c=relaxed/relaxed;
 d=1e100.net; s=20230601; t=1726035804; x=1726640604;
 h=references:in-reply-to:cc:to:from:subject:message-id:date
 :x-gm-message-state:from:to:cc:subject:date:message-id:reply-to;
 bh=SJyqRV9axhvc2c8trvD/N1C4R2HCkMtBV9MTQh5uKfc=;
 b=Zb9Y+bs613nBtobIaYgCL3zPvtGwLuyYlokfc9a8mNdBKaPAt87R7YE3aup17sWDVj
 W3TMEhIY0dqv/48Z8/d8xKRKsdhNSI8x7l4fYb/3tEXKCQfsG7WQK8fLm64htOFpzWOt
 UPR2Q2DE76xTpRIwUEV5c5yAPWqHWYZF3TGg+iXhuvL7O0Qjr9ZoAraOm45tXpn3znBK
 egv4cYLVOJjTgA0Y8mgC007DQzf+48rCTKwtgZ3bj7RVJIJd3YYXzzC/0TskctxC215o
 q2Q5/bkq1qCNCjhhgR7RedHvlUKM6JsjQqJRoq0x4q/4KfTFqx3+QAPIUan2NDAEwAee
 b98w==
X-Gm-Message-State: AOJu0YxykIn0y11RdE/ALXRDa4udVp/BaADddeComAPVo4nZfQ3H2O5d
 vnYKgm88NwEgUJCK7Y8tlpdTa1kYSnsTHVFAWDoOzevB82okyAhG27rh3u2ZUmcsCdJtusTE5Zy
 KbZso34Y6ve3507RHjhjFTZlbKBPXMW5Nswcjf3LT
X-Google-Smtp-Source: AGHT+IHdSgZKgpgzBYlUYqi1cG5acTZghF0cwmhO765ssuQFIk9xAtzrO9p26aWkipn3QlXpeORJqwWltFTs
X-Received: by 2002:a05:6e02:1d06:b0:3a0:4a63:e7ac with SMTP id
 e9e14a558f8ab-3a04f0ccccfmr200696985ab.18.1726035804501; 
 Tue, 10 Sep 2024 23:23:24 -0700 (PDT)
Received: from postal.iol.unh.edu (postal.iol.unh.edu. [132.177.123.84])
 by smtp-relay.gmail.com with ESMTPS id
 e9e14a558f8ab-3a058fc16ebsm3928435ab.11.2024.09.10.23.23.24
 (version=TLS1_2 cipher=ECDHE-ECDSA-AES128-GCM-SHA256 bits=128/128);
 Tue, 10 Sep 2024 23:23:24 -0700 (PDT)
X-Relaying-Domain: iol.unh.edu
Date: Tue, 10 Sep 2024 23:23:24 -0700 (PDT)
Message-ID: <66e1375c.050a0220.3d82d.01e3SMTPIN_ADDED_MISSING@mx.google.com>
Received: from [172.21.0.3] (unknown [172.18.0.240])
 by postal.iol.unh.edu (Postfix) with ESMTP id 5A2C2605C351;
 Wed, 11 Sep 2024 02:23:20 -0400 (EDT)
Subject: |SUCCESS| pw143719-143724 [PATCH] [RFCv2,6/6] examples/l3fwd: make A
From: dpdklab@iol.unh.edu
To: Test Report <test-report@dpdk.org>
Cc: dpdk-test-reports@iol.unh.edu
In-Reply-To: <20240906131348.804-7-konstantin.v.ananyev@yandex.ru>
References: <20240906131348.804-7-konstantin.v.ananyev@yandex.ru>
Content-Type: text/plain
X-BeenThere: test-report@dpdk.org
X-Mailman-Version: 2.1.29
Precedence: list
List-Id: automatic DPDK test reports <test-report.dpdk.org>
List-Unsubscribe: <https://mails.dpdk.org/options/test-report>,
 <mailto:test-report-request@dpdk.org?subject=unsubscribe>
List-Archive: <http://mails.dpdk.org/archives/test-report/>
List-Post: <mailto:test-report@dpdk.org>
List-Help: <mailto:test-report-request@dpdk.org?subject=help>
List-Subscribe: <https://mails.dpdk.org/listinfo/test-report>,
 <mailto:test-report-request@dpdk.org?subject=subscribe>
Errors-To: test-report-bounces@dpdk.org

Test-Label: iol-compile-amd64-testing
Test-Status: SUCCESS
http://dpdk.org/patch/143724

_Testing PASS_

Submitter: Konstantin Ananyev <konstantin.v.ananyev@yandex.ru>
Date: Friday, September 06 2024 13:13:48 
DPDK git baseline: Repo:dpdk
  Branch: master
  CommitID:41dd9a6bc2d9c6e20e139ad713cc9d172572dd43

143719-143724 --> testing pass

Upstream job id: Windows-Compile-DPDK-Native#22116

Test environment and result as below:

+---------------------+-----------------------+----------------------+--------------------+
|     Environment     | dpdk_win_llvm_compile | dpdk_mingw64_compile | dpdk_meson_compile |
+=====================+=======================+======================+====================+
| Windows Server 2022 | PASS                  | PASS                 | SKIPPED            |
+---------------------+-----------------------+----------------------+--------------------+
| FreeBSD 13.3        | SKIPPED               | SKIPPED              | PASS               |
+---------------------+-----------------------+----------------------+--------------------+
| FreeBSD 14.1        | SKIPPED               | SKIPPED              | PASS               |
+---------------------+-----------------------+----------------------+--------------------+


Windows Server 2022
	Kernel: 10.0.20348.2031
	Compiler: clang 15.0.7, gcc 14.1.0 (MinGW), and MSVC VS 19.39.33521

FreeBSD 13.3
	Kernel: 13.3-RELEASE-p5
	Compiler: clang 17.0.6

FreeBSD 14.1
	Kernel: 14.1-RELEASE-p3
	Compiler: clang 18.1.5

To view detailed results, visit:
https://lab.dpdk.org/results/dashboard/patchsets/30938/

UNH-IOL DPDK Community Lab

To manage your email subscriptions, visit: 
https://lab.dpdk.org/results/dashboard/preferences/subscriptions/