From mboxrd@z Thu Jan  1 00:00:00 1970
Return-Path: <test-report-bounces@dpdk.org>
Received: from mails.dpdk.org (mails.dpdk.org [217.70.189.124])
	by inbox.dpdk.org (Postfix) with ESMTP id 547D145960
	for <public@inbox.dpdk.org>; Wed, 11 Sep 2024 10:13:02 +0200 (CEST)
Received: from mails.dpdk.org (localhost [127.0.0.1])
	by mails.dpdk.org (Postfix) with ESMTP id 4F76E402D1;
	Wed, 11 Sep 2024 10:13:02 +0200 (CEST)
Received: from mail-ot1-f99.google.com (mail-ot1-f99.google.com
 [209.85.210.99]) by mails.dpdk.org (Postfix) with ESMTP id 23C9B402CE
 for <test-report@dpdk.org>; Wed, 11 Sep 2024 10:13:01 +0200 (CEST)
Received: by mail-ot1-f99.google.com with SMTP id
 46e09a7af769-7093c94435bso2591843a34.0
 for <test-report@dpdk.org>; Wed, 11 Sep 2024 01:13:01 -0700 (PDT)
DKIM-Signature: v=1; a=rsa-sha256; c=relaxed/relaxed;
 d=iol.unh.edu; s=unh-iol; t=1726042380; x=1726647180; darn=dpdk.org;
 h=references:in-reply-to:cc:to:from:subject:message-id:date:from:to
 :cc:subject:date:message-id:reply-to;
 bh=8z2jARoDrcEO4Akx1MLYi+xjVPNeB2ScucV6ysRL2F4=;
 b=Jw9fq71mtHOkTU6g8h4Py1arLJhqAVyvdjk9zbynHCTZXVTd5Q28WRALXNw9Xt2FTL
 JetaAIdvWGVHdsWHlVQal34ablMmRzOknt+PlheNUCIU3R19mvzBdmHgD0KitIGp9WM4
 kdSmeUw0H65KsbAal/e5pSaoh11/FBAmGCN/U=
X-Google-DKIM-Signature: v=1; a=rsa-sha256; c=relaxed/relaxed;
 d=1e100.net; s=20230601; t=1726042380; x=1726647180;
 h=references:in-reply-to:cc:to:from:subject:message-id:date
 :x-gm-message-state:from:to:cc:subject:date:message-id:reply-to;
 bh=8z2jARoDrcEO4Akx1MLYi+xjVPNeB2ScucV6ysRL2F4=;
 b=XlHaiaYDqsI9Mc8guaVnXWg2M7G+X0ke9DOgBUS2dMEE22O2q8597NgMq0tOCRVbxp
 Qp7iloAKVafZixOG+WEsB9sjCX/skIx/UhTAj9T8awArk+psDVD9r1bScdh179UGTGdH
 XlapKUHfOjQbzWoC1gMTkKOOF54xumsF1a6qgONJumuBolknzl53bqIxUDds77mK4E37
 lwt5gq+PkrGvopJphzBZ26b7khUom/skh3wn+DKXJpii5A8k7ZEYdK3xD7YDkbSMXUqh
 FwunHN7fH+tEXMlwEM2Dc9FayDcntoZ6Z0sXipq+GKRlULu+HYl8/BZVMStB+NoZKG0L
 nuww==
X-Gm-Message-State: AOJu0Yw2FDQ2SXQhPsirt5WTOwSk9Awiu8uY0qt5yMm51U1Zrd76Ttax
 m4Krwy05i19E5YS19tmUWq2MZScrUGQojLrsVt/G6cfRH7S1LmQfllDVToYsqs6zxYtoi09aNak
 gOOTNr0NDEQVsPUQuyhPBcyGi8I2IkcKJS8KFNh5G
X-Google-Smtp-Source: AGHT+IF2ZjCnsRtGB+kshyo7RbInM/xYws+SUdO/I25tKMvJvDEs7SoHWx76HhFCLSKmuhOnE7wQFLqpTf37
X-Received: by 2002:a05:6830:6b0e:b0:70f:6d1e:d06e with SMTP id
 46e09a7af769-710d84bcc65mr12317703a34.12.1726042380431; 
 Wed, 11 Sep 2024 01:13:00 -0700 (PDT)
Received: from postal.iol.unh.edu (postal.iol.unh.edu. [132.177.123.84])
 by smtp-relay.gmail.com with ESMTPS id
 46e09a7af769-710d9da3cc9sm100508a34.11.2024.09.11.01.12.59
 (version=TLS1_2 cipher=ECDHE-ECDSA-AES128-GCM-SHA256 bits=128/128);
 Wed, 11 Sep 2024 01:13:00 -0700 (PDT)
X-Relaying-Domain: iol.unh.edu
Date: Wed, 11 Sep 2024 01:13:00 -0700 (PDT)
Message-ID: <66e1510c.050a0220.20a504.7936SMTPIN_ADDED_MISSING@mx.google.com>
Received: from [172.21.0.3] (unknown [172.18.0.240])
 by postal.iol.unh.edu (Postfix) with ESMTP id 50C956050A6D;
 Wed, 11 Sep 2024 04:12:56 -0400 (EDT)
Subject: |SUCCESS| pw143901-143903 [PATCH] [v2,3/3] examples/ptpclient: add f
From: dpdklab@iol.unh.edu
To: Test Report <test-report@dpdk.org>
Cc: dpdk-test-reports@iol.unh.edu
In-Reply-To: <20240910091328.922082-4-mingjinx.ye@intel.com>
References: <20240910091328.922082-4-mingjinx.ye@intel.com>
Content-Type: text/plain
X-BeenThere: test-report@dpdk.org
X-Mailman-Version: 2.1.29
Precedence: list
List-Id: automatic DPDK test reports <test-report.dpdk.org>
List-Unsubscribe: <https://mails.dpdk.org/options/test-report>,
 <mailto:test-report-request@dpdk.org?subject=unsubscribe>
List-Archive: <http://mails.dpdk.org/archives/test-report/>
List-Post: <mailto:test-report@dpdk.org>
List-Help: <mailto:test-report-request@dpdk.org?subject=help>
List-Subscribe: <https://mails.dpdk.org/listinfo/test-report>,
 <mailto:test-report-request@dpdk.org?subject=subscribe>
Errors-To: test-report-bounces@dpdk.org

Test-Label: iol-unit-arm64-testing
Test-Status: SUCCESS
http://dpdk.org/patch/143903

_Testing PASS_

Submitter: Mingjin Ye <mingjinx.ye@intel.com>
Date: Tuesday, September 10 2024 09:13:28 
DPDK git baseline: Repo:dpdk
  Branch: master
  CommitID:523fd7b3adfdf5a87651e8ca33bc69223b3211d5

143901-143903 --> testing pass

Upstream job id: Generic-Unit-Test-DPDK#260935

Test environment and result as below:

+-----------------------------+--------------+------------------------------+----------------+---------------------------+
|         Environment         | lpm_autotest | cryptodev_sw_snow3g_autotest | dpdk_unit_test | cryptodev_sw_zuc_autotest |
+=============================+==============+==============================+================+===========================+
| Ubuntu 20.04 ARM SVE        | PASS         | SKIPPED                      | SKIPPED        | SKIPPED                   |
+-----------------------------+--------------+------------------------------+----------------+---------------------------+
| Debian 12 (arm)             | SKIPPED      | PASS                         | PASS           | PASS                      |
+-----------------------------+--------------+------------------------------+----------------+---------------------------+
| 32-bit Ubuntu 20.04.4 (ARM) | SKIPPED      | SKIPPED                      | PASS           | SKIPPED                   |
+-----------------------------+--------------+------------------------------+----------------+---------------------------+
| CentOS Stream 9 (ARM)       | SKIPPED      | SKIPPED                      | PASS           | SKIPPED                   |
+-----------------------------+--------------+------------------------------+----------------+---------------------------+
| Debian 11 (Buster) (ARM)    | SKIPPED      | SKIPPED                      | PASS           | SKIPPED                   |
+-----------------------------+--------------+------------------------------+----------------+---------------------------+
| Fedora 37 (ARM)             | SKIPPED      | SKIPPED                      | PASS           | SKIPPED                   |
+-----------------------------+--------------+------------------------------+----------------+---------------------------+
| Fedora 39 (ARM)             | SKIPPED      | SKIPPED                      | PASS           | SKIPPED                   |
+-----------------------------+--------------+------------------------------+----------------+---------------------------+
| Fedora 38 (ARM)             | SKIPPED      | SKIPPED                      | PASS           | SKIPPED                   |
+-----------------------------+--------------+------------------------------+----------------+---------------------------+
| Fedora 39 (ARM Clang)       | SKIPPED      | SKIPPED                      | PASS           | SKIPPED                   |
+-----------------------------+--------------+------------------------------+----------------+---------------------------+
| Fedora 40 (ARM)             | SKIPPED      | SKIPPED                      | PASS           | SKIPPED                   |
+-----------------------------+--------------+------------------------------+----------------+---------------------------+
| Fedora 40 (ARM Clang)       | SKIPPED      | SKIPPED                      | PASS           | SKIPPED                   |
+-----------------------------+--------------+------------------------------+----------------+---------------------------+
| RHEL9 (ARM)                 | SKIPPED      | SKIPPED                      | PASS           | SKIPPED                   |
+-----------------------------+--------------+------------------------------+----------------+---------------------------+
| Ubuntu 20.04 (ARM)          | SKIPPED      | SKIPPED                      | PASS           | SKIPPED                   |
+-----------------------------+--------------+------------------------------+----------------+---------------------------+
| Ubuntu 22.04 (ARM)          | SKIPPED      | SKIPPED                      | PASS           | SKIPPED                   |
+-----------------------------+--------------+------------------------------+----------------+---------------------------+
| Ubuntu 24.04 (ARM)          | SKIPPED      | SKIPPED                      | PASS           | SKIPPED                   |
+-----------------------------+--------------+------------------------------+----------------+---------------------------+
| Fedora 38 (ARM Clang)       | SKIPPED      | SKIPPED                      | PASS           | SKIPPED                   |
+-----------------------------+--------------+------------------------------+----------------+---------------------------+


Ubuntu 20.04 ARM SVE
	Kernel: Depends on container host
	Compiler: gcc (Ubuntu 10.5.0-1ubuntu1~20.04) 10.5.0

Debian 12 (arm)
	Kernel: Depends on container host
	Compiler: gcc (Debian 12.2.0-14) 12.2.0

32-bit Ubuntu 20.04.4 (ARM)
	Kernel: 5.4.0-155-generic aarch64
	Compiler: gcc 9.4

CentOS Stream 9 (ARM)
	Kernel: Depends on container host
	Compiler: gcc 11.4.1 20231218 (Red Hat 11.4.1-3)

Debian 11 (Buster) (ARM)
	Kernel: Depends on container host
	Compiler: gcc (Debian 10.2.1-6) 10.2.1 20210110

Fedora 37 (ARM)
	Kernel: Depends on container host
	Compiler: gcc 12.3.1 20230508 (Red Hat 12.3.1-1)

Fedora 39 (ARM)
	Kernel: Depends on container host
	Compiler: gcc 13.3.1 20240522 (Red Hat 13.3.1-1)

Fedora 38 (ARM)
	Kernel: Depends on container host
	Compiler: gcc 13.2.1 20240316 (Red Hat 13.2.1-7)

Fedora 39 (ARM Clang)
	Kernel: Depends on container host
	Compiler: clang 17.0.6 (Fedora 17.0.6-2.fc39)

Fedora 40 (ARM)
	Kernel: Depends on container host
	Compiler: gcc 14.2.1 20240801 (Red Hat 14.2.1-1)

Fedora 40 (ARM Clang)
	Kernel: Depends on container host
	Compiler: clang 18.1.6 (Fedora 18.1.6-3.fc40)

RHEL9 (ARM)
	Kernel: Depends on container host
	Compiler: gcc 11.4.1 20231218 (Red Hat 11.4.1-3)

Ubuntu 20.04 (ARM)
	Kernel: Depends on container host
	Compiler: gcc (Ubuntu 9.4.0-1ubuntu1~20.04.2) 9.4.0

Ubuntu 22.04 (ARM)
	Kernel: Depends on container host
	Compiler: gcc (Ubuntu 11.4.0-1ubuntu1~22.04) 11.4.0

Ubuntu 24.04 (ARM)
	Kernel: Depends on container host
	Compiler: gcc (Ubuntu 13.2.0-23ubuntu4) 13.2.0

Fedora 38 (ARM Clang)
	Kernel: Depends on container host
	Compiler: clang 16.0.6 (Fedora 16.0.6-4.fc38)

To view detailed results, visit:
https://lab.dpdk.org/results/dashboard/patchsets/30989/

UNH-IOL DPDK Community Lab

To manage your email subscriptions, visit: 
https://lab.dpdk.org/results/dashboard/preferences/subscriptions/