From mboxrd@z Thu Jan  1 00:00:00 1970
Return-Path: <test-report-bounces@dpdk.org>
Received: from mails.dpdk.org (mails.dpdk.org [217.70.189.124])
	by inbox.dpdk.org (Postfix) with ESMTP id A5F7F45960
	for <public@inbox.dpdk.org>; Wed, 11 Sep 2024 11:13:43 +0200 (CEST)
Received: from mails.dpdk.org (localhost [127.0.0.1])
	by mails.dpdk.org (Postfix) with ESMTP id 862B642ECC;
	Wed, 11 Sep 2024 11:13:43 +0200 (CEST)
Received: from mail-pl1-f225.google.com (mail-pl1-f225.google.com
 [209.85.214.225])
 by mails.dpdk.org (Postfix) with ESMTP id DF179402D1
 for <test-report@dpdk.org>; Wed, 11 Sep 2024 11:13:42 +0200 (CEST)
Received: by mail-pl1-f225.google.com with SMTP id
 d9443c01a7336-2059204f448so54477025ad.0
 for <test-report@dpdk.org>; Wed, 11 Sep 2024 02:13:42 -0700 (PDT)
DKIM-Signature: v=1; a=rsa-sha256; c=relaxed/relaxed;
 d=iol.unh.edu; s=unh-iol; t=1726046022; x=1726650822; darn=dpdk.org;
 h=references:in-reply-to:cc:to:from:subject:message-id:date:from:to
 :cc:subject:date:message-id:reply-to;
 bh=wbNwdmnCJK9W6W03/uNnqWfJmZ2u3QPoY0D/4w2qcnQ=;
 b=LHya50GoBaFauVGpCnKsBX6ghd8Eq7Q+aHDNMWTARGSmbBb5UCCoRrhhszGZJEy/aH
 uv8fzFrxKz1mwCTBpUEl8/VCHciqeG7H+Q/5em8nPQqb8OEiGyVQZcEusiSxnM7YApcN
 PTQXfIuiY0YIDikBElckQX6lxI6sGf4BuVdWQ=
X-Google-DKIM-Signature: v=1; a=rsa-sha256; c=relaxed/relaxed;
 d=1e100.net; s=20230601; t=1726046022; x=1726650822;
 h=references:in-reply-to:cc:to:from:subject:message-id:date
 :x-gm-message-state:from:to:cc:subject:date:message-id:reply-to;
 bh=wbNwdmnCJK9W6W03/uNnqWfJmZ2u3QPoY0D/4w2qcnQ=;
 b=d+bGLXYdD1LC4+WdQwuWnaK+KYLtAlyRRqSM9TazaxFFA5upoeg+zipnjYI1bUmbxH
 TtNNRU6VTP2ikbAZO3YC2Zr49Fh05NqhyTBL47lVDI2fG1zdXXVexXhsW2lqUDIrOxfl
 2QRuRB4ctw+fW8+sfZsoB7mAHN4VYdb1nja4ZzeA1qdZJhGJfOHxQ7OBXrCb5X+5RwG0
 qH4SJ7drOiefUwUsRkcjmFYpvyGc/3Pie1nOHZncikiv16AJaQELJyacuUqeL2/bIqiw
 ug/0GeSHULnr7fjr+krkoOn3iJKaVLcsM9k7NCkTpOz5o08pNlL1pX/04bOnZxqClihe
 bJRg==
X-Gm-Message-State: AOJu0Yxsi+CfI9mSkzzYmma2OvaRlwGuCKITLZsmoVgrI4izeWLPkBdb
 E0dxG+JK3gIPl+KHsJcyW9tXBry94Wxy3VRB/EHWqZE2pIKT04OW+Kmj7BFXP/eX9E+5BSXqoyJ
 5s8Qn1nV2JeOY+oVDTxBF1FhdWI3/0DGklWzlb+ZY6oYhPG64LIFxLkTb
X-Google-Smtp-Source: AGHT+IHye57RophYqwEFxW2Noqcniec/2L/LVfklW/saXEesWlX1jioPk+yW/smLyLM4pIfzaHZ6fizXe6qq
X-Received: by 2002:a17:903:8c3:b0:206:ae88:417f with SMTP id
 d9443c01a7336-2074c4b904amr45469075ad.6.1726046021971; 
 Wed, 11 Sep 2024 02:13:41 -0700 (PDT)
Received: from postal.iol.unh.edu (postal.iol.unh.edu.
 [2606:4100:3880:1234::84]) by smtp-relay.gmail.com with ESMTPS id
 41be03b00d2f7-7d823cf3ab4sm174562a12.14.2024.09.11.02.13.41
 (version=TLS1_2 cipher=ECDHE-ECDSA-AES128-GCM-SHA256 bits=128/128);
 Wed, 11 Sep 2024 02:13:41 -0700 (PDT)
X-Relaying-Domain: iol.unh.edu
Date: Wed, 11 Sep 2024 02:13:41 -0700 (PDT)
Message-ID: <66e15f45.630a0220.cc3e9.d6bfSMTPIN_ADDED_MISSING@mx.google.com>
Received: from [172.21.0.3] (unknown [172.18.0.240])
 by postal.iol.unh.edu (Postfix) with ESMTP id 6DB7F6050A6D;
 Wed, 11 Sep 2024 05:13:38 -0400 (EDT)
Subject: |SUCCESS| pw143848-143849 [PATCH] [V1,3/3] net/mlx5/hws: print CQE e
From: dpdklab@iol.unh.edu
To: Test Report <test-report@dpdk.org>
Cc: dpdk-test-reports@iol.unh.edu
In-Reply-To: <20240910075853.292823-4-gavinl@nvidia.com>
References: <20240910075853.292823-4-gavinl@nvidia.com>
Content-Type: text/plain
X-BeenThere: test-report@dpdk.org
X-Mailman-Version: 2.1.29
Precedence: list
List-Id: automatic DPDK test reports <test-report.dpdk.org>
List-Unsubscribe: <https://mails.dpdk.org/options/test-report>,
 <mailto:test-report-request@dpdk.org?subject=unsubscribe>
List-Archive: <http://mails.dpdk.org/archives/test-report/>
List-Post: <mailto:test-report@dpdk.org>
List-Help: <mailto:test-report-request@dpdk.org?subject=help>
List-Subscribe: <https://mails.dpdk.org/listinfo/test-report>,
 <mailto:test-report-request@dpdk.org?subject=subscribe>
Errors-To: test-report-bounces@dpdk.org

Test-Label: iol-compile-arm64-testing
Test-Status: SUCCESS
http://dpdk.org/patch/143849

_Testing PASS_

Submitter: Gavin Li <gavinl@nvidia.com>
Date: Tuesday, September 10 2024 07:58:53 
DPDK git baseline: Repo:dpdk
  Branch: master
  CommitID:1afebcc334d9a19f94b87062815067f77a195f76

143848-143849 --> testing pass

Upstream job id: Generic-DPDK-Compile-Meson#299083

Test environment and result as below:

+----------------------------------------+--------------------+
|              Environment               | dpdk_meson_compile |
+========================================+====================+
| RHEL9 (ARM)                            | PASS               |
+----------------------------------------+--------------------+
| Ubuntu 20.04 ARM GCC Cross Compile     | PASS               |
+----------------------------------------+--------------------+
| Ubuntu 20.04 ARM SVE                   | PASS               |
+----------------------------------------+--------------------+
| Debian 12 with MUSDK                   | PASS               |
+----------------------------------------+--------------------+
| Fedora 37 (ARM)                        | PASS               |
+----------------------------------------+--------------------+
| Fedora 38 (ARM)                        | PASS               |
+----------------------------------------+--------------------+
| Fedora 38 (ARM Clang)                  | PASS               |
+----------------------------------------+--------------------+
| Fedora 39 (ARM)                        | PASS               |
+----------------------------------------+--------------------+
| Fedora 39 (ARM Clang)                  | PASS               |
+----------------------------------------+--------------------+
| Fedora 40 (ARM)                        | PASS               |
+----------------------------------------+--------------------+
| Fedora 40 (ARM Clang)                  | PASS               |
+----------------------------------------+--------------------+
| Ubuntu 20.04 (ARM)                     | PASS               |
+----------------------------------------+--------------------+
| Ubuntu 22.04 (ARM)                     | PASS               |
+----------------------------------------+--------------------+
| Ubuntu 24.04 (ARM)                     | PASS               |
+----------------------------------------+--------------------+
| CentOS Stream 9 (ARM)                  | PASS               |
+----------------------------------------+--------------------+
| Debian 11 (Buster) (ARM)               | PASS               |
+----------------------------------------+--------------------+
| Debian 12 (arm)                        | PASS               |
+----------------------------------------+--------------------+
| Ubuntu 20.04 aarch32 GCC Cross Compile | PASS               |
+----------------------------------------+--------------------+
| Ubuntu 20.04 ARM Clang Cross Compile   | PASS               |
+----------------------------------------+--------------------+


RHEL9 (ARM)
	Kernel: Depends on container host
	Compiler: gcc 11.4.1 20231218 (Red Hat 11.4.1-3)

Ubuntu 20.04 ARM GCC Cross Compile
	Kernel: Depends on container host
	Compiler: aarch64-linux-gnu-gcc (Ubuntu 9.4.0-1ubuntu1~20.04.2) 9.4.0

Ubuntu 20.04 ARM SVE
	Kernel: Depends on container host
	Compiler: gcc (Ubuntu 10.5.0-1ubuntu1~20.04) 10.5.0

Debian 12 with MUSDK
	Kernel: Depends on container host
	Compiler: gcc (Debian 12.2.0-14) 12.2.0

Fedora 37 (ARM)
	Kernel: Depends on container host
	Compiler: gcc 12.3.1 20230508 (Red Hat 12.3.1-1)

Fedora 38 (ARM)
	Kernel: Depends on container host
	Compiler: gcc 13.2.1 20240316 (Red Hat 13.2.1-7)

Fedora 38 (ARM Clang)
	Kernel: Depends on container host
	Compiler: clang 16.0.6 (Fedora 16.0.6-4.fc38)

Fedora 39 (ARM)
	Kernel: Depends on container host
	Compiler: gcc 13.3.1 20240522 (Red Hat 13.3.1-1)

Fedora 39 (ARM Clang)
	Kernel: Depends on container host
	Compiler: clang 17.0.6 (Fedora 17.0.6-2.fc39)

Fedora 40 (ARM)
	Kernel: Depends on container host
	Compiler: gcc 14.2.1 20240801 (Red Hat 14.2.1-1)

Fedora 40 (ARM Clang)
	Kernel: Depends on container host
	Compiler: clang 18.1.6 (Fedora 18.1.6-3.fc40)

Ubuntu 20.04 (ARM)
	Kernel: Depends on container host
	Compiler: gcc (Ubuntu 9.4.0-1ubuntu1~20.04.2) 9.4.0

Ubuntu 22.04 (ARM)
	Kernel: Depends on container host
	Compiler: gcc (Ubuntu 11.4.0-1ubuntu1~22.04) 11.4.0

Ubuntu 24.04 (ARM)
	Kernel: Depends on container host
	Compiler: gcc (Ubuntu 13.2.0-23ubuntu4) 13.2.0

CentOS Stream 9 (ARM)
	Kernel: Depends on container host
	Compiler: gcc 11.4.1 20231218 (Red Hat 11.4.1-3)

Debian 11 (Buster) (ARM)
	Kernel: Depends on container host
	Compiler: gcc (Debian 10.2.1-6) 10.2.1 20210110

Debian 12 (arm)
	Kernel: Depends on container host
	Compiler: gcc (Debian 12.2.0-14) 12.2.0

Ubuntu 20.04 aarch32 GCC Cross Compile
	Kernel: Depends on container host
	Compiler: gcc 9.4.0

Ubuntu 20.04 ARM Clang Cross Compile
	Kernel: Depends on container host
	Compiler: clang 10.0.0-4ubuntu1

To view detailed results, visit:
https://lab.dpdk.org/results/dashboard/patchsets/30983/

UNH-IOL DPDK Community Lab

To manage your email subscriptions, visit: 
https://lab.dpdk.org/results/dashboard/preferences/subscriptions/