From mboxrd@z Thu Jan  1 00:00:00 1970
Return-Path: <test-report-bounces@dpdk.org>
Received: from mails.dpdk.org (mails.dpdk.org [217.70.189.124])
	by inbox.dpdk.org (Postfix) with ESMTP id 8BE5145962
	for <public@inbox.dpdk.org>; Wed, 11 Sep 2024 14:43:33 +0200 (CEST)
Received: from mails.dpdk.org (localhost [127.0.0.1])
	by mails.dpdk.org (Postfix) with ESMTP id 855B5402D1;
	Wed, 11 Sep 2024 14:43:33 +0200 (CEST)
Received: from mail-pj1-f99.google.com (mail-pj1-f99.google.com
 [209.85.216.99]) by mails.dpdk.org (Postfix) with ESMTP id 288284029E
 for <test-report@dpdk.org>; Wed, 11 Sep 2024 14:43:32 +0200 (CEST)
Received: by mail-pj1-f99.google.com with SMTP id
 98e67ed59e1d1-2d87a1f0791so4297853a91.2
 for <test-report@dpdk.org>; Wed, 11 Sep 2024 05:43:32 -0700 (PDT)
DKIM-Signature: v=1; a=rsa-sha256; c=relaxed/relaxed;
 d=iol.unh.edu; s=unh-iol; t=1726058611; x=1726663411; darn=dpdk.org;
 h=references:in-reply-to:cc:to:from:subject:message-id:date:from:to
 :cc:subject:date:message-id:reply-to;
 bh=EuESWMgBThHjBEi2Q9Tu9SwskVfAe0CzOhd8aMpnmo0=;
 b=N8vpCy13gBN0TYUdDk362kltEYoLYljFeN7fHLWxnOqi/sx2rAQTY3ePxzp+Lh2w8h
 70lQ6APxgDS3Xcb1ReEXJg32lB+mTRhQvx26sp6hlJrGzwRqSprnBLyQEbn3s7l+Ghl9
 Ho38qU7jfTi7nKoeuRLVwOp0hxrzA6vMcKVR4=
X-Google-DKIM-Signature: v=1; a=rsa-sha256; c=relaxed/relaxed;
 d=1e100.net; s=20230601; t=1726058611; x=1726663411;
 h=references:in-reply-to:cc:to:from:subject:message-id:date
 :x-gm-message-state:from:to:cc:subject:date:message-id:reply-to;
 bh=EuESWMgBThHjBEi2Q9Tu9SwskVfAe0CzOhd8aMpnmo0=;
 b=Rwivc+yegX49H8FaHdziO2kU0QPWlvlfV0hGE41dhF4SNQkuanfbqlXSfXtOb68mzR
 voXtf1Syvwj9HGZGvQWmhUXzoiHmsshJNdYt2bACHADNrt7bMZmjQfTl+kh6dF0dutQs
 zjg+jD4tlyeZnGu7q5xfUiRFKPrTpg2SmavMdzxMnNVNtt1aQGTmRHVO2s3Ha25jLG2I
 C0V7S+6cq/VGvusng4D+eE2B0rG5BKZmSft3Ia2G/5V2AFzcUKNaAnL7OjuN3ABGl2qR
 hixlCZ+8MV2isj31bO2Vo0LLgYXkoiWrj6whpZpB+f3dBCRu/n1MgjOKu2H+kgjKh/9P
 Y66Q==
X-Gm-Message-State: AOJu0Yxc8yEFpEUIdYhaeAEBUxRotpvZiYxPVCqmw9/Tc7uYnhSUs5gx
 ZtlMh68xqvw7q5LzV0vHpop6b4mEp+Y1BFDWOZAncv6UJPBkvIcA+lJTdU62m4HjvM+To9PO6+d
 j5qbtxMyq3cRTfPfiAmNTb/2oeL8jY7AdY0fKHntQ
X-Google-Smtp-Source: AGHT+IFZS82/DEtqtJRmMld8KL34vjDS90cxDjuWlVL9IDBYPX9YiCCxDWfOg7u8V8WFrqjcsRZG7wskoQ1O
X-Received: by 2002:a17:90b:1650:b0:2d8:7307:3f74 with SMTP id
 98e67ed59e1d1-2dad50f104amr19733072a91.27.1726058611353; 
 Wed, 11 Sep 2024 05:43:31 -0700 (PDT)
Received: from postal.iol.unh.edu (postal.iol.unh.edu. [132.177.123.84])
 by smtp-relay.gmail.com with ESMTPS id
 98e67ed59e1d1-2db042be54asm234365a91.7.2024.09.11.05.43.30
 (version=TLS1_2 cipher=ECDHE-ECDSA-AES128-GCM-SHA256 bits=128/128);
 Wed, 11 Sep 2024 05:43:31 -0700 (PDT)
X-Relaying-Domain: iol.unh.edu
Date: Wed, 11 Sep 2024 05:43:31 -0700 (PDT)
Message-ID: <66e19073.170a0220.12a5a4.1953SMTPIN_ADDED_MISSING@mx.google.com>
Received: from [172.21.0.2] (unknown [172.18.0.240])
 by postal.iol.unh.edu (Postfix) with ESMTP id A4F346050A6D;
 Wed, 11 Sep 2024 08:43:27 -0400 (EDT)
Subject: |SUCCESS| pw143937 [PATCH] [v4,1/1] testpmd: add hairpin-map paramet
From: dpdklab@iol.unh.edu
To: Test Report <test-report@dpdk.org>
Cc: dpdk-test-reports@iol.unh.edu
In-Reply-To: <20240911050833.202698-1-getelson@nvidia.com>
References: <20240911050833.202698-1-getelson@nvidia.com>
Content-Type: text/plain
X-BeenThere: test-report@dpdk.org
X-Mailman-Version: 2.1.29
Precedence: list
List-Id: automatic DPDK test reports <test-report.dpdk.org>
List-Unsubscribe: <https://mails.dpdk.org/options/test-report>,
 <mailto:test-report-request@dpdk.org?subject=unsubscribe>
List-Archive: <http://mails.dpdk.org/archives/test-report/>
List-Post: <mailto:test-report@dpdk.org>
List-Help: <mailto:test-report-request@dpdk.org?subject=help>
List-Subscribe: <https://mails.dpdk.org/listinfo/test-report>,
 <mailto:test-report-request@dpdk.org?subject=subscribe>
Errors-To: test-report-bounces@dpdk.org

Test-Label: iol-compile-amd64-testing
Test-Status: SUCCESS
http://dpdk.org/patch/143937

_Testing PASS_

Submitter: Gregory Etelson <getelson@nvidia.com>
Date: Wednesday, September 11 2024 05:08:33 
DPDK git baseline: Repo:dpdk
  Branch: master
  CommitID:523fd7b3adfdf5a87651e8ca33bc69223b3211d5

143937 --> testing pass

Upstream job id: Windows-Compile-DPDK-VS#3068

Test environment and result as below:

+---------------------+-----------------------+--------------------+-------------------+
|     Environment     | dpdk_win_llvm_compile | dpdk_meson_compile | dpdk_msvc_compile |
+=====================+=======================+====================+===================+
| Windows Server 2022 | PASS                  | SKIPPED            | PASS              |
+---------------------+-----------------------+--------------------+-------------------+
| FreeBSD 13.3        | SKIPPED               | PASS               | SKIPPED           |
+---------------------+-----------------------+--------------------+-------------------+
| FreeBSD 14.1        | SKIPPED               | PASS               | SKIPPED           |
+---------------------+-----------------------+--------------------+-------------------+


Windows Server 2022
	Kernel: 10.0.20348.2031
	Compiler: clang 15.0.7, gcc 14.1.0 (MinGW), and MSVC VS 19.39.33521

FreeBSD 13.3
	Kernel: 13.3-RELEASE-p5
	Compiler: clang 17.0.6

FreeBSD 14.1
	Kernel: 14.1-RELEASE-p3
	Compiler: clang 18.1.5

To view detailed results, visit:
https://lab.dpdk.org/results/dashboard/patchsets/30997/

UNH-IOL DPDK Community Lab

To manage your email subscriptions, visit: 
https://lab.dpdk.org/results/dashboard/preferences/subscriptions/