From mboxrd@z Thu Jan  1 00:00:00 1970
Return-Path: <test-report-bounces@dpdk.org>
Received: from mails.dpdk.org (mails.dpdk.org [217.70.189.124])
	by inbox.dpdk.org (Postfix) with ESMTP id 6A1414585A
	for <public@inbox.dpdk.org>; Wed, 11 Sep 2024 17:42:09 +0200 (CEST)
Received: from mails.dpdk.org (localhost [127.0.0.1])
	by mails.dpdk.org (Postfix) with ESMTP id 40BA44029E;
	Wed, 11 Sep 2024 17:42:09 +0200 (CEST)
Received: from mail-yb1-f227.google.com (mail-yb1-f227.google.com
 [209.85.219.227])
 by mails.dpdk.org (Postfix) with ESMTP id E889B40267
 for <test-report@dpdk.org>; Wed, 11 Sep 2024 17:42:07 +0200 (CEST)
Received: by mail-yb1-f227.google.com with SMTP id
 3f1490d57ef6-e1a819488e3so5915342276.3
 for <test-report@dpdk.org>; Wed, 11 Sep 2024 08:42:07 -0700 (PDT)
DKIM-Signature: v=1; a=rsa-sha256; c=relaxed/relaxed;
 d=iol.unh.edu; s=unh-iol; t=1726069327; x=1726674127; darn=dpdk.org;
 h=references:in-reply-to:cc:to:from:subject:message-id:date:from:to
 :cc:subject:date:message-id:reply-to;
 bh=4bBno2iyUWA+A8EMfsPbFuu5OJz2e6a6CE6a/rvUKRQ=;
 b=OgmHsEcqwOAyWQVT/dNd4nhxT5EonvzcfnCRhZizsvJG6IYtAtluQYv0tum7arEGEV
 L+RVBIstNPOI4KujSL2bPLcAv5PCssN7jOF/s657sRaayJvEx0LfBhWFcZyPSsBGJV6k
 wMmS/e5WQDzJGr03yilu7RDhzOYN5Q8XEWVNo=
X-Google-DKIM-Signature: v=1; a=rsa-sha256; c=relaxed/relaxed;
 d=1e100.net; s=20230601; t=1726069327; x=1726674127;
 h=references:in-reply-to:cc:to:from:subject:message-id:date
 :x-gm-message-state:from:to:cc:subject:date:message-id:reply-to;
 bh=4bBno2iyUWA+A8EMfsPbFuu5OJz2e6a6CE6a/rvUKRQ=;
 b=qmfbIhkB5OuL7IXuZ/itLQVFx3xnQuktn4y6JnAci/tkErQQdrF3y43JgKiOsl76lh
 O8Af45NmeDQSPiaLRjP6uTTrVBKbZ5p1bZ2L4nHOGZccgXEHB4e0mHgf672Rh+R1jImD
 c2l+KTtKctW23pVPjnuYWwOM79Rseo744irw2QJVp+fFb9GB3JUw25LiePaGah9r1/8W
 2VW5E4vTnxThnB/2gIckbXwxKkqS4o1rnUKPj41nZ0ZFdQU+zZ/zgzp7I8VmnKeUpcCJ
 wJM8u31Yo6qQ+cyLiRKd8nMqlAtLdQmHXMn0mJ9nKpaxRKunETX8glKv5I2nD3yPjOip
 C0rg==
X-Gm-Message-State: AOJu0Yyzuvs0ZeyDD0gYa87K9RH5A5/qitGapI+CV5S9FfORQIey7R0Y
 oV3mmR69xMfGVxfVrQEX9ne9/+gFPYlvDpp7j+dDEbRzxWd+hfqZSqb12GqJvOz53jXT5Mj6uP7
 5+SiB/7/imvJQMEUWKbbeO/o8xrwMnL/4i0EHmazc
X-Google-Smtp-Source: AGHT+IHv/9Y5sCrTuCT3LnJZ+Ynfu71lL38rFk9WaVvABwFT1W2InoT+ML3pma8J9sGGok4vBPnd+Mr6nAk2
X-Received: by 2002:a05:6902:1b11:b0:e1d:290d:9e9e with SMTP id
 3f1490d57ef6-e1d349dc9f8mr15450935276.43.1726069327193; 
 Wed, 11 Sep 2024 08:42:07 -0700 (PDT)
Received: from postal.iol.unh.edu (postal.iol.unh.edu. [132.177.123.84])
 by smtp-relay.gmail.com with ESMTPS id
 3f1490d57ef6-e1d7ba095c6sm191812276.13.2024.09.11.08.42.07
 (version=TLS1_2 cipher=ECDHE-ECDSA-AES128-GCM-SHA256 bits=128/128);
 Wed, 11 Sep 2024 08:42:07 -0700 (PDT)
X-Relaying-Domain: iol.unh.edu
Date: Wed, 11 Sep 2024 08:42:07 -0700 (PDT)
Message-ID: <66e1ba4f.250a0220.85de7.d970SMTPIN_ADDED_MISSING@mx.google.com>
Received: from [172.17.0.5] (unknown [172.18.0.217])
 by postal.iol.unh.edu (Postfix) with ESMTP id 73E956050A6D;
 Wed, 11 Sep 2024 11:42:06 -0400 (EDT)
Subject: |SUCCESS| pw143918-143933 [PATCH] [v2,19/19] net/xsc: add dev basic 
From: dpdklab@iol.unh.edu
To: Test Report <test-report@dpdk.org>
Cc: dpdk-test-reports@iol.unh.edu
In-Reply-To: <20240911020740.3950704-20-wanry@yunsilicon.com>
References: <20240911020740.3950704-20-wanry@yunsilicon.com>
Content-Type: text/plain
X-BeenThere: test-report@dpdk.org
X-Mailman-Version: 2.1.29
Precedence: list
List-Id: automatic DPDK test reports <test-report.dpdk.org>
List-Unsubscribe: <https://mails.dpdk.org/options/test-report>,
 <mailto:test-report-request@dpdk.org?subject=unsubscribe>
List-Archive: <http://mails.dpdk.org/archives/test-report/>
List-Post: <mailto:test-report@dpdk.org>
List-Help: <mailto:test-report-request@dpdk.org?subject=help>
List-Subscribe: <https://mails.dpdk.org/listinfo/test-report>,
 <mailto:test-report-request@dpdk.org?subject=subscribe>
Errors-To: test-report-bounces@dpdk.org

Test-Label: iol-compile-amd64-testing
Test-Status: SUCCESS
http://dpdk.org/patch/143933

_Testing PASS_

Submitter: WanRenyong <wanry@yunsilicon.com>
Date: Wednesday, September 11 2024 02:07:40 
DPDK git baseline: Repo:dpdk
  Branch: master
  CommitID:523fd7b3adfdf5a87651e8ca33bc69223b3211d5

143918-143933 --> testing pass

Upstream job id: Generic-DPDK-Compile-Meson#299272

Test environment and result as below:

+---------------------+-----------------------+--------------------+----------------------+-------------------+------------------+-------------------+
|     Environment     | dpdk_win_llvm_compile | dpdk_meson_compile | dpdk_mingw64_compile | dpdk_msvc_compile | dpdk_compile_ovs | dpdk_compile_spdk |
+=====================+=======================+====================+======================+===================+==================+===================+
| Windows Server 2022 | PASS                  | SKIPPED            | PASS                 | PASS              | SKIPPED          | SKIPPED           |
+---------------------+-----------------------+--------------------+----------------------+-------------------+------------------+-------------------+
| FreeBSD 13.3        | SKIPPED               | PASS               | SKIPPED              | SKIPPED           | SKIPPED          | SKIPPED           |
+---------------------+-----------------------+--------------------+----------------------+-------------------+------------------+-------------------+
| FreeBSD 14.1        | SKIPPED               | PASS               | SKIPPED              | SKIPPED           | SKIPPED          | SKIPPED           |
+---------------------+-----------------------+--------------------+----------------------+-------------------+------------------+-------------------+
| CentOS Stream 9     | SKIPPED               | PASS               | SKIPPED              | SKIPPED           | PASS             | PASS              |
+---------------------+-----------------------+--------------------+----------------------+-------------------+------------------+-------------------+
| Debian Bullseye     | SKIPPED               | PASS               | SKIPPED              | SKIPPED           | PASS             | PASS              |
+---------------------+-----------------------+--------------------+----------------------+-------------------+------------------+-------------------+
| Debian 12           | SKIPPED               | PASS               | SKIPPED              | SKIPPED           | PASS             | PASS              |
+---------------------+-----------------------+--------------------+----------------------+-------------------+------------------+-------------------+
| Fedora 37           | SKIPPED               | PASS               | SKIPPED              | SKIPPED           | PASS             | PASS              |
+---------------------+-----------------------+--------------------+----------------------+-------------------+------------------+-------------------+
| Fedora 38 (Clang)   | SKIPPED               | PASS               | SKIPPED              | SKIPPED           | PASS             | PASS              |
+---------------------+-----------------------+--------------------+----------------------+-------------------+------------------+-------------------+
| Fedora 38           | SKIPPED               | PASS               | SKIPPED              | SKIPPED           | PASS             | PASS              |
+---------------------+-----------------------+--------------------+----------------------+-------------------+------------------+-------------------+
| Fedora 39 (Clang)   | SKIPPED               | PASS               | SKIPPED              | SKIPPED           | PASS             | PASS              |
+---------------------+-----------------------+--------------------+----------------------+-------------------+------------------+-------------------+
| Fedora 39           | SKIPPED               | PASS               | SKIPPED              | SKIPPED           | PASS             | PASS              |
+---------------------+-----------------------+--------------------+----------------------+-------------------+------------------+-------------------+
| Fedora 40 (Clang)   | SKIPPED               | PASS               | SKIPPED              | SKIPPED           | PASS             | PASS              |
+---------------------+-----------------------+--------------------+----------------------+-------------------+------------------+-------------------+
| Fedora 40           | SKIPPED               | PASS               | SKIPPED              | SKIPPED           | PASS             | PASS              |
+---------------------+-----------------------+--------------------+----------------------+-------------------+------------------+-------------------+
| openSUSE Leap 15    | SKIPPED               | PASS               | SKIPPED              | SKIPPED           | PASS             | SKIPPED           |
+---------------------+-----------------------+--------------------+----------------------+-------------------+------------------+-------------------+
| RHEL8               | SKIPPED               | PASS               | SKIPPED              | SKIPPED           | PASS             | SKIPPED           |
+---------------------+-----------------------+--------------------+----------------------+-------------------+------------------+-------------------+
| RHEL9               | SKIPPED               | PASS               | SKIPPED              | SKIPPED           | PASS             | SKIPPED           |
+---------------------+-----------------------+--------------------+----------------------+-------------------+------------------+-------------------+
| Ubuntu 22.04        | SKIPPED               | PASS               | SKIPPED              | SKIPPED           | PASS             | PASS              |
+---------------------+-----------------------+--------------------+----------------------+-------------------+------------------+-------------------+
| Alpine              | SKIPPED               | PASS               | SKIPPED              | SKIPPED           | PASS             | SKIPPED           |
+---------------------+-----------------------+--------------------+----------------------+-------------------+------------------+-------------------+
| Ubuntu 24.04        | SKIPPED               | PASS               | SKIPPED              | SKIPPED           | PASS             | PASS              |
+---------------------+-----------------------+--------------------+----------------------+-------------------+------------------+-------------------+
| Ubuntu 20.04        | SKIPPED               | PASS               | SKIPPED              | SKIPPED           | PASS             | SKIPPED           |
+---------------------+-----------------------+--------------------+----------------------+-------------------+------------------+-------------------+


Windows Server 2022
	Kernel: 10.0.20348.2031
	Compiler: clang 15.0.7, gcc 14.1.0 (MinGW), and MSVC VS 19.39.33521

FreeBSD 13.3
	Kernel: 13.3-RELEASE-p5
	Compiler: clang 17.0.6

FreeBSD 14.1
	Kernel: 14.1-RELEASE-p3
	Compiler: clang 18.1.5

CentOS Stream 9
	Kernel: Depends on container host
	Compiler: gcc 11.4.1 20231218 (Red Hat 11.4.1-3)

Debian Bullseye
	Kernel: Depends on container host
	Compiler: gcc (Debian 10.2.1-6) 10.2.1 20210110

Debian 12
	Kernel: Depends on container host
	Compiler: gcc (Debian 12.2.0-14) 12.2.0

Fedora 37
	Kernel: Depends on container host system
	Compiler: gcc 12.3.1 20230508 (Red Hat 12.3.1-1)

Fedora 38 (Clang)
	Kernel: Depends on container host
	Compiler: clang 16.0.6 (Fedora 16.0.6-4.fc38)

Fedora 38
	Kernel: Depends on container host
	Compiler: gcc 13.2.1 20240316 (Red Hat 13.2.1-7)

Fedora 39 (Clang)
	Kernel: Depends on container host
	Compiler: clang 17.0.6 (Fedora 17.0.6-2.fc39)

Fedora 39
	Kernel: Depends on container host
	Compiler: gcc 13.3.1 20240522 (Red Hat 13.3.1-1)

Fedora 40 (Clang)
	Kernel: Depends on container host
	Compiler: clang 18.1.6 (Fedora 18.1.6-3.fc40)

Fedora 40
	Kernel: Depends on container host
	Compiler: gcc 14.2.1 20240801 (Red Hat 14.2.1-1)

openSUSE Leap 15
	Kernel: Depends on container host
	Compiler: gcc (SUSE Linux) 7.5.0

RHEL8
	Kernel: Depends on container host
	Compiler: gcc 8.5.0 20210514 (Red Hat 8.5.0-22)

RHEL9
	Kernel: Depends on container host
	Compiler: gcc 11.4.1 20231218 (Red Hat 11.4.1-3)

Ubuntu 22.04
	Kernel: Depends on container host
	Compiler: gcc (Ubuntu 11.4.0-1ubuntu1~22.04) 11.4.0

Alpine
	Kernel: Depends on container host
	Compiler: gcc (Alpine 13.2.1_git20240309) 13.2.1 20240309

Ubuntu 24.04
	Kernel: Depends on container host
	Compiler: gcc (Ubuntu 13.2.0-23ubuntu4) 13.2.0

Ubuntu 20.04
	Kernel: Depends on container host
	Compiler: gcc (Ubuntu 9.4.0-1ubuntu1~20.04.2) 9.4.0

To view detailed results, visit:
https://lab.dpdk.org/results/dashboard/patchsets/30995/

UNH-IOL DPDK Community Lab

To manage your email subscriptions, visit: 
https://lab.dpdk.org/results/dashboard/preferences/subscriptions/