From mboxrd@z Thu Jan  1 00:00:00 1970
Return-Path: <test-report-bounces@dpdk.org>
Received: from mails.dpdk.org (mails.dpdk.org [217.70.189.124])
	by inbox.dpdk.org (Postfix) with ESMTP id 39B6145962
	for <public@inbox.dpdk.org>; Wed, 11 Sep 2024 18:16:45 +0200 (CEST)
Received: from mails.dpdk.org (localhost [127.0.0.1])
	by mails.dpdk.org (Postfix) with ESMTP id 3378B42ECF;
	Wed, 11 Sep 2024 18:16:45 +0200 (CEST)
Received: from mail-yw1-f226.google.com (mail-yw1-f226.google.com
 [209.85.128.226])
 by mails.dpdk.org (Postfix) with ESMTP id D6B8D40261
 for <test-report@dpdk.org>; Wed, 11 Sep 2024 18:16:43 +0200 (CEST)
Received: by mail-yw1-f226.google.com with SMTP id
 00721157ae682-6db67400db4so43315667b3.1
 for <test-report@dpdk.org>; Wed, 11 Sep 2024 09:16:43 -0700 (PDT)
DKIM-Signature: v=1; a=rsa-sha256; c=relaxed/relaxed;
 d=iol.unh.edu; s=unh-iol; t=1726071403; x=1726676203; darn=dpdk.org;
 h=references:in-reply-to:cc:to:from:subject:message-id:date:from:to
 :cc:subject:date:message-id:reply-to;
 bh=onsMQtEDF+uiqSq/j1+iYniZvm4EDndI1GAQekntung=;
 b=Dws30rQNsu1KmGM+JQIO4MIRkyt7ALJVPPNiu01SoJaC7A1u8TA/SYU87MrSMrfc+q
 G2RcsL09sA+ZH/D6r9/fuR0aSUDbIx2MFsBDiXErDYW6pRcbBlaK7YU0842vX3leq7eF
 DvQLIrZQpqFoEEtLlgRfKaR3Dx6jAuPY9s0Dw=
X-Google-DKIM-Signature: v=1; a=rsa-sha256; c=relaxed/relaxed;
 d=1e100.net; s=20230601; t=1726071403; x=1726676203;
 h=references:in-reply-to:cc:to:from:subject:message-id:date
 :x-gm-message-state:from:to:cc:subject:date:message-id:reply-to;
 bh=onsMQtEDF+uiqSq/j1+iYniZvm4EDndI1GAQekntung=;
 b=HOrELZY43dCnqBEsqYxXb2S/jF8V89FRvOmBI5HIoEB0vFBpoyeJHrelfR9vJwkUkv
 eHibQOZsJcoXuUeXNCrZ4icNfULDPmeTEdWFigbn+fWELHrvLKfuxqhNuKMlmZaM6upx
 QWrubKx7ksKzfQv70/I3htziRYiATfzegw/QnaX0d+NGzTrYaq2WWI9l2H/Hs3PBqg5q
 M5TkjDK8zu3cuRqoWYe9jbAxNFyCtQfmfugaQdmLS4pgMakMIfYioWU5Gte+fZFskYHH
 VrhMQrlPkDnO3G/Da8ZTdHL8J991Nw7i2J61N/qmytPQQTJD5M+BGE+oQkNRXzn9WwK+
 NLVA==
X-Gm-Message-State: AOJu0YzatpRrthrRzH2XyKjsR+4q1HOG32bdG+Gxj9wJy3qfGnrwvkK1
 C4kw3uZot6HpqaWrHOK8i4dQaRyqKmyWaBXAHo5y09/LrnV2hsAKNKpUgs5PxnDrA3WDIvfX4XC
 owQEM+NYmqVvSzrs79TXX1ZAjpN6eF1/NhiQlld8M
X-Google-Smtp-Source: AGHT+IGgdtdR1p2teuQwMDhQ7CnR0i9whTEu73Tc5Jr6FbHOMpR7WSWi6hx5pDTpAhkhasNtK1qT82Z8gIvU
X-Received: by 2002:a05:690c:4801:b0:6be:97e7:ff76 with SMTP id
 00721157ae682-6db44d9fc2amr216516587b3.11.1726071403299; 
 Wed, 11 Sep 2024 09:16:43 -0700 (PDT)
Received: from postal.iol.unh.edu (postal.iol.unh.edu. [132.177.123.84])
 by smtp-relay.gmail.com with ESMTPS id
 00721157ae682-6db965216d7sm1322497b3.71.2024.09.11.09.16.43
 (version=TLS1_2 cipher=ECDHE-ECDSA-AES128-GCM-SHA256 bits=128/128);
 Wed, 11 Sep 2024 09:16:43 -0700 (PDT)
X-Relaying-Domain: iol.unh.edu
Date: Wed, 11 Sep 2024 09:16:43 -0700 (PDT)
Message-ID: <66e1c26b.050a0220.3c202f.9905SMTPIN_ADDED_MISSING@mx.google.com>
Received: from [172.21.0.2] (unknown [172.18.0.240])
 by postal.iol.unh.edu (Postfix) with ESMTP id E764D6050A6D;
 Wed, 11 Sep 2024 12:16:42 -0400 (EDT)
Subject: |SUCCESS| pw143937 [PATCH] [v4,1/1] testpmd: add hairpin-map paramet
From: dpdklab@iol.unh.edu
To: Test Report <test-report@dpdk.org>
Cc: dpdk-test-reports@iol.unh.edu
In-Reply-To: <20240911050833.202698-1-getelson@nvidia.com>
References: <20240911050833.202698-1-getelson@nvidia.com>
Content-Type: text/plain
X-BeenThere: test-report@dpdk.org
X-Mailman-Version: 2.1.29
Precedence: list
List-Id: automatic DPDK test reports <test-report.dpdk.org>
List-Unsubscribe: <https://mails.dpdk.org/options/test-report>,
 <mailto:test-report-request@dpdk.org?subject=unsubscribe>
List-Archive: <http://mails.dpdk.org/archives/test-report/>
List-Post: <mailto:test-report@dpdk.org>
List-Help: <mailto:test-report-request@dpdk.org?subject=help>
List-Subscribe: <https://mails.dpdk.org/listinfo/test-report>,
 <mailto:test-report-request@dpdk.org?subject=subscribe>
Errors-To: test-report-bounces@dpdk.org

Test-Label: iol-unit-amd64-testing
Test-Status: SUCCESS
http://dpdk.org/patch/143937

_Testing PASS_

Submitter: Gregory Etelson <getelson@nvidia.com>
Date: Wednesday, September 11 2024 05:08:33 
DPDK git baseline: Repo:dpdk
  Branch: master
  CommitID:523fd7b3adfdf5a87651e8ca33bc69223b3211d5

143937 --> testing pass

Upstream job id: Generic-Unit-Test-DPDK#261371

Test environment and result as below:

+---------------------+----------------+
|     Environment     | dpdk_unit_test |
+=====================+================+
| CentOS Stream 9     | PASS           |
+---------------------+----------------+
| Debian Bullseye     | PASS           |
+---------------------+----------------+
| Debian 12           | PASS           |
+---------------------+----------------+
| Fedora 37           | PASS           |
+---------------------+----------------+
| Fedora 38           | PASS           |
+---------------------+----------------+
| Fedora 38 (Clang)   | PASS           |
+---------------------+----------------+
| Fedora 39 (Clang)   | PASS           |
+---------------------+----------------+
| Fedora 39           | PASS           |
+---------------------+----------------+
| Fedora 40 (Clang)   | PASS           |
+---------------------+----------------+
| Fedora 40           | PASS           |
+---------------------+----------------+
| RHEL8               | PASS           |
+---------------------+----------------+
| RHEL9               | PASS           |
+---------------------+----------------+
| Ubuntu 20.04        | PASS           |
+---------------------+----------------+
| Ubuntu 22.04        | PASS           |
+---------------------+----------------+
| Ubuntu 24.04        | PASS           |
+---------------------+----------------+
| Windows Server 2022 | PASS           |
+---------------------+----------------+


CentOS Stream 9
	Kernel: Depends on container host
	Compiler: gcc 11.4.1 20231218 (Red Hat 11.4.1-3)

Debian Bullseye
	Kernel: Depends on container host
	Compiler: gcc (Debian 10.2.1-6) 10.2.1 20210110

Debian 12
	Kernel: Depends on container host
	Compiler: gcc (Debian 12.2.0-14) 12.2.0

Fedora 37
	Kernel: Depends on container host system
	Compiler: gcc 12.3.1 20230508 (Red Hat 12.3.1-1)

Fedora 38
	Kernel: Depends on container host
	Compiler: gcc 13.2.1 20240316 (Red Hat 13.2.1-7)

Fedora 38 (Clang)
	Kernel: Depends on container host
	Compiler: clang 16.0.6 (Fedora 16.0.6-4.fc38)

Fedora 39 (Clang)
	Kernel: Depends on container host
	Compiler: clang 17.0.6 (Fedora 17.0.6-2.fc39)

Fedora 39
	Kernel: Depends on container host
	Compiler: gcc 13.3.1 20240522 (Red Hat 13.3.1-1)

Fedora 40 (Clang)
	Kernel: Depends on container host
	Compiler: clang 18.1.6 (Fedora 18.1.6-3.fc40)

Fedora 40
	Kernel: Depends on container host
	Compiler: gcc 14.2.1 20240801 (Red Hat 14.2.1-1)

RHEL8
	Kernel: Depends on container host
	Compiler: gcc 8.5.0 20210514 (Red Hat 8.5.0-22)

RHEL9
	Kernel: Depends on container host
	Compiler: gcc 11.4.1 20231218 (Red Hat 11.4.1-3)

Ubuntu 20.04
	Kernel: Depends on container host
	Compiler: gcc (Ubuntu 9.4.0-1ubuntu1~20.04.2) 9.4.0

Ubuntu 22.04
	Kernel: Depends on container host
	Compiler: gcc (Ubuntu 11.4.0-1ubuntu1~22.04) 11.4.0

Ubuntu 24.04
	Kernel: Depends on container host
	Compiler: gcc (Ubuntu 13.2.0-23ubuntu4) 13.2.0

Windows Server 2022
	Kernel: 10.0.20348.2031
	Compiler: clang 15.0.7, gcc 14.1.0 (MinGW), and MSVC VS 19.39.33521

To view detailed results, visit:
https://lab.dpdk.org/results/dashboard/patchsets/30997/

UNH-IOL DPDK Community Lab

To manage your email subscriptions, visit: 
https://lab.dpdk.org/results/dashboard/preferences/subscriptions/