From mboxrd@z Thu Jan  1 00:00:00 1970
Return-Path: <test-report-bounces@dpdk.org>
Received: from mails.dpdk.org (mails.dpdk.org [217.70.189.124])
	by inbox.dpdk.org (Postfix) with ESMTP id 4743145966
	for <public@inbox.dpdk.org>; Thu, 12 Sep 2024 05:23:59 +0200 (CEST)
Received: from mails.dpdk.org (localhost [127.0.0.1])
	by mails.dpdk.org (Postfix) with ESMTP id 35D8740612;
	Thu, 12 Sep 2024 05:23:59 +0200 (CEST)
Received: from mail-oo1-f98.google.com (mail-oo1-f98.google.com
 [209.85.161.98]) by mails.dpdk.org (Postfix) with ESMTP id 02E3A4027D
 for <test-report@dpdk.org>; Thu, 12 Sep 2024 05:23:58 +0200 (CEST)
Received: by mail-oo1-f98.google.com with SMTP id
 006d021491bc7-5e1b50fea4bso264774eaf.2
 for <test-report@dpdk.org>; Wed, 11 Sep 2024 20:23:57 -0700 (PDT)
DKIM-Signature: v=1; a=rsa-sha256; c=relaxed/relaxed;
 d=iol.unh.edu; s=unh-iol; t=1726111437; x=1726716237; darn=dpdk.org;
 h=references:in-reply-to:cc:to:from:subject:message-id:date:from:to
 :cc:subject:date:message-id:reply-to;
 bh=4VMGh9YaUBLZRxQcvgxUiWxdLqty6SDHY+kc2uqcdEo=;
 b=fr0Sq9oaWkgJDL0YHAyjggO1i4xDNqRWgG+Df3zO99VClYa9xabPJwFm4pqxne4iQM
 urmdYRNxsvy8wDcoxVkLxj90VaZZrzlXZHScRrsx90EX6aB7zK+5w67oq46Ldq8/9DPl
 JT/k8EeIYBQpqQLy4jpqt5nL+SweqGCq9oAnc=
X-Google-DKIM-Signature: v=1; a=rsa-sha256; c=relaxed/relaxed;
 d=1e100.net; s=20230601; t=1726111437; x=1726716237;
 h=references:in-reply-to:cc:to:from:subject:message-id:date
 :x-gm-message-state:from:to:cc:subject:date:message-id:reply-to;
 bh=4VMGh9YaUBLZRxQcvgxUiWxdLqty6SDHY+kc2uqcdEo=;
 b=wkalHB+kFzV8hDG3yFw8N8orpbF27fLqCBbKjM3inaJ3aW+e7pDCjFE46OLEvfUg8h
 /kU6LJMVDhwkM+8lJhXDH5jofCCNPN9UjiAAAMXNwaj0sBCYiEG7SFMzua9MpoC5sHLk
 uc4u1WN6MdAzDUlr0YLTi8M+IYQSr1DcGVm1WWbHIxz8hHGwOtxiz4EpIsh4t4yLGiHg
 GFXJLHzaM+1AnM5+3FdcGbdA+8Dx+77TPF58H8dDTDtro4Vp04Tmg2gGPqusyzxEKr4+
 TCTQj+5EgwhMh+mDZEODg05NAoOMGKBIR29xkEnu68sNlc8nRSso6XAy4CAH1FSZuk7h
 K3eg==
X-Gm-Message-State: AOJu0Yx/ifD1R9IcV45gRK6i0+JbJBe7hSfF+gRK0GhSAtqJutqdL957
 +USTQdV1cI+swFa7EBkPuzN8WcmZbVKU/WaqU2x3onh3NHdcKfzuzn/lnxTKKYa9NV3CvxP7w+i
 cRw6m2ECfMnaSIZIykDJ2HmNe9T8d3hveB4PcJ8IWs5RM7hmVVhX3rcnd
X-Google-Smtp-Source: AGHT+IFa7HY03K0Js4+cd+sx7TD9HW6/XQjw7DLW0UwXDnDRmYldxZRFUKHOOHFTxY+EeL3w3XnIoP7hQvwe
X-Received: by 2002:a05:6870:972c:b0:270:4d48:6be2 with SMTP id
 586e51a60fabf-27c3f411895mr953465fac.26.1726111437163; 
 Wed, 11 Sep 2024 20:23:57 -0700 (PDT)
Received: from postal.iol.unh.edu (postal.iol.unh.edu.
 [2606:4100:3880:1234::84]) by smtp-relay.gmail.com with ESMTPS id
 586e51a60fabf-27ba3e9fee2sm398939fac.13.2024.09.11.20.23.57
 (version=TLS1_2 cipher=ECDHE-ECDSA-AES128-GCM-SHA256 bits=128/128);
 Wed, 11 Sep 2024 20:23:57 -0700 (PDT)
X-Relaying-Domain: iol.unh.edu
Date: Wed, 11 Sep 2024 20:23:57 -0700 (PDT)
Message-ID: <66e25ecd.050a0220.29b86c.ef5fSMTPIN_ADDED_MISSING@mx.google.com>
Received: from [172.21.0.2] (unknown [172.18.0.240])
 by postal.iol.unh.edu (Postfix) with ESMTP id 9D2C0605C351;
 Wed, 11 Sep 2024 23:23:56 -0400 (EDT)
Subject: |SUCCESS| pw143959 [PATCH] crypto/scheduler: fix crashes in schedule
From: dpdklab@iol.unh.edu
To: Test Report <test-report@dpdk.org>
Cc: dpdk-test-reports@iol.unh.edu
In-Reply-To: <tencent_98734034A30594BC001A8912CB3C7ED6CF05@qq.com>
References: <tencent_98734034A30594BC001A8912CB3C7ED6CF05@qq.com>
Content-Type: text/plain
X-BeenThere: test-report@dpdk.org
X-Mailman-Version: 2.1.29
Precedence: list
List-Id: automatic DPDK test reports <test-report.dpdk.org>
List-Unsubscribe: <https://mails.dpdk.org/options/test-report>,
 <mailto:test-report-request@dpdk.org?subject=unsubscribe>
List-Archive: <http://mails.dpdk.org/archives/test-report/>
List-Post: <mailto:test-report@dpdk.org>
List-Help: <mailto:test-report-request@dpdk.org?subject=help>
List-Subscribe: <https://mails.dpdk.org/listinfo/test-report>,
 <mailto:test-report-request@dpdk.org?subject=subscribe>
Errors-To: test-report-bounces@dpdk.org

Test-Label: iol-unit-arm64-testing
Test-Status: SUCCESS
http://dpdk.org/patch/143959

_Testing PASS_

Submitter: Yong Liang <1269690261@qq.com>
Date: Wednesday, September 11 2024 16:06:10 
DPDK git baseline: Repo:dpdk
  Branch: master
  CommitID:b3485f4293997d35b6daecc3437bb0c183a51fb3

143959 --> testing pass

Upstream job id: Generic-Unit-Test-DPDK#261604

Test environment and result as below:

+-----------------------------+---------------------------+--------------+------------------------------+----------------+
|         Environment         | cryptodev_sw_zuc_autotest | lpm_autotest | cryptodev_sw_snow3g_autotest | dpdk_unit_test |
+=============================+===========================+==============+==============================+================+
| Debian 12 (arm)             | PASS                      | SKIPPED      | PASS                         | PASS           |
+-----------------------------+---------------------------+--------------+------------------------------+----------------+
| Ubuntu 20.04 ARM SVE        | SKIPPED                   | PASS         | SKIPPED                      | SKIPPED        |
+-----------------------------+---------------------------+--------------+------------------------------+----------------+
| CentOS Stream 9 (ARM)       | SKIPPED                   | SKIPPED      | SKIPPED                      | PASS           |
+-----------------------------+---------------------------+--------------+------------------------------+----------------+
| Debian 11 (Buster) (ARM)    | SKIPPED                   | SKIPPED      | SKIPPED                      | PASS           |
+-----------------------------+---------------------------+--------------+------------------------------+----------------+
| Fedora 38 (ARM)             | SKIPPED                   | SKIPPED      | SKIPPED                      | PASS           |
+-----------------------------+---------------------------+--------------+------------------------------+----------------+
| Fedora 37 (ARM)             | SKIPPED                   | SKIPPED      | SKIPPED                      | PASS           |
+-----------------------------+---------------------------+--------------+------------------------------+----------------+
| Fedora 38 (ARM Clang)       | SKIPPED                   | SKIPPED      | SKIPPED                      | PASS           |
+-----------------------------+---------------------------+--------------+------------------------------+----------------+
| Fedora 39 (ARM)             | SKIPPED                   | SKIPPED      | SKIPPED                      | PASS           |
+-----------------------------+---------------------------+--------------+------------------------------+----------------+
| Fedora 39 (ARM Clang)       | SKIPPED                   | SKIPPED      | SKIPPED                      | PASS           |
+-----------------------------+---------------------------+--------------+------------------------------+----------------+
| Fedora 40 (ARM)             | SKIPPED                   | SKIPPED      | SKIPPED                      | PASS           |
+-----------------------------+---------------------------+--------------+------------------------------+----------------+
| Fedora 40 (ARM Clang)       | SKIPPED                   | SKIPPED      | SKIPPED                      | PASS           |
+-----------------------------+---------------------------+--------------+------------------------------+----------------+
| Ubuntu 20.04 (ARM)          | SKIPPED                   | SKIPPED      | SKIPPED                      | PASS           |
+-----------------------------+---------------------------+--------------+------------------------------+----------------+
| RHEL9 (ARM)                 | SKIPPED                   | SKIPPED      | SKIPPED                      | PASS           |
+-----------------------------+---------------------------+--------------+------------------------------+----------------+
| Ubuntu 24.04 (ARM)          | SKIPPED                   | SKIPPED      | SKIPPED                      | PASS           |
+-----------------------------+---------------------------+--------------+------------------------------+----------------+
| Ubuntu 22.04 (ARM)          | SKIPPED                   | SKIPPED      | SKIPPED                      | PASS           |
+-----------------------------+---------------------------+--------------+------------------------------+----------------+
| 32-bit Ubuntu 20.04.4 (ARM) | SKIPPED                   | SKIPPED      | SKIPPED                      | PASS           |
+-----------------------------+---------------------------+--------------+------------------------------+----------------+


Debian 12 (arm)
	Kernel: Depends on container host
	Compiler: gcc (Debian 12.2.0-14) 12.2.0

Ubuntu 20.04 ARM SVE
	Kernel: Depends on container host
	Compiler: gcc (Ubuntu 10.5.0-1ubuntu1~20.04) 10.5.0

CentOS Stream 9 (ARM)
	Kernel: Depends on container host
	Compiler: gcc 11.4.1 20231218 (Red Hat 11.4.1-3)

Debian 11 (Buster) (ARM)
	Kernel: Depends on container host
	Compiler: gcc (Debian 10.2.1-6) 10.2.1 20210110

Fedora 38 (ARM)
	Kernel: Depends on container host
	Compiler: gcc 13.2.1 20240316 (Red Hat 13.2.1-7)

Fedora 37 (ARM)
	Kernel: Depends on container host
	Compiler: gcc 12.3.1 20230508 (Red Hat 12.3.1-1)

Fedora 38 (ARM Clang)
	Kernel: Depends on container host
	Compiler: clang 16.0.6 (Fedora 16.0.6-4.fc38)

Fedora 39 (ARM)
	Kernel: Depends on container host
	Compiler: gcc 13.3.1 20240522 (Red Hat 13.3.1-1)

Fedora 39 (ARM Clang)
	Kernel: Depends on container host
	Compiler: clang 17.0.6 (Fedora 17.0.6-2.fc39)

Fedora 40 (ARM)
	Kernel: Depends on container host
	Compiler: gcc 14.2.1 20240801 (Red Hat 14.2.1-1)

Fedora 40 (ARM Clang)
	Kernel: Depends on container host
	Compiler: clang 18.1.6 (Fedora 18.1.6-3.fc40)

Ubuntu 20.04 (ARM)
	Kernel: Depends on container host
	Compiler: gcc (Ubuntu 9.4.0-1ubuntu1~20.04.2) 9.4.0

RHEL9 (ARM)
	Kernel: Depends on container host
	Compiler: gcc 11.4.1 20231218 (Red Hat 11.4.1-3)

Ubuntu 24.04 (ARM)
	Kernel: Depends on container host
	Compiler: gcc (Ubuntu 13.2.0-23ubuntu4) 13.2.0

Ubuntu 22.04 (ARM)
	Kernel: Depends on container host
	Compiler: gcc (Ubuntu 11.4.0-1ubuntu1~22.04) 11.4.0

32-bit Ubuntu 20.04.4 (ARM)
	Kernel: 5.4.0-155-generic aarch64
	Compiler: gcc 9.4

To view detailed results, visit:
https://lab.dpdk.org/results/dashboard/patchsets/31004/

UNH-IOL DPDK Community Lab

To manage your email subscriptions, visit: 
https://lab.dpdk.org/results/dashboard/preferences/subscriptions/