From mboxrd@z Thu Jan  1 00:00:00 1970
Return-Path: <test-report-bounces@dpdk.org>
Received: from mails.dpdk.org (mails.dpdk.org [217.70.189.124])
	by inbox.dpdk.org (Postfix) with ESMTP id AA41645967
	for <public@inbox.dpdk.org>; Thu, 12 Sep 2024 06:33:02 +0200 (CEST)
Received: from mails.dpdk.org (localhost [127.0.0.1])
	by mails.dpdk.org (Postfix) with ESMTP id 7E5B7406BA;
	Thu, 12 Sep 2024 06:33:02 +0200 (CEST)
Received: from mail-pl1-f227.google.com (mail-pl1-f227.google.com
 [209.85.214.227])
 by mails.dpdk.org (Postfix) with ESMTP id CAEF240657
 for <test-report@dpdk.org>; Thu, 12 Sep 2024 06:33:00 +0200 (CEST)
Received: by mail-pl1-f227.google.com with SMTP id
 d9443c01a7336-206f9b872b2so6073695ad.3
 for <test-report@dpdk.org>; Wed, 11 Sep 2024 21:33:00 -0700 (PDT)
DKIM-Signature: v=1; a=rsa-sha256; c=relaxed/relaxed;
 d=iol.unh.edu; s=unh-iol; t=1726115580; x=1726720380; darn=dpdk.org;
 h=references:in-reply-to:cc:to:from:subject:message-id:date:from:to
 :cc:subject:date:message-id:reply-to;
 bh=hfGspnNySgTrgq9d/4E+wayTKNxDxjeAm7oKUzfETr4=;
 b=bzPw1d9HRbNntdm2YZifcoHZh0il9jDMaFM75Y/C+Icfa8J8cMHhPiCLhwukob8OMA
 ahxzAAjtqcIozVX2UZ0YY9dNm8/dBuvh9/Ym5PQbgid1gQV1DbQekc6CsenokfePgin2
 fcFbUEZvCvCOoqpoaOruncd+pWO0KInfEUxbo=
X-Google-DKIM-Signature: v=1; a=rsa-sha256; c=relaxed/relaxed;
 d=1e100.net; s=20230601; t=1726115580; x=1726720380;
 h=references:in-reply-to:cc:to:from:subject:message-id:date
 :x-gm-message-state:from:to:cc:subject:date:message-id:reply-to;
 bh=hfGspnNySgTrgq9d/4E+wayTKNxDxjeAm7oKUzfETr4=;
 b=EQ+v6//VLEhCZcCPI1XZh+KFFEhxm0WEnn6xZdUND6w9VWQOOLT7YfsITB7lu+eLuZ
 EGDp8cHqT0Kevu8iiyLeI5HIAViqwPK2H3QytDI2VqHb9XuJGCUbLZ71BwE/8OacDw44
 K9gGkXngODXE/ChQSbZaqzQfddSmUXta3kPghyazSv6WjqQuWDcY+EGwCZ78hY0t9fne
 F3OIrrNhz2BxDeiaGiERn4affqE0DXIwjDlm1/19v+oO5a4hoEufV6Moe6zp+R4viydt
 o4H30JfVMH1wPvqP+8VLjmpCSaRCPr/fkwyqff/+AUkbMtVJrMhGXBZbzfgjPexYT90m
 OTUA==
X-Gm-Message-State: AOJu0YyPG0Kxsq/px8CxNKBRwemdKGSMaP9yMuJ33A/A5W+/sP6Aib6T
 SsPEu+B+oAjU7Ex0ADW00Y07qKy1ZmNTGg0p43cWyuqUTKDbSD4BvAE3SP06aqHcF7rKPe0wYE4
 KZxv9qWUSnRXJndJi2NLf2CybzFbvL9f3uarAchl3iJj24T0ywrxMZE+u
X-Google-Smtp-Source: AGHT+IFR6Wqz0HdVYedxQfXq4vw4Lbh1hnntgHts7GjnDLpypvDrjis7/rEesfFISD+n+loqX55iMwE8KH7q
X-Received: by 2002:a17:903:189:b0:205:500f:5dcc with SMTP id
 d9443c01a7336-2076e4612e7mr21548075ad.40.1726115579898; 
 Wed, 11 Sep 2024 21:32:59 -0700 (PDT)
Received: from postal.iol.unh.edu (postal.iol.unh.edu.
 [2606:4100:3880:1234::84]) by smtp-relay.gmail.com with ESMTPS id
 d9443c01a7336-2076af20d1dsm546255ad.19.2024.09.11.21.32.59
 (version=TLS1_2 cipher=ECDHE-ECDSA-AES128-GCM-SHA256 bits=128/128);
 Wed, 11 Sep 2024 21:32:59 -0700 (PDT)
X-Relaying-Domain: iol.unh.edu
Date: Wed, 11 Sep 2024 21:32:59 -0700 (PDT)
Message-ID: <66e26efb.170a0220.1064e4.3fb0SMTPIN_ADDED_MISSING@mx.google.com>
Received: from [172.21.0.3] (unknown [172.18.0.240])
 by postal.iol.unh.edu (Postfix) with ESMTP id E1A02605C351;
 Thu, 12 Sep 2024 00:32:58 -0400 (EDT)
Subject: |SUCCESS| pw143948 [PATCH] [v1] dts: fix runner target in the Docker
From: dpdklab@iol.unh.edu
To: Test Report <test-report@dpdk.org>
Cc: dpdk-test-reports@iol.unh.edu
In-Reply-To: <20240911155058.11321-1-jspewock@iol.unh.edu>
References: <20240911155058.11321-1-jspewock@iol.unh.edu>
Content-Type: text/plain
X-BeenThere: test-report@dpdk.org
X-Mailman-Version: 2.1.29
Precedence: list
List-Id: automatic DPDK test reports <test-report.dpdk.org>
List-Unsubscribe: <https://mails.dpdk.org/options/test-report>,
 <mailto:test-report-request@dpdk.org?subject=unsubscribe>
List-Archive: <http://mails.dpdk.org/archives/test-report/>
List-Post: <mailto:test-report@dpdk.org>
List-Help: <mailto:test-report-request@dpdk.org?subject=help>
List-Subscribe: <https://mails.dpdk.org/listinfo/test-report>,
 <mailto:test-report-request@dpdk.org?subject=subscribe>
Errors-To: test-report-bounces@dpdk.org

Test-Label: iol-sample-apps-testing
Test-Status: SUCCESS
http://dpdk.org/patch/143948

_Testing PASS_

Submitter: Jeremy Spewock <jspewock@iol.unh.edu>
Date: Wednesday, September 11 2024 15:50:58 
DPDK git baseline: Repo:dpdk
  Branch: master
  CommitID:41dd9a6bc2d9c6e20e139ad713cc9d172572dd43

143948 --> testing pass

Upstream job id: ACVP-FIPS-testing#6909

Test environment and result as below:

+--------------------+----------------------+----------------------+
|    Environment     | compressdev_zlib_pmd | dpdk_fips_validation |
+====================+======================+======================+
| Ubuntu 22.04 (ARM) | PASS                 | SKIPPED              |
+--------------------+----------------------+----------------------+
| Ubuntu 22.04       | PASS                 | SKIPPED              |
+--------------------+----------------------+----------------------+
| Ubuntu 20.04       | SKIPPED              | PASS                 |
+--------------------+----------------------+----------------------+


Ubuntu 22.04 (ARM)
	Kernel: 5.15.0-97-generic
	Compiler: gcc gcc (Ubuntu 11.4.0-1ubuntu1~22.04) 11.4.0

Ubuntu 22.04
	Kernel: 5.15.0-100-generic
	Compiler: gcc gcc (Ubuntu 11.4.0-1ubuntu1~22.04) 11.4.0

Ubuntu 20.04
	Kernel: Depends on container host
	Compiler: gcc (Ubuntu 9.4.0-1ubuntu1~20.04.2) 9.4.0

To view detailed results, visit:
https://lab.dpdk.org/results/dashboard/patchsets/31001/

UNH-IOL DPDK Community Lab

To manage your email subscriptions, visit: 
https://lab.dpdk.org/results/dashboard/preferences/subscriptions/