From mboxrd@z Thu Jan  1 00:00:00 1970
Return-Path: <test-report-bounces@dpdk.org>
Received: from mails.dpdk.org (mails.dpdk.org [217.70.189.124])
	by inbox.dpdk.org (Postfix) with ESMTP id DB8FE45967
	for <public@inbox.dpdk.org>; Thu, 12 Sep 2024 06:43:39 +0200 (CEST)
Received: from mails.dpdk.org (localhost [127.0.0.1])
	by mails.dpdk.org (Postfix) with ESMTP id B6BAA40654;
	Thu, 12 Sep 2024 06:43:39 +0200 (CEST)
Received: from mail-oa1-f100.google.com (mail-oa1-f100.google.com
 [209.85.160.100])
 by mails.dpdk.org (Postfix) with ESMTP id 98EBA402B5
 for <test-report@dpdk.org>; Thu, 12 Sep 2024 06:43:37 +0200 (CEST)
Received: by mail-oa1-f100.google.com with SMTP id
 586e51a60fabf-27bd815cbf1so256216fac.1
 for <test-report@dpdk.org>; Wed, 11 Sep 2024 21:43:37 -0700 (PDT)
DKIM-Signature: v=1; a=rsa-sha256; c=relaxed/relaxed;
 d=iol.unh.edu; s=unh-iol; t=1726116216; x=1726721016; darn=dpdk.org;
 h=references:in-reply-to:cc:to:from:subject:message-id:date:from:to
 :cc:subject:date:message-id:reply-to;
 bh=LrPHu2pRXsw7dvcA9ewwDVjbiHL4HhzTqpUcVi36RUM=;
 b=Xj7YK1kPRDCbD7IPJUrzJX/kBYMqDWNVqDCyHPpyiFMZ/rBZYryOFXSe2wLG9+To5K
 mOPiEbaWavChs7QKEef7om5oxFBp+q/HqseJoJEOaWRv1WfPr42JfF1Qe/pBOgR0QdJB
 hm51cofrTqZ0nA1H/oIyJ0F4HPnqn70hPgdwA=
X-Google-DKIM-Signature: v=1; a=rsa-sha256; c=relaxed/relaxed;
 d=1e100.net; s=20230601; t=1726116216; x=1726721016;
 h=references:in-reply-to:cc:to:from:subject:message-id:date
 :x-gm-message-state:from:to:cc:subject:date:message-id:reply-to;
 bh=LrPHu2pRXsw7dvcA9ewwDVjbiHL4HhzTqpUcVi36RUM=;
 b=AvOG8t7GNrszDG/COt5/mJatsgNeGfL5A0YdxrnczhlId8gxB6i9+TQdOhLvDPGu27
 qtzPbZ70apYKtRzOfrTlmuXLnQN9MvcSUlK4s5E1kmOOzR64QGVaDq5VffEl7Ko2t7eC
 Sy5UYkGjQdiLT07Pz1RCKEfB4XBD0BWgvOavKz8okIOx0Qdozt7/82PX/xLlSF+AhE2Z
 ZhJ4zqhuu9CJlcZcYVxinMFPXN4lC+FI9qpodbaEeGiNY9yKExjkkUs9v9dbkNoiJH3G
 F9w2aj5RIy4m//j48zf25kkAhQoh7Tg3MM1Z8byrswS+LEBFuTnRLlxg9ELRZLohv3OX
 Tgng==
X-Gm-Message-State: AOJu0YzWPBq+vqE0ssbUUUhXkS9i5dEXIrF12JyupSYnu1iRUnyL0qpo
 sFZ4UEEwch99stFXnlbavjydYDBkQpj6G/6mVE6OkXtXV23XHqlio743o7z5hZvFkgUWm30k/s0
 KDkLzq1XI4XpqPiQjWrI46vg7eXyDCaE4e9hbef85
X-Google-Smtp-Source: AGHT+IFKEdTkbPDeMcRHku0qPy+RfzjI2CZxsg3/1wBJVk9uo6u5Dk2pRDGkJxDIjsxVoF/qFuIGQJrHy3zZ
X-Received: by 2002:a05:6871:1ca:b0:278:2340:a944 with SMTP id
 586e51a60fabf-27be6d8f01emr4115160fac.15.1726116216518; 
 Wed, 11 Sep 2024 21:43:36 -0700 (PDT)
Received: from postal.iol.unh.edu (postal.iol.unh.edu. [132.177.123.84])
 by smtp-relay.gmail.com with ESMTPS id
 586e51a60fabf-27ba40a2ec5sm451956fac.30.2024.09.11.21.43.36
 (version=TLS1_2 cipher=ECDHE-ECDSA-AES128-GCM-SHA256 bits=128/128);
 Wed, 11 Sep 2024 21:43:36 -0700 (PDT)
X-Relaying-Domain: iol.unh.edu
Date: Wed, 11 Sep 2024 21:43:36 -0700 (PDT)
Message-ID: <66e27178.050a0220.35a4d4.3562SMTPIN_ADDED_MISSING@mx.google.com>
Received: from [172.21.0.2] (unknown [172.18.0.240])
 by postal.iol.unh.edu (Postfix) with ESMTP id 07430605C351;
 Thu, 12 Sep 2024 00:43:36 -0400 (EDT)
Subject: |SUCCESS| pw143959 [PATCH] crypto/scheduler: fix crashes in schedule
From: dpdklab@iol.unh.edu
To: Test Report <test-report@dpdk.org>
Cc: dpdk-test-reports@iol.unh.edu
In-Reply-To: <tencent_98734034A30594BC001A8912CB3C7ED6CF05@qq.com>
References: <tencent_98734034A30594BC001A8912CB3C7ED6CF05@qq.com>
Content-Type: text/plain
X-BeenThere: test-report@dpdk.org
X-Mailman-Version: 2.1.29
Precedence: list
List-Id: automatic DPDK test reports <test-report.dpdk.org>
List-Unsubscribe: <https://mails.dpdk.org/options/test-report>,
 <mailto:test-report-request@dpdk.org?subject=unsubscribe>
List-Archive: <http://mails.dpdk.org/archives/test-report/>
List-Post: <mailto:test-report@dpdk.org>
List-Help: <mailto:test-report-request@dpdk.org?subject=help>
List-Subscribe: <https://mails.dpdk.org/listinfo/test-report>,
 <mailto:test-report-request@dpdk.org?subject=subscribe>
Errors-To: test-report-bounces@dpdk.org

Test-Label: iol-unit-amd64-testing
Test-Status: SUCCESS
http://dpdk.org/patch/143959

_Testing PASS_

Submitter: Yong Liang <1269690261@qq.com>
Date: Wednesday, September 11 2024 16:06:10 
DPDK git baseline: Repo:dpdk
  Branch: master
  CommitID:b3485f4293997d35b6daecc3437bb0c183a51fb3

143959 --> testing pass

Upstream job id: Generic-Unit-Test-DPDK#261637

Test environment and result as below:

+---------------------+----------------+
|     Environment     | dpdk_unit_test |
+=====================+================+
| Windows Server 2022 | PASS           |
+---------------------+----------------+
| CentOS Stream 9     | PASS           |
+---------------------+----------------+
| Debian Bullseye     | PASS           |
+---------------------+----------------+
| Fedora 38           | PASS           |
+---------------------+----------------+
| Debian 12           | PASS           |
+---------------------+----------------+
| Fedora 38 (Clang)   | PASS           |
+---------------------+----------------+
| Fedora 37           | PASS           |
+---------------------+----------------+
| Fedora 39           | PASS           |
+---------------------+----------------+
| Fedora 39 (Clang)   | PASS           |
+---------------------+----------------+
| Fedora 40 (Clang)   | PASS           |
+---------------------+----------------+
| Fedora 40           | PASS           |
+---------------------+----------------+
| RHEL9               | PASS           |
+---------------------+----------------+
| Ubuntu 22.04        | PASS           |
+---------------------+----------------+
| Ubuntu 20.04        | PASS           |
+---------------------+----------------+
| Ubuntu 24.04        | PASS           |
+---------------------+----------------+
| RHEL8               | PASS           |
+---------------------+----------------+


Windows Server 2022
	Kernel: 10.0.20348.2031
	Compiler: clang 15.0.7, gcc 14.1.0 (MinGW), and MSVC VS 19.39.33521

CentOS Stream 9
	Kernel: Depends on container host
	Compiler: gcc 11.4.1 20231218 (Red Hat 11.4.1-3)

Debian Bullseye
	Kernel: Depends on container host
	Compiler: gcc (Debian 10.2.1-6) 10.2.1 20210110

Fedora 38
	Kernel: Depends on container host
	Compiler: gcc 13.2.1 20240316 (Red Hat 13.2.1-7)

Debian 12
	Kernel: Depends on container host
	Compiler: gcc (Debian 12.2.0-14) 12.2.0

Fedora 38 (Clang)
	Kernel: Depends on container host
	Compiler: clang 16.0.6 (Fedora 16.0.6-4.fc38)

Fedora 37
	Kernel: Depends on container host system
	Compiler: gcc 12.3.1 20230508 (Red Hat 12.3.1-1)

Fedora 39
	Kernel: Depends on container host
	Compiler: gcc 13.3.1 20240522 (Red Hat 13.3.1-1)

Fedora 39 (Clang)
	Kernel: Depends on container host
	Compiler: clang 17.0.6 (Fedora 17.0.6-2.fc39)

Fedora 40 (Clang)
	Kernel: Depends on container host
	Compiler: clang 18.1.6 (Fedora 18.1.6-3.fc40)

Fedora 40
	Kernel: Depends on container host
	Compiler: gcc 14.2.1 20240801 (Red Hat 14.2.1-1)

RHEL9
	Kernel: Depends on container host
	Compiler: gcc 11.4.1 20231218 (Red Hat 11.4.1-3)

Ubuntu 22.04
	Kernel: Depends on container host
	Compiler: gcc (Ubuntu 11.4.0-1ubuntu1~22.04) 11.4.0

Ubuntu 20.04
	Kernel: Depends on container host
	Compiler: gcc (Ubuntu 9.4.0-1ubuntu1~20.04.2) 9.4.0

Ubuntu 24.04
	Kernel: Depends on container host
	Compiler: gcc (Ubuntu 13.2.0-23ubuntu4) 13.2.0

RHEL8
	Kernel: Depends on container host
	Compiler: gcc 8.5.0 20210514 (Red Hat 8.5.0-22)

To view detailed results, visit:
https://lab.dpdk.org/results/dashboard/patchsets/31004/

UNH-IOL DPDK Community Lab

To manage your email subscriptions, visit: 
https://lab.dpdk.org/results/dashboard/preferences/subscriptions/