From mboxrd@z Thu Jan  1 00:00:00 1970
Return-Path: <test-report-bounces@dpdk.org>
Received: from mails.dpdk.org (mails.dpdk.org [217.70.189.124])
	by inbox.dpdk.org (Postfix) with ESMTP id 037D64596A
	for <public@inbox.dpdk.org>; Thu, 12 Sep 2024 09:37:59 +0200 (CEST)
Received: from mails.dpdk.org (localhost [127.0.0.1])
	by mails.dpdk.org (Postfix) with ESMTP id EBAE140B94;
	Thu, 12 Sep 2024 09:37:58 +0200 (CEST)
Received: from mail-qk1-f228.google.com (mail-qk1-f228.google.com
 [209.85.222.228])
 by mails.dpdk.org (Postfix) with ESMTP id 321524025E
 for <test-report@dpdk.org>; Thu, 12 Sep 2024 09:37:57 +0200 (CEST)
Received: by mail-qk1-f228.google.com with SMTP id
 af79cd13be357-7a9aec89347so38042785a.0
 for <test-report@dpdk.org>; Thu, 12 Sep 2024 00:37:57 -0700 (PDT)
DKIM-Signature: v=1; a=rsa-sha256; c=relaxed/relaxed;
 d=iol.unh.edu; s=unh-iol; t=1726126676; x=1726731476; darn=dpdk.org;
 h=references:in-reply-to:cc:to:from:subject:message-id:date:from:to
 :cc:subject:date:message-id:reply-to;
 bh=jNV/C2gUisMzPnAGFgc3q5PGMtuLO39ueXV8QkZc3n0=;
 b=DjTCNbHgfJX9aqETsdW76d31fCMrn4giwH/dhA8qOD0drWAaHg178yrpZBLSWxgZ2C
 ECHH5uZh2aXIPs/ybYOVmlDq4rZSDL/LRGoermCM0gdvra7i8HHLAc6fhHvOly48Sb4c
 YPnG22fMsPFZPd6c+w1Z1iMglQJs8C95w1CpI=
X-Google-DKIM-Signature: v=1; a=rsa-sha256; c=relaxed/relaxed;
 d=1e100.net; s=20230601; t=1726126676; x=1726731476;
 h=references:in-reply-to:cc:to:from:subject:message-id:date
 :x-gm-message-state:from:to:cc:subject:date:message-id:reply-to;
 bh=jNV/C2gUisMzPnAGFgc3q5PGMtuLO39ueXV8QkZc3n0=;
 b=UG8v+RBqdk1rSx/1GsHFs6xzhfYMmGYZ4KuxsmUP5I94d+Pwpd9QfG4Y+lLjxBkE+o
 ImGrdHl2eDNoU4JG8NifVGRkiXFEFwcN/LmJTDGJJCkj41Bt9ppPZUU0N1U34JS1EoV0
 agHkbBXVec9Q+FYYEbyfATf2pScrZX/hf7IEjzQTn16wBkIpd9TrbYPELydjCEvh3hQ6
 Dvt88KMrvl0qFCzcowgup5hgFL97EHTjpjY0fyncp+6EsHxeu3ovsW2mMG85C27HltcK
 xJGtHqgu1mdqCOivHGfcIMFYrxNrpmk7oG7xGfm4bUCQmtP6YfmYNTdOYzkKJgmhLaEk
 VieA==
X-Gm-Message-State: AOJu0YwHVZv9592BFTdvDWJUaIu6Il626WZ8Z797LjFW+/a+BW56pVs8
 3fC+pMEeIRnH8467PYHeYKwIAVmWHflcVON54rr2zEWv16PJrjnHnSqdWBHH3r/OsINSVs0ugRr
 jj9zOVx3poSFEN+uFMCjOWsh46e0MLQXTDmkWN5XPFwga8yeC2aPHFnwq
X-Google-Smtp-Source: AGHT+IEWGxU62faAhlq9yxvY/C6sees6xLsQMCJkWqSgs3lKJ5W4Sh2rTUpOWU0rFI87aEOyw0okh/LsAFe5
X-Received: by 2002:a05:6214:469e:b0:6c5:2fc7:a623 with SMTP id
 6a1803df08f44-6c573543ccemr30510606d6.11.1726126676550; 
 Thu, 12 Sep 2024 00:37:56 -0700 (PDT)
Received: from postal.iol.unh.edu (postal.iol.unh.edu.
 [2606:4100:3880:1234::84]) by smtp-relay.gmail.com with ESMTPS id
 6a1803df08f44-6c53477c611sm3444266d6.74.2024.09.12.00.37.56
 (version=TLS1_2 cipher=ECDHE-ECDSA-AES128-GCM-SHA256 bits=128/128);
 Thu, 12 Sep 2024 00:37:56 -0700 (PDT)
X-Relaying-Domain: iol.unh.edu
Date: Thu, 12 Sep 2024 00:37:56 -0700 (PDT)
Message-ID: <66e29a54.050a0220.36dd06.b595SMTPIN_ADDED_MISSING@mx.google.com>
Received: from [172.21.0.5] (unknown [172.18.0.240])
 by postal.iol.unh.edu (Postfix) with ESMTP id 27F336051839;
 Thu, 12 Sep 2024 03:37:56 -0400 (EDT)
Subject: |SUCCESS| pw143950-143958 [PATCH] [9/9] net/mlx5: fix flex item head
From: dpdklab@iol.unh.edu
To: Test Report <test-report@dpdk.org>
Cc: dpdk-test-reports@iol.unh.edu
In-Reply-To: <20240911160458.524732-9-viacheslavo@nvidia.com>
References: <20240911160458.524732-9-viacheslavo@nvidia.com>
Content-Type: text/plain
X-BeenThere: test-report@dpdk.org
X-Mailman-Version: 2.1.29
Precedence: list
List-Id: automatic DPDK test reports <test-report.dpdk.org>
List-Unsubscribe: <https://mails.dpdk.org/options/test-report>,
 <mailto:test-report-request@dpdk.org?subject=unsubscribe>
List-Archive: <http://mails.dpdk.org/archives/test-report/>
List-Post: <mailto:test-report@dpdk.org>
List-Help: <mailto:test-report-request@dpdk.org?subject=help>
List-Subscribe: <https://mails.dpdk.org/listinfo/test-report>,
 <mailto:test-report-request@dpdk.org?subject=subscribe>
Errors-To: test-report-bounces@dpdk.org

Test-Label: iol-compile-arm64-testing
Test-Status: SUCCESS
http://dpdk.org/patch/143958

_Testing PASS_

Submitter: Viacheslav Ovsiienko <viacheslavo@nvidia.com>
Date: Wednesday, September 11 2024 16:04:58 
DPDK git baseline: Repo:dpdk
  Branch: master
  CommitID:523fd7b3adfdf5a87651e8ca33bc69223b3211d5

143950-143958 --> testing pass

Upstream job id: Generic-DPDK-Compile-Meson#299869

Test environment and result as below:

+----------------------------------------+--------------------+
|              Environment               | dpdk_meson_compile |
+========================================+====================+
| RHEL9 (ARM)                            | PASS               |
+----------------------------------------+--------------------+
| Ubuntu 20.04 ARM GCC Cross Compile     | PASS               |
+----------------------------------------+--------------------+
| Ubuntu 20.04 ARM SVE                   | PASS               |
+----------------------------------------+--------------------+
| Fedora 38 (ARM)                        | PASS               |
+----------------------------------------+--------------------+
| Fedora 39 (ARM)                        | PASS               |
+----------------------------------------+--------------------+
| Fedora 38 (ARM Clang)                  | PASS               |
+----------------------------------------+--------------------+
| Fedora 40 (ARM)                        | PASS               |
+----------------------------------------+--------------------+
| Fedora 40 (ARM Clang)                  | PASS               |
+----------------------------------------+--------------------+
| Ubuntu 20.04 (ARM)                     | PASS               |
+----------------------------------------+--------------------+
| Ubuntu 22.04 (ARM)                     | PASS               |
+----------------------------------------+--------------------+
| Debian 11 (Buster) (ARM)               | PASS               |
+----------------------------------------+--------------------+
| Debian 12 (arm)                        | PASS               |
+----------------------------------------+--------------------+
| CentOS Stream 9 (ARM)                  | PASS               |
+----------------------------------------+--------------------+
| Ubuntu 20.04 aarch32 GCC Cross Compile | PASS               |
+----------------------------------------+--------------------+
| Ubuntu 20.04 ARM Clang Cross Compile   | PASS               |
+----------------------------------------+--------------------+
| Ubuntu 24.04 (ARM)                     | PASS               |
+----------------------------------------+--------------------+
| Debian 12 with MUSDK                   | PASS               |
+----------------------------------------+--------------------+
| Fedora 39 (ARM Clang)                  | PASS               |
+----------------------------------------+--------------------+
| Fedora 37 (ARM)                        | PASS               |
+----------------------------------------+--------------------+


RHEL9 (ARM)
	Kernel: Depends on container host
	Compiler: gcc 11.4.1 20231218 (Red Hat 11.4.1-3)

Ubuntu 20.04 ARM GCC Cross Compile
	Kernel: Depends on container host
	Compiler: aarch64-linux-gnu-gcc (Ubuntu 9.4.0-1ubuntu1~20.04.2) 9.4.0

Ubuntu 20.04 ARM SVE
	Kernel: Depends on container host
	Compiler: gcc (Ubuntu 10.5.0-1ubuntu1~20.04) 10.5.0

Fedora 38 (ARM)
	Kernel: Depends on container host
	Compiler: gcc 13.2.1 20240316 (Red Hat 13.2.1-7)

Fedora 39 (ARM)
	Kernel: Depends on container host
	Compiler: gcc 13.3.1 20240522 (Red Hat 13.3.1-1)

Fedora 38 (ARM Clang)
	Kernel: Depends on container host
	Compiler: clang 16.0.6 (Fedora 16.0.6-4.fc38)

Fedora 40 (ARM)
	Kernel: Depends on container host
	Compiler: gcc 14.2.1 20240801 (Red Hat 14.2.1-1)

Fedora 40 (ARM Clang)
	Kernel: Depends on container host
	Compiler: clang 18.1.6 (Fedora 18.1.6-3.fc40)

Ubuntu 20.04 (ARM)
	Kernel: Depends on container host
	Compiler: gcc (Ubuntu 9.4.0-1ubuntu1~20.04.2) 9.4.0

Ubuntu 22.04 (ARM)
	Kernel: Depends on container host
	Compiler: gcc (Ubuntu 11.4.0-1ubuntu1~22.04) 11.4.0

Debian 11 (Buster) (ARM)
	Kernel: Depends on container host
	Compiler: gcc (Debian 10.2.1-6) 10.2.1 20210110

Debian 12 (arm)
	Kernel: Depends on container host
	Compiler: gcc (Debian 12.2.0-14) 12.2.0

CentOS Stream 9 (ARM)
	Kernel: Depends on container host
	Compiler: gcc 11.4.1 20231218 (Red Hat 11.4.1-3)

Ubuntu 20.04 aarch32 GCC Cross Compile
	Kernel: Depends on container host
	Compiler: gcc 9.4.0

Ubuntu 20.04 ARM Clang Cross Compile
	Kernel: Depends on container host
	Compiler: clang 10.0.0-4ubuntu1

Ubuntu 24.04 (ARM)
	Kernel: Depends on container host
	Compiler: gcc (Ubuntu 13.2.0-23ubuntu4) 13.2.0

Debian 12 with MUSDK
	Kernel: Depends on container host
	Compiler: gcc (Debian 12.2.0-14) 12.2.0

Fedora 39 (ARM Clang)
	Kernel: Depends on container host
	Compiler: clang 17.0.6 (Fedora 17.0.6-2.fc39)

Fedora 37 (ARM)
	Kernel: Depends on container host
	Compiler: gcc 12.3.1 20230508 (Red Hat 12.3.1-1)

To view detailed results, visit:
https://lab.dpdk.org/results/dashboard/patchsets/31003/

UNH-IOL DPDK Community Lab

To manage your email subscriptions, visit: 
https://lab.dpdk.org/results/dashboard/preferences/subscriptions/