From mboxrd@z Thu Jan  1 00:00:00 1970
Return-Path: <test-report-bounces@dpdk.org>
Received: from mails.dpdk.org (mails.dpdk.org [217.70.189.124])
	by inbox.dpdk.org (Postfix) with ESMTP id 5569845972
	for <public@inbox.dpdk.org>; Thu, 12 Sep 2024 23:03:02 +0200 (CEST)
Received: from mails.dpdk.org (localhost [127.0.0.1])
	by mails.dpdk.org (Postfix) with ESMTP id 344AF40674;
	Thu, 12 Sep 2024 23:03:02 +0200 (CEST)
Received: from mail-il1-f228.google.com (mail-il1-f228.google.com
 [209.85.166.228])
 by mails.dpdk.org (Postfix) with ESMTP id 29A52402C8
 for <test-report@dpdk.org>; Thu, 12 Sep 2024 23:03:00 +0200 (CEST)
Received: by mail-il1-f228.google.com with SMTP id
 e9e14a558f8ab-39f4827a07aso1286615ab.1
 for <test-report@dpdk.org>; Thu, 12 Sep 2024 14:03:00 -0700 (PDT)
DKIM-Signature: v=1; a=rsa-sha256; c=relaxed/relaxed;
 d=iol.unh.edu; s=unh-iol; t=1726174979; x=1726779779; darn=dpdk.org;
 h=references:in-reply-to:cc:to:from:subject:message-id:date:from:to
 :cc:subject:date:message-id:reply-to;
 bh=TZRImH7cCc/w4IiR3wqL0hNGuGT5lEYc8PYHH7NzzLk=;
 b=VMBq31t/Zd+UNh8Fc115SvPmM/Vu6rjFCi3/5lzA/IUUYUUw24TXMTKOh45zJCFY46
 6935ouUTeM1Jof7mj7RyTWUI4TsMItvSZHZEq6g0EXZd75PbdIDSDQzNpNtCSPtv3qwx
 0G1kT5I2IGEpRNweHxpSJLuYt+BkMGI+2srUk=
X-Google-DKIM-Signature: v=1; a=rsa-sha256; c=relaxed/relaxed;
 d=1e100.net; s=20230601; t=1726174979; x=1726779779;
 h=references:in-reply-to:cc:to:from:subject:message-id:date
 :x-gm-message-state:from:to:cc:subject:date:message-id:reply-to;
 bh=TZRImH7cCc/w4IiR3wqL0hNGuGT5lEYc8PYHH7NzzLk=;
 b=qInX2kEbZuetipqms77oW1RowLlMtMV73ZNBmTG0VY9V93uK41q/xkSEUCtqAM6Vwr
 RfCmw2aWPUlfoMLg8UgvTdGpYB3DglphnNH3tK4e22hhvhFSIEwmK0PKsSCXgeA37pO4
 MiajFTfPWefOF5+Z9i2Hy7/SEcJyxBHAViMwDQ3opnhaYpXVWROBdqvNQaflX32HRmqo
 WSomuZET6sXbNxtbZR6Mr/cP+prti6/Tpbbb2oIIRbzvJ1pd2P04LEzFQ0ZzE2YjD1et
 5eRundtOdBE4cj7jy3ydoV7TrrZbqfK4D+AQNY7Szsmx+YJMl33fmqx0tTbRyu95RjeB
 Mgdw==
X-Gm-Message-State: AOJu0Yzlds4IeU+pQGUrgQ4TR9ZmBNggzcYrq6BJ+TRrvrP1kEfkwcqE
 4B35sOp0MHyXBOE+5P8u6cPrYXG7JvL+3w+yB0SPlBe/loZqwC6ZosjvfqV0qJV1auEj07sPpYQ
 rmSXPdXCrX5qdqrOVHpbHwZEJiIZa5Re+FuKDvVp3
X-Google-Smtp-Source: AGHT+IHChqiBsUe3hgdWR5agUxtL27STl4KhlIWpcov6zQjdOHimDJVg0nO8EUnELHwJ9lUMMiWFw1OV65PL
X-Received: by 2002:a05:6e02:198f:b0:3a0:802f:e147 with SMTP id
 e9e14a558f8ab-3a08b729bfdmr6605825ab.11.1726174979366; 
 Thu, 12 Sep 2024 14:02:59 -0700 (PDT)
Received: from postal.iol.unh.edu (postal.iol.unh.edu. [132.177.123.84])
 by smtp-relay.gmail.com with ESMTPS id
 e9e14a558f8ab-3a058fc170dsm5332355ab.1.2024.09.12.14.02.59
 (version=TLS1_2 cipher=ECDHE-ECDSA-AES128-GCM-SHA256 bits=128/128);
 Thu, 12 Sep 2024 14:02:59 -0700 (PDT)
X-Relaying-Domain: iol.unh.edu
Date: Thu, 12 Sep 2024 14:02:59 -0700 (PDT)
Message-ID: <66e35703.050a0220.386721.97bcSMTPIN_ADDED_MISSING@mx.google.com>
Received: from [172.21.0.7] (unknown [172.18.0.240])
 by postal.iol.unh.edu (Postfix) with ESMTP id CEF4E605C351;
 Thu, 12 Sep 2024 17:02:58 -0400 (EDT)
Subject: |SUCCESS| pw143995-143996 [PATCH] [v3,7/7] eal: keep per-lcore power
From: dpdklab@iol.unh.edu
To: Test Report <test-report@dpdk.org>
Cc: dpdk-test-reports@iol.unh.edu
In-Reply-To: <20240912084429.703405-8-mattias.ronnblom@ericsson.com>
References: <20240912084429.703405-8-mattias.ronnblom@ericsson.com>
Content-Type: text/plain
X-BeenThere: test-report@dpdk.org
X-Mailman-Version: 2.1.29
Precedence: list
List-Id: automatic DPDK test reports <test-report.dpdk.org>
List-Unsubscribe: <https://mails.dpdk.org/options/test-report>,
 <mailto:test-report-request@dpdk.org?subject=unsubscribe>
List-Archive: <http://mails.dpdk.org/archives/test-report/>
List-Post: <mailto:test-report@dpdk.org>
List-Help: <mailto:test-report-request@dpdk.org?subject=help>
List-Subscribe: <https://mails.dpdk.org/listinfo/test-report>,
 <mailto:test-report-request@dpdk.org?subject=subscribe>
Errors-To: test-report-bounces@dpdk.org

Test-Label: iol-unit-amd64-testing
Test-Status: SUCCESS
http://dpdk.org/patch/143996

_Testing PASS_

Submitter: Mattias Ronnblom <mattias.ronnblom@ericsson.com>
Date: Thursday, September 12 2024 08:44:29 
DPDK git baseline: Repo:dpdk
  Branch: master
  CommitID:41dd9a6bc2d9c6e20e139ad713cc9d172572dd43

143995-143996 --> testing pass

Upstream job id: Generic-Unit-Test-DPDK#262126

Test environment and result as below:

+-------------------+----------------+
|    Environment    | dpdk_unit_test |
+===================+================+
| CentOS Stream 9   | PASS           |
+-------------------+----------------+
| Debian Bullseye   | PASS           |
+-------------------+----------------+
| Debian 12         | PASS           |
+-------------------+----------------+
| Fedora 37         | PASS           |
+-------------------+----------------+
| Fedora 38         | PASS           |
+-------------------+----------------+
| Fedora 38 (Clang) | PASS           |
+-------------------+----------------+
| Fedora 39         | PASS           |
+-------------------+----------------+
| Fedora 39 (Clang) | PASS           |
+-------------------+----------------+
| Fedora 40         | PASS           |
+-------------------+----------------+
| Fedora 40 (Clang) | PASS           |
+-------------------+----------------+
| RHEL8             | PASS           |
+-------------------+----------------+
| RHEL9             | PASS           |
+-------------------+----------------+
| Ubuntu 20.04      | PASS           |
+-------------------+----------------+
| Ubuntu 22.04      | PASS           |
+-------------------+----------------+
| Ubuntu 24.04      | PASS           |
+-------------------+----------------+


CentOS Stream 9
	Kernel: Depends on container host
	Compiler: gcc 11.4.1 20231218 (Red Hat 11.4.1-3)

Debian Bullseye
	Kernel: Depends on container host
	Compiler: gcc (Debian 10.2.1-6) 10.2.1 20210110

Debian 12
	Kernel: Depends on container host
	Compiler: gcc (Debian 12.2.0-14) 12.2.0

Fedora 37
	Kernel: Depends on container host system
	Compiler: gcc 12.3.1 20230508 (Red Hat 12.3.1-1)

Fedora 38
	Kernel: Depends on container host
	Compiler: gcc 13.2.1 20240316 (Red Hat 13.2.1-7)

Fedora 38 (Clang)
	Kernel: Depends on container host
	Compiler: clang 16.0.6 (Fedora 16.0.6-4.fc38)

Fedora 39
	Kernel: Depends on container host
	Compiler: gcc 13.3.1 20240522 (Red Hat 13.3.1-1)

Fedora 39 (Clang)
	Kernel: Depends on container host
	Compiler: clang 17.0.6 (Fedora 17.0.6-2.fc39)

Fedora 40
	Kernel: Depends on container host
	Compiler: gcc 14.2.1 20240801 (Red Hat 14.2.1-1)

Fedora 40 (Clang)
	Kernel: Depends on container host
	Compiler: clang 18.1.6 (Fedora 18.1.6-3.fc40)

RHEL8
	Kernel: Depends on container host
	Compiler: gcc 8.5.0 20210514 (Red Hat 8.5.0-22)

RHEL9
	Kernel: Depends on container host
	Compiler: gcc 11.4.1 20231218 (Red Hat 11.4.1-3)

Ubuntu 20.04
	Kernel: Depends on container host
	Compiler: gcc (Ubuntu 9.4.0-1ubuntu1~20.04.2) 9.4.0

Ubuntu 22.04
	Kernel: Depends on container host
	Compiler: gcc (Ubuntu 11.4.0-1ubuntu1~22.04) 11.4.0

Ubuntu 24.04
	Kernel: Depends on container host
	Compiler: gcc (Ubuntu 13.2.0-23ubuntu4) 13.2.0

To view detailed results, visit:
https://lab.dpdk.org/results/dashboard/patchsets/31017/

UNH-IOL DPDK Community Lab

To manage your email subscriptions, visit: 
https://lab.dpdk.org/results/dashboard/preferences/subscriptions/