From mboxrd@z Thu Jan  1 00:00:00 1970
Return-Path: <test-report-bounces@dpdk.org>
Received: from mails.dpdk.org (mails.dpdk.org [217.70.189.124])
	by inbox.dpdk.org (Postfix) with ESMTP id 598F84597F
	for <public@inbox.dpdk.org>; Fri, 13 Sep 2024 16:38:21 +0200 (CEST)
Received: from mails.dpdk.org (localhost [127.0.0.1])
	by mails.dpdk.org (Postfix) with ESMTP id 4DD5A4060B;
	Fri, 13 Sep 2024 16:38:21 +0200 (CEST)
Received: from mail-pg1-f227.google.com (mail-pg1-f227.google.com
 [209.85.215.227])
 by mails.dpdk.org (Postfix) with ESMTP id 7181B40295
 for <test-report@dpdk.org>; Fri, 13 Sep 2024 16:38:20 +0200 (CEST)
Received: by mail-pg1-f227.google.com with SMTP id
 41be03b00d2f7-7d7a9200947so606755a12.3
 for <test-report@dpdk.org>; Fri, 13 Sep 2024 07:38:20 -0700 (PDT)
DKIM-Signature: v=1; a=rsa-sha256; c=relaxed/relaxed;
 d=iol.unh.edu; s=unh-iol; t=1726238299; x=1726843099; darn=dpdk.org;
 h=references:in-reply-to:cc:to:from:subject:message-id:date:from:to
 :cc:subject:date:message-id:reply-to;
 bh=1a5iDTO/DFcwOQTh/UAUoDnG3riWZ9t2W9bdXmQ2RbE=;
 b=MIBC4nxpJ+oM3fkGQvFsuO0EFAjW8HQCVKtNQp0qd3NffkZmz4xcGYSI73Tlcz9zo5
 iO07S/ngA4WavfPD7RJXuApvhhaoRNqkUr19NORdzXfRZHb7m6QKUCvvWFAQovyX4kEh
 QT5QLY9KXmXmwcE/WUp3p1Acwd1NRT6Ub23Zk=
X-Google-DKIM-Signature: v=1; a=rsa-sha256; c=relaxed/relaxed;
 d=1e100.net; s=20230601; t=1726238299; x=1726843099;
 h=references:in-reply-to:cc:to:from:subject:message-id:date
 :x-gm-message-state:from:to:cc:subject:date:message-id:reply-to;
 bh=1a5iDTO/DFcwOQTh/UAUoDnG3riWZ9t2W9bdXmQ2RbE=;
 b=YBBgpgMAU+LFF0oNTjKzVMtEwBnDD3yC0oL6G1fjiUuM3Lw9nDzGvV2SZRP3fFuX5B
 8CZzIJA50aImjBoXwJvlTiGfSCac2xHh2gVFnYnfCmU3ZJWzUr+tS4baInHoAp8bbb0L
 wpAc7/CwMu5AF6q8HL71TqN5Ahm9XbpvxeXlESUdnLEbAO+HxSbyQ0Eu0LbFTDa3Aa/I
 OsnwQ8tdvZxbuOfb2ttS6crl6H2qnb1k2G9PIu1h8M+ANFm8iEcfkC6r/z8pha0vdQJY
 9v+Jme31T91GJMV8tsrJF9y86p9b/shOzyy8Sa39YhMG82vgIs+rLbhDsK2KS3LSlmWt
 3hPw==
X-Gm-Message-State: AOJu0Ywo49C7m9S/m0sXdBvI8RVTpR+nKphLRymnRkxmEK7cp1OqkTT8
 cr9hLLqG5dXeqQIaubkIU8ASdauNYRgRUjZoq7l5vY9VDnu7fKRaCbAK4zeyUrjLwMEEFZudMgP
 2xY8SGHWHeWFOsKIY1cwskv10opWrPgRg7USGpe8vdZDUD5upnoaKGle8
X-Google-Smtp-Source: AGHT+IHCvRbVkI7e1d7dVG8f93ZB9E8opXTme9J5D3lHYI/dllbteCi7StFjL9ybicNVKGt+WWk2flUjt/Nr
X-Received: by 2002:a05:6a21:3103:b0:1cf:42bf:6af1 with SMTP id
 adf61e73a8af0-1d112b30001mr5170518637.2.1726238299588; 
 Fri, 13 Sep 2024 07:38:19 -0700 (PDT)
Received: from postal.iol.unh.edu (postal.iol.unh.edu.
 [2606:4100:3880:1234::84]) by smtp-relay.gmail.com with ESMTPS id
 d2e1a72fcca58-71908ffe93esm446847b3a.11.2024.09.13.07.38.19
 (version=TLS1_2 cipher=ECDHE-ECDSA-AES128-GCM-SHA256 bits=128/128);
 Fri, 13 Sep 2024 07:38:19 -0700 (PDT)
X-Relaying-Domain: iol.unh.edu
Date: Fri, 13 Sep 2024 07:38:19 -0700 (PDT)
Message-ID: <66e44e5b.050a0220.3d655f.fb6cSMTPIN_ADDED_MISSING@mx.google.com>
Received: from [172.21.0.3] (unknown [172.18.0.240])
 by postal.iol.unh.edu (Postfix) with ESMTP id 002B46050A6D;
 Fri, 13 Sep 2024 10:38:18 -0400 (EDT)
Subject: |SUCCESS| pw144051 [PATCH] [RFC,v0,1/1] dmadev: provide priority con
From: dpdklab@iol.unh.edu
To: Test Report <test-report@dpdk.org>
Cc: dpdk-test-reports@iol.unh.edu
In-Reply-To: <20240913121038.315714-1-vattunuru@marvell.com>
References: <20240913121038.315714-1-vattunuru@marvell.com>
Content-Type: text/plain
X-BeenThere: test-report@dpdk.org
X-Mailman-Version: 2.1.29
Precedence: list
List-Id: automatic DPDK test reports <test-report.dpdk.org>
List-Unsubscribe: <https://mails.dpdk.org/options/test-report>,
 <mailto:test-report-request@dpdk.org?subject=unsubscribe>
List-Archive: <http://mails.dpdk.org/archives/test-report/>
List-Post: <mailto:test-report@dpdk.org>
List-Help: <mailto:test-report-request@dpdk.org?subject=help>
List-Subscribe: <https://mails.dpdk.org/listinfo/test-report>,
 <mailto:test-report-request@dpdk.org?subject=subscribe>
Errors-To: test-report-bounces@dpdk.org

Test-Label: iol-unit-amd64-testing
Test-Status: SUCCESS
http://dpdk.org/patch/144051

_Testing PASS_

Submitter: Vamsi Krishna <vattunuru@marvell.com>
Date: Friday, September 13 2024 12:10:38 
DPDK git baseline: Repo:dpdk
  Branch: master
  CommitID:41dd9a6bc2d9c6e20e139ad713cc9d172572dd43

144051 --> testing pass

Upstream job id: Generic-Unit-Test-DPDK#262340

Test environment and result as below:

+---------------------+----------------+
|     Environment     | dpdk_unit_test |
+=====================+================+
| Windows Server 2022 | PASS           |
+---------------------+----------------+
| CentOS Stream 9     | PASS           |
+---------------------+----------------+
| Debian Bullseye     | PASS           |
+---------------------+----------------+
| Debian 12           | PASS           |
+---------------------+----------------+
| Fedora 37           | PASS           |
+---------------------+----------------+
| Fedora 38           | PASS           |
+---------------------+----------------+
| Fedora 38 (Clang)   | PASS           |
+---------------------+----------------+
| Fedora 39           | PASS           |
+---------------------+----------------+
| Fedora 39 (Clang)   | PASS           |
+---------------------+----------------+
| Fedora 40           | PASS           |
+---------------------+----------------+
| Fedora 40 (Clang)   | PASS           |
+---------------------+----------------+
| RHEL8               | PASS           |
+---------------------+----------------+
| RHEL9               | PASS           |
+---------------------+----------------+
| Ubuntu 20.04        | PASS           |
+---------------------+----------------+
| Ubuntu 22.04        | PASS           |
+---------------------+----------------+
| Ubuntu 24.04        | PASS           |
+---------------------+----------------+


Windows Server 2022
	Kernel: 10.0.20348.2031
	Compiler: clang 15.0.7, gcc 14.1.0 (MinGW), and MSVC VS 19.39.33521

CentOS Stream 9
	Kernel: Depends on container host
	Compiler: gcc 11.4.1 20231218 (Red Hat 11.4.1-3)

Debian Bullseye
	Kernel: Depends on container host
	Compiler: gcc (Debian 10.2.1-6) 10.2.1 20210110

Debian 12
	Kernel: Depends on container host
	Compiler: gcc (Debian 12.2.0-14) 12.2.0

Fedora 37
	Kernel: Depends on container host system
	Compiler: gcc 12.3.1 20230508 (Red Hat 12.3.1-1)

Fedora 38
	Kernel: Depends on container host
	Compiler: gcc 13.2.1 20240316 (Red Hat 13.2.1-7)

Fedora 38 (Clang)
	Kernel: Depends on container host
	Compiler: clang 16.0.6 (Fedora 16.0.6-4.fc38)

Fedora 39
	Kernel: Depends on container host
	Compiler: gcc 13.3.1 20240522 (Red Hat 13.3.1-1)

Fedora 39 (Clang)
	Kernel: Depends on container host
	Compiler: clang 17.0.6 (Fedora 17.0.6-2.fc39)

Fedora 40
	Kernel: Depends on container host
	Compiler: gcc 14.2.1 20240801 (Red Hat 14.2.1-1)

Fedora 40 (Clang)
	Kernel: Depends on container host
	Compiler: clang 18.1.6 (Fedora 18.1.6-3.fc40)

RHEL8
	Kernel: Depends on container host
	Compiler: gcc 8.5.0 20210514 (Red Hat 8.5.0-22)

RHEL9
	Kernel: Depends on container host
	Compiler: gcc 11.4.1 20231218 (Red Hat 11.4.1-3)

Ubuntu 20.04
	Kernel: Depends on container host
	Compiler: gcc (Ubuntu 9.4.0-1ubuntu1~20.04.2) 9.4.0

Ubuntu 22.04
	Kernel: Depends on container host
	Compiler: gcc (Ubuntu 11.4.0-1ubuntu1~22.04) 11.4.0

Ubuntu 24.04
	Kernel: Depends on container host
	Compiler: gcc (Ubuntu 13.2.0-23ubuntu4) 13.2.0

To view detailed results, visit:
https://lab.dpdk.org/results/dashboard/patchsets/31024/

UNH-IOL DPDK Community Lab

To manage your email subscriptions, visit: 
https://lab.dpdk.org/results/dashboard/preferences/subscriptions/