From mboxrd@z Thu Jan  1 00:00:00 1970
Return-Path: <test-report-bounces@dpdk.org>
Received: from mails.dpdk.org (mails.dpdk.org [217.70.189.124])
	by inbox.dpdk.org (Postfix) with ESMTP id 36D4D45980
	for <public@inbox.dpdk.org>; Fri, 13 Sep 2024 22:21:17 +0200 (CEST)
Received: from mails.dpdk.org (localhost [127.0.0.1])
	by mails.dpdk.org (Postfix) with ESMTP id 31DEC40295;
	Fri, 13 Sep 2024 22:21:17 +0200 (CEST)
Received: from mail-pl1-f227.google.com (mail-pl1-f227.google.com
 [209.85.214.227])
 by mails.dpdk.org (Postfix) with ESMTP id 7E87B400D7
 for <test-report@dpdk.org>; Fri, 13 Sep 2024 22:21:15 +0200 (CEST)
Received: by mail-pl1-f227.google.com with SMTP id
 d9443c01a7336-2053f6b8201so24312555ad.2
 for <test-report@dpdk.org>; Fri, 13 Sep 2024 13:21:15 -0700 (PDT)
DKIM-Signature: v=1; a=rsa-sha256; c=relaxed/relaxed;
 d=iol.unh.edu; s=unh-iol; t=1726258874; x=1726863674; darn=dpdk.org;
 h=references:in-reply-to:cc:to:from:subject:message-id:date:from:to
 :cc:subject:date:message-id:reply-to;
 bh=8mBwIJ+wX1excJMFsm6kyrX3t+mmr/ST2uroiHkxzhI=;
 b=M2dFbr9xLUWg3hjZMO8Czl7wEbxXW5M/kxZH/6OSJnyuWk7iL/mcj0uZXOoO9DLYym
 oomglKx0j1K7Og/eCg04uSnyKCfgpvEnLtpiSDr/L7OhRIlrJG43GHpCsKZT/nffeP8q
 /a+j+41+S+IH/rVfwWiLWDWkqq+dgs3HpLZCw=
X-Google-DKIM-Signature: v=1; a=rsa-sha256; c=relaxed/relaxed;
 d=1e100.net; s=20230601; t=1726258874; x=1726863674;
 h=references:in-reply-to:cc:to:from:subject:message-id:date
 :x-gm-message-state:from:to:cc:subject:date:message-id:reply-to;
 bh=8mBwIJ+wX1excJMFsm6kyrX3t+mmr/ST2uroiHkxzhI=;
 b=DljFqOPg53oXGb6c79/Dj2XBwwnWYt9Gk4UyZz1qnVesGafo+piTWezKkd/4pyZxfh
 bddKx1P255WBxfTw+WOn0yNepyIZ6MTPnUq9G8e8GcJyGPrBfAnEYlGTXHusCNoiH2cO
 ch56J70o4HxqZCDAa8fgHF2irfCMxbHnMMhYgPbujSfXFDCsZnHes5LzUeSnULslf5I/
 1t4gjn0atULyGmSyAkgNzb7wnqO4DYL1qYgJXSoh28YA71zU2mRx+5LPujSNVXLm6IIQ
 6IemzDXkVPr7+yr0IMZT2063CQSzEctF0ViykfUhC71RfrX/Vi6jMqcjGAv9JXr7g6nv
 VcMg==
X-Gm-Message-State: AOJu0Yyi7zcgvOd6TKHDh1Q0hEFVLFxL8xrAZUVRo6MOUgq3tLm6IgPj
 S559wKVTpKw8bLi4jFOvsFhtKW/Jyt5TCM4vy4YZGnD/4HjvIDSMMQ3AdpcG6ptPETh0DekfvwV
 fAvT3iK9K7ELDJqALlLUgLjf7mW3lbqu4EYNsZIin
X-Google-Smtp-Source: AGHT+IGJFNXmlPJKrkt1N6lnG2pSO8Tm4ppVZZeI1wCtq9qOZtM6MCo0QYFEbr776cm4UANnIhmNgN7Y+6Au
X-Received: by 2002:a17:902:ccc8:b0:207:1709:dbe with SMTP id
 d9443c01a7336-2076e421fddmr131395415ad.50.1726258874508; 
 Fri, 13 Sep 2024 13:21:14 -0700 (PDT)
Received: from postal.iol.unh.edu (postal.iol.unh.edu. [132.177.123.84])
 by smtp-relay.gmail.com with ESMTPS id
 d9443c01a7336-20794602c0bsm7875ad.51.2024.09.13.13.21.14
 (version=TLS1_2 cipher=ECDHE-ECDSA-AES128-GCM-SHA256 bits=128/128);
 Fri, 13 Sep 2024 13:21:14 -0700 (PDT)
X-Relaying-Domain: iol.unh.edu
Date: Fri, 13 Sep 2024 13:21:14 -0700 (PDT)
Message-ID: <66e49eba.170a0220.13303d.00f9SMTPIN_ADDED_MISSING@mx.google.com>
Received: from [172.21.0.4] (unknown [172.18.0.240])
 by postal.iol.unh.edu (Postfix) with ESMTP id B3546605C351;
 Fri, 13 Sep 2024 16:21:13 -0400 (EDT)
Subject: |SUCCESS| pw144053-144056 [PATCH] [v2,2/2] test/pcapng: test chained
From: dpdklab@iol.unh.edu
To: Test Report <test-report@dpdk.org>
Cc: dpdk-test-reports@iol.unh.edu
In-Reply-To: <nefxl4axip5gfq4c7ployqxtnorgubcbrkugfziftcasq7jreb@bqyveydkttlq>
References: <nefxl4axip5gfq4c7ployqxtnorgubcbrkugfziftcasq7jreb@bqyveydkttlq>
Content-Type: text/plain
X-BeenThere: test-report@dpdk.org
X-Mailman-Version: 2.1.29
Precedence: list
List-Id: automatic DPDK test reports <test-report.dpdk.org>
List-Unsubscribe: <https://mails.dpdk.org/options/test-report>,
 <mailto:test-report-request@dpdk.org?subject=unsubscribe>
List-Archive: <http://mails.dpdk.org/archives/test-report/>
List-Post: <mailto:test-report@dpdk.org>
List-Help: <mailto:test-report-request@dpdk.org?subject=help>
List-Subscribe: <https://mails.dpdk.org/listinfo/test-report>,
 <mailto:test-report-request@dpdk.org?subject=subscribe>
Errors-To: test-report-bounces@dpdk.org

Test-Label: iol-unit-amd64-testing
Test-Status: SUCCESS
http://dpdk.org/patch/144056

_Testing PASS_

Submitter: Oleksandr Nahnybida <oleksandrn@interfacemasters.com>
Date: Friday, September 13 2024 13:06:00 
DPDK git baseline: Repo:dpdk
  Branch: master
  CommitID:41dd9a6bc2d9c6e20e139ad713cc9d172572dd43

144053-144056 --> testing pass

Upstream job id: Generic-Unit-Test-DPDK#262416

Test environment and result as below:

+---------------------+----------------+
|     Environment     | dpdk_unit_test |
+=====================+================+
| CentOS Stream 9     | PASS           |
+---------------------+----------------+
| Windows Server 2022 | PASS           |
+---------------------+----------------+
| Debian Bullseye     | PASS           |
+---------------------+----------------+
| Debian 12           | PASS           |
+---------------------+----------------+
| Fedora 37           | PASS           |
+---------------------+----------------+
| Fedora 38 (Clang)   | PASS           |
+---------------------+----------------+
| Fedora 39           | PASS           |
+---------------------+----------------+
| Fedora 40           | PASS           |
+---------------------+----------------+
| Fedora 39 (Clang)   | PASS           |
+---------------------+----------------+
| Fedora 40 (Clang)   | PASS           |
+---------------------+----------------+
| RHEL8               | PASS           |
+---------------------+----------------+
| Ubuntu 20.04        | PASS           |
+---------------------+----------------+
| RHEL9               | PASS           |
+---------------------+----------------+
| Ubuntu 22.04        | PASS           |
+---------------------+----------------+
| Ubuntu 24.04        | PASS           |
+---------------------+----------------+
| Fedora 38           | PASS           |
+---------------------+----------------+


CentOS Stream 9
	Kernel: Depends on container host
	Compiler: gcc 11.4.1 20231218 (Red Hat 11.4.1-3)

Windows Server 2022
	Kernel: 10.0.20348.2031
	Compiler: clang 15.0.7, gcc 14.1.0 (MinGW), and MSVC VS 19.39.33521

Debian Bullseye
	Kernel: Depends on container host
	Compiler: gcc (Debian 10.2.1-6) 10.2.1 20210110

Debian 12
	Kernel: Depends on container host
	Compiler: gcc (Debian 12.2.0-14) 12.2.0

Fedora 37
	Kernel: Depends on container host system
	Compiler: gcc 12.3.1 20230508 (Red Hat 12.3.1-1)

Fedora 38 (Clang)
	Kernel: Depends on container host
	Compiler: clang 16.0.6 (Fedora 16.0.6-4.fc38)

Fedora 39
	Kernel: Depends on container host
	Compiler: gcc 13.3.1 20240522 (Red Hat 13.3.1-1)

Fedora 40
	Kernel: Depends on container host
	Compiler: gcc 14.2.1 20240801 (Red Hat 14.2.1-1)

Fedora 39 (Clang)
	Kernel: Depends on container host
	Compiler: clang 17.0.6 (Fedora 17.0.6-2.fc39)

Fedora 40 (Clang)
	Kernel: Depends on container host
	Compiler: clang 18.1.6 (Fedora 18.1.6-3.fc40)

RHEL8
	Kernel: Depends on container host
	Compiler: gcc 8.5.0 20210514 (Red Hat 8.5.0-22)

Ubuntu 20.04
	Kernel: Depends on container host
	Compiler: gcc (Ubuntu 9.4.0-1ubuntu1~20.04.2) 9.4.0

RHEL9
	Kernel: Depends on container host
	Compiler: gcc 11.4.1 20231218 (Red Hat 11.4.1-3)

Ubuntu 22.04
	Kernel: Depends on container host
	Compiler: gcc (Ubuntu 11.4.0-1ubuntu1~22.04) 11.4.0

Ubuntu 24.04
	Kernel: Depends on container host
	Compiler: gcc (Ubuntu 13.2.0-23ubuntu4) 13.2.0

Fedora 38
	Kernel: Depends on container host
	Compiler: gcc 13.2.1 20240316 (Red Hat 13.2.1-7)

To view detailed results, visit:
https://lab.dpdk.org/results/dashboard/patchsets/31026/

UNH-IOL DPDK Community Lab

To manage your email subscriptions, visit: 
https://lab.dpdk.org/results/dashboard/preferences/subscriptions/