From mboxrd@z Thu Jan  1 00:00:00 1970
Return-Path: <test-report-bounces@dpdk.org>
Received: from mails.dpdk.org (mails.dpdk.org [217.70.189.124])
	by inbox.dpdk.org (Postfix) with ESMTP id 937CC459AF
	for <public@inbox.dpdk.org>; Mon, 16 Sep 2024 16:20:07 +0200 (CEST)
Received: from mails.dpdk.org (localhost [127.0.0.1])
	by mails.dpdk.org (Postfix) with ESMTP id 75F834025F;
	Mon, 16 Sep 2024 16:20:07 +0200 (CEST)
Received: from mail-io1-f98.google.com (mail-io1-f98.google.com
 [209.85.166.98]) by mails.dpdk.org (Postfix) with ESMTP id 3587240150
 for <test-report@dpdk.org>; Mon, 16 Sep 2024 16:20:06 +0200 (CEST)
Received: by mail-io1-f98.google.com with SMTP id
 ca18e2360f4ac-82aa6be8457so134014639f.0
 for <test-report@dpdk.org>; Mon, 16 Sep 2024 07:20:06 -0700 (PDT)
DKIM-Signature: v=1; a=rsa-sha256; c=relaxed/relaxed;
 d=iol.unh.edu; s=unh-iol; t=1726496405; x=1727101205; darn=dpdk.org;
 h=references:in-reply-to:cc:to:from:subject:message-id:date:from:to
 :cc:subject:date:message-id:reply-to;
 bh=S+qhuvOgThxGfH47kdvyd1JhaABX2XHS2Pb6gNm5DZE=;
 b=AH5H01FhbojiUNAPkgYE91GCZJJXZ/5CCI6TlVPT0GLNPSLE0LFdsnOIDkfIVmoUdu
 BmT80Wwb1UKnazRFlcUJ87vmSs48IMIXQG0EQNWyKlMC2K5qlkJgpdoZXEg+hpPDCQ1m
 5DVC0NxLyOMrCZ7E/DNdwIIraQt+BhJQrrddA=
X-Google-DKIM-Signature: v=1; a=rsa-sha256; c=relaxed/relaxed;
 d=1e100.net; s=20230601; t=1726496405; x=1727101205;
 h=references:in-reply-to:cc:to:from:subject:message-id:date
 :x-gm-message-state:from:to:cc:subject:date:message-id:reply-to;
 bh=S+qhuvOgThxGfH47kdvyd1JhaABX2XHS2Pb6gNm5DZE=;
 b=PKaC1GjQ6RFYleU1a6DF6qyihSqJvIpW4nQHpJyI91+x+kusR3cclHXk4a4rjZpIDV
 4FNzTPto7YdYed2E8hSniBxLlcXOqoY+919CtlXwxmXhbJYEcCtiZXIYL+vr4sZNuaYc
 lCSH8sXDF7fPEPSZjornccHvEaihCmfz4WpTUFIxEUD60VberuRUQ5nAPgtsxGPFyFE3
 Sm4G0kbjz+H7oa18L7F0Fe2Df8GBqIStpqRzmxc6INwlAED6b6y6IhV6XtaXYsGxItYB
 OjTKWs/go2/+V05mKrwDqVsaY60oeGOtNzmqICjLPv3dGxhrYsB6UDWypZPPecQk7GMq
 Ij7Q==
X-Gm-Message-State: AOJu0YzW0Qf0qQelbvgyOFvJP3eciJx43fLOHNijbrh3FortFeRV9HLj
 IjtqFFpi3jqmmFM+zWYA+bQwoF0yN4MhgsBkp5Sja04ZAmD84i0rtkvqqSiJA5h55eZGvfuK2fe
 dAhU0bFEPvz0p+qFuzfhvgX9lA1Cb2mpN+jMwCUx8
X-Google-Smtp-Source: AGHT+IGLydU1Je4wCx8o3d/iZelb+rzq/cluLm1J0X0s6kpx+yJPG7viidcGJ89H2+P6SYG9pyGsTLOiTMcw
X-Received: by 2002:a05:6602:6014:b0:82a:a4e7:5539 with SMTP id
 ca18e2360f4ac-82d206965d2mr1175866139f.2.1726496405315; 
 Mon, 16 Sep 2024 07:20:05 -0700 (PDT)
Received: from postal.iol.unh.edu (postal.iol.unh.edu. [132.177.123.84])
 by smtp-relay.gmail.com with ESMTPS id
 ca18e2360f4ac-82d492c4ce3sm4395639f.18.2024.09.16.07.20.05
 (version=TLS1_2 cipher=ECDHE-ECDSA-AES128-GCM-SHA256 bits=128/128);
 Mon, 16 Sep 2024 07:20:05 -0700 (PDT)
X-Relaying-Domain: iol.unh.edu
Date: Mon, 16 Sep 2024 07:20:05 -0700 (PDT)
Message-ID: <66e83e95.6b0a0220.1214a9.33e1SMTPIN_ADDED_MISSING@mx.google.com>
Received: from [172.17.0.3] (unknown [172.18.0.217])
 by postal.iol.unh.edu (Postfix) with ESMTP id CC2D3605C20D;
 Mon, 16 Sep 2024 10:20:04 -0400 (EDT)
Subject: |SUCCESS| pw144082-144083 [PATCH] [2/2] bus/pci: enhance hotplug for
From: dpdklab@iol.unh.edu
To: Test Report <test-report@dpdk.org>
Cc: dpdk-test-reports@iol.unh.edu
In-Reply-To: <20240916123044.2692301-2-david.marchand@redhat.com>
References: <20240916123044.2692301-2-david.marchand@redhat.com>
Content-Type: text/plain
X-BeenThere: test-report@dpdk.org
X-Mailman-Version: 2.1.29
Precedence: list
List-Id: automatic DPDK test reports <test-report.dpdk.org>
List-Unsubscribe: <https://mails.dpdk.org/options/test-report>,
 <mailto:test-report-request@dpdk.org?subject=unsubscribe>
List-Archive: <http://mails.dpdk.org/archives/test-report/>
List-Post: <mailto:test-report@dpdk.org>
List-Help: <mailto:test-report-request@dpdk.org?subject=help>
List-Subscribe: <https://mails.dpdk.org/listinfo/test-report>,
 <mailto:test-report-request@dpdk.org?subject=subscribe>
Errors-To: test-report-bounces@dpdk.org

Test-Label: iol-unit-amd64-testing
Test-Status: SUCCESS
http://dpdk.org/patch/144083

_Testing PASS_

Submitter: David Marchand <david.marchand@redhat.com>
Date: Monday, September 16 2024 12:30:43 
DPDK git baseline: Repo:dpdk
  Branch: master
  CommitID:41dd9a6bc2d9c6e20e139ad713cc9d172572dd43

144082-144083 --> testing pass

Upstream job id: Generic-Unit-Test-DPDK#262817

Test environment and result as below:

+---------------------+----------------+
|     Environment     | dpdk_unit_test |
+=====================+================+
| Windows Server 2022 | PASS           |
+---------------------+----------------+
| CentOS Stream 9     | PASS           |
+---------------------+----------------+
| Debian Bullseye     | PASS           |
+---------------------+----------------+
| Fedora 37           | PASS           |
+---------------------+----------------+
| Fedora 39           | PASS           |
+---------------------+----------------+
| Fedora 39 (Clang)   | PASS           |
+---------------------+----------------+
| Fedora 40           | PASS           |
+---------------------+----------------+
| Fedora 40 (Clang)   | PASS           |
+---------------------+----------------+
| RHEL8               | PASS           |
+---------------------+----------------+
| RHEL9               | PASS           |
+---------------------+----------------+
| Ubuntu 22.04        | PASS           |
+---------------------+----------------+
| Ubuntu 24.04        | PASS           |
+---------------------+----------------+
| Debian 12           | PASS           |
+---------------------+----------------+
| Ubuntu 20.04        | PASS           |
+---------------------+----------------+
| Fedora 38           | PASS           |
+---------------------+----------------+
| Fedora 38 (Clang)   | PASS           |
+---------------------+----------------+


Windows Server 2022
	Kernel: 10.0.20348.2031
	Compiler: clang 15.0.7, gcc 14.1.0 (MinGW), and MSVC VS 19.39.33521

CentOS Stream 9
	Kernel: Depends on container host
	Compiler: gcc 11.4.1 20231218 (Red Hat 11.4.1-3)

Debian Bullseye
	Kernel: Depends on container host
	Compiler: gcc (Debian 10.2.1-6) 10.2.1 20210110

Fedora 37
	Kernel: Depends on container host system
	Compiler: gcc 12.3.1 20230508 (Red Hat 12.3.1-1)

Fedora 39
	Kernel: Depends on container host
	Compiler: gcc 13.3.1 20240522 (Red Hat 13.3.1-1)

Fedora 39 (Clang)
	Kernel: Depends on container host
	Compiler: clang 17.0.6 (Fedora 17.0.6-2.fc39)

Fedora 40
	Kernel: Depends on container host
	Compiler: gcc 14.2.1 20240801 (Red Hat 14.2.1-1)

Fedora 40 (Clang)
	Kernel: Depends on container host
	Compiler: clang 18.1.6 (Fedora 18.1.6-3.fc40)

RHEL8
	Kernel: Depends on container host
	Compiler: gcc 8.5.0 20210514 (Red Hat 8.5.0-22)

RHEL9
	Kernel: Depends on container host
	Compiler: gcc 11.4.1 20231218 (Red Hat 11.4.1-3)

Ubuntu 22.04
	Kernel: Depends on container host
	Compiler: gcc (Ubuntu 11.4.0-1ubuntu1~22.04) 11.4.0

Ubuntu 24.04
	Kernel: Depends on container host
	Compiler: gcc (Ubuntu 13.2.0-23ubuntu4) 13.2.0

Debian 12
	Kernel: Depends on container host
	Compiler: gcc (Debian 12.2.0-14) 12.2.0

Ubuntu 20.04
	Kernel: Depends on container host
	Compiler: gcc (Ubuntu 9.4.0-1ubuntu1~20.04.2) 9.4.0

Fedora 38
	Kernel: Depends on container host
	Compiler: gcc 13.2.1 20240316 (Red Hat 13.2.1-7)

Fedora 38 (Clang)
	Kernel: Depends on container host
	Compiler: clang 16.0.6 (Fedora 16.0.6-4.fc38)

To view detailed results, visit:
https://lab.dpdk.org/results/dashboard/patchsets/31035/

UNH-IOL DPDK Community Lab

To manage your email subscriptions, visit: 
https://lab.dpdk.org/results/dashboard/preferences/subscriptions/