From mboxrd@z Thu Jan  1 00:00:00 1970
Return-Path: <test-report-bounces@dpdk.org>
Received: from mails.dpdk.org (mails.dpdk.org [217.70.189.124])
	by inbox.dpdk.org (Postfix) with ESMTP id 0D355459B1
	for <public@inbox.dpdk.org>; Mon, 16 Sep 2024 17:30:01 +0200 (CEST)
Received: from mails.dpdk.org (localhost [127.0.0.1])
	by mails.dpdk.org (Postfix) with ESMTP id 1E7644025F;
	Mon, 16 Sep 2024 17:30:00 +0200 (CEST)
Received: from mail-oi1-f228.google.com (mail-oi1-f228.google.com
 [209.85.167.228])
 by mails.dpdk.org (Postfix) with ESMTP id B70A440150
 for <test-report@dpdk.org>; Mon, 16 Sep 2024 17:29:58 +0200 (CEST)
Received: by mail-oi1-f228.google.com with SMTP id
 5614622812f47-3dd16257b7bso1628519b6e.1
 for <test-report@dpdk.org>; Mon, 16 Sep 2024 08:29:58 -0700 (PDT)
DKIM-Signature: v=1; a=rsa-sha256; c=relaxed/relaxed;
 d=iol.unh.edu; s=unh-iol; t=1726500598; x=1727105398; darn=dpdk.org;
 h=references:in-reply-to:cc:to:from:subject:message-id:date:from:to
 :cc:subject:date:message-id:reply-to;
 bh=nC7yedDFVggvmlIfy8zEszLxuJwjtZP8x/ag+RV/s2k=;
 b=K6he1Kcuq+bZN677PBqJfLBwSbgSuIUNtFGyR4IFDaHpdBNHuTBQepHUyrHEivPhD6
 +Av1soHD5mPjJHeSo1yjzSsmv3Bq4u5YISSdaWZ8jn8l8xhNjv6X6Hhv+M3DajrPnqnz
 BerslIOu6WwoX27HiXaa/qXjWDvnA846fooeA=
X-Google-DKIM-Signature: v=1; a=rsa-sha256; c=relaxed/relaxed;
 d=1e100.net; s=20230601; t=1726500598; x=1727105398;
 h=references:in-reply-to:cc:to:from:subject:message-id:date
 :x-gm-message-state:from:to:cc:subject:date:message-id:reply-to;
 bh=nC7yedDFVggvmlIfy8zEszLxuJwjtZP8x/ag+RV/s2k=;
 b=NZI005/ELiTeiYGjNs9im35Ek2i91fM6HV8rlXdJGInvayo5knuuTXwzL8w/CsaWrH
 FQXtxTFizH1dlG6qEnWHDOTFKaITMO1gaSAutjbTiyxv8oeDz/g68ChzNMM7G6ehINEi
 p33upvKWQkqs5fdn/a1CkFlyYaRaOEje5bFXdqXUzVRSmLhnUebowRLaWShHrC/TkcYF
 +/KRmXvs6zlt5Va6yFPLzRmvzsMaodjQJv6frm3mbo8+C5GjXAvuE7WUPAAtjTWL3U5u
 nVnNqwGbavyNSUDFQU04I+6vGygYjNqpw1Pgsr13AT+o0SoZyowYBH8K5MMryiS9sIPC
 eumw==
X-Gm-Message-State: AOJu0Ywj3093YPBxnJH94gFGQ2lYByK0qrPbCd2S2iYAg8tgYpl/mvHV
 XHOfKsdjwA6VV4MATNIkMN1whXUVa7B+mmr/L72yTmyduyHF3IBuWqXsm2b5Z5RRcHTz1h/hbt5
 pLR6nMfIYd7cBPdnewizjAkPdE7GuJIw91jZAZz3dkKOfsyyZxf7j0RxM
X-Google-Smtp-Source: AGHT+IFnFHZCW2ThIkPAhqi4ddBttqZkX6gvQw42SWnTZnvA2Dd3Sit3kTzGbmdyx3z2IfQHdC+gk4XZZPgy
X-Received: by 2002:a05:6808:1983:b0:3da:b35d:52e0 with SMTP id
 5614622812f47-3e071af8776mr10028172b6e.43.1726500597788; 
 Mon, 16 Sep 2024 08:29:57 -0700 (PDT)
Received: from postal.iol.unh.edu (postal.iol.unh.edu.
 [2606:4100:3880:1234::84]) by smtp-relay.gmail.com with ESMTPS id
 41be03b00d2f7-7db49996477sm153082a12.31.2024.09.16.08.29.57
 (version=TLS1_2 cipher=ECDHE-ECDSA-AES128-GCM-SHA256 bits=128/128);
 Mon, 16 Sep 2024 08:29:57 -0700 (PDT)
X-Relaying-Domain: iol.unh.edu
Date: Mon, 16 Sep 2024 08:29:57 -0700 (PDT)
Message-ID: <66e84ef5.630a0220.45576.b478SMTPIN_ADDED_MISSING@mx.google.com>
Received: from [172.21.0.5] (unknown [172.18.0.240])
 by postal.iol.unh.edu (Postfix) with ESMTP id DE6F2605C351;
 Mon, 16 Sep 2024 11:29:56 -0400 (EDT)
Subject: |SUCCESS| pw144082-144083 [PATCH] [2/2] bus/pci: enhance hotplug for
From: dpdklab@iol.unh.edu
To: Test Report <test-report@dpdk.org>
Cc: dpdk-test-reports@iol.unh.edu
In-Reply-To: <20240916123044.2692301-2-david.marchand@redhat.com>
References: <20240916123044.2692301-2-david.marchand@redhat.com>
Content-Type: text/plain
X-BeenThere: test-report@dpdk.org
X-Mailman-Version: 2.1.29
Precedence: list
List-Id: automatic DPDK test reports <test-report.dpdk.org>
List-Unsubscribe: <https://mails.dpdk.org/options/test-report>,
 <mailto:test-report-request@dpdk.org?subject=unsubscribe>
List-Archive: <http://mails.dpdk.org/archives/test-report/>
List-Post: <mailto:test-report@dpdk.org>
List-Help: <mailto:test-report-request@dpdk.org?subject=help>
List-Subscribe: <https://mails.dpdk.org/listinfo/test-report>,
 <mailto:test-report-request@dpdk.org?subject=subscribe>
Errors-To: test-report-bounces@dpdk.org

Test-Label: iol-compile-arm64-testing
Test-Status: SUCCESS
http://dpdk.org/patch/144083

_Testing PASS_

Submitter: David Marchand <david.marchand@redhat.com>
Date: Monday, September 16 2024 12:30:43 
DPDK git baseline: Repo:dpdk
  Branch: master
  CommitID:41dd9a6bc2d9c6e20e139ad713cc9d172572dd43

144082-144083 --> testing pass

Upstream job id: Generic-DPDK-Compile-Meson#301280

Test environment and result as below:

+----------------------------------------+--------------------+
|              Environment               | dpdk_meson_compile |
+========================================+====================+
| RHEL9 (ARM)                            | PASS               |
+----------------------------------------+--------------------+
| Ubuntu 20.04 ARM SVE                   | PASS               |
+----------------------------------------+--------------------+
| Ubuntu 20.04 ARM GCC Cross Compile     | PASS               |
+----------------------------------------+--------------------+
| Fedora 37 (ARM)                        | PASS               |
+----------------------------------------+--------------------+
| Debian 12 with MUSDK                   | PASS               |
+----------------------------------------+--------------------+
| Fedora 38 (ARM)                        | PASS               |
+----------------------------------------+--------------------+
| Fedora 38 (ARM Clang)                  | PASS               |
+----------------------------------------+--------------------+
| Fedora 39 (ARM)                        | PASS               |
+----------------------------------------+--------------------+
| Fedora 39 (ARM Clang)                  | PASS               |
+----------------------------------------+--------------------+
| Fedora 40 (ARM)                        | PASS               |
+----------------------------------------+--------------------+
| Fedora 40 (ARM Clang)                  | PASS               |
+----------------------------------------+--------------------+
| Ubuntu 24.04 (ARM)                     | PASS               |
+----------------------------------------+--------------------+
| CentOS Stream 9 (ARM)                  | PASS               |
+----------------------------------------+--------------------+
| Debian 11 (Buster) (ARM)               | PASS               |
+----------------------------------------+--------------------+
| Ubuntu 20.04 ARM Clang Cross Compile   | PASS               |
+----------------------------------------+--------------------+
| Debian 12 (arm)                        | PASS               |
+----------------------------------------+--------------------+
| Ubuntu 20.04 aarch32 GCC Cross Compile | PASS               |
+----------------------------------------+--------------------+
| Ubuntu 20.04 (ARM)                     | PASS               |
+----------------------------------------+--------------------+
| Ubuntu 22.04 (ARM)                     | PASS               |
+----------------------------------------+--------------------+


RHEL9 (ARM)
	Kernel: Depends on container host
	Compiler: gcc 11.4.1 20231218 (Red Hat 11.4.1-3)

Ubuntu 20.04 ARM SVE
	Kernel: Depends on container host
	Compiler: gcc (Ubuntu 10.5.0-1ubuntu1~20.04) 10.5.0

Ubuntu 20.04 ARM GCC Cross Compile
	Kernel: Depends on container host
	Compiler: aarch64-linux-gnu-gcc (Ubuntu 9.4.0-1ubuntu1~20.04.2) 9.4.0

Fedora 37 (ARM)
	Kernel: Depends on container host
	Compiler: gcc 12.3.1 20230508 (Red Hat 12.3.1-1)

Debian 12 with MUSDK
	Kernel: Depends on container host
	Compiler: gcc (Debian 12.2.0-14) 12.2.0

Fedora 38 (ARM)
	Kernel: Depends on container host
	Compiler: gcc 13.2.1 20240316 (Red Hat 13.2.1-7)

Fedora 38 (ARM Clang)
	Kernel: Depends on container host
	Compiler: clang 16.0.6 (Fedora 16.0.6-4.fc38)

Fedora 39 (ARM)
	Kernel: Depends on container host
	Compiler: gcc 13.3.1 20240522 (Red Hat 13.3.1-1)

Fedora 39 (ARM Clang)
	Kernel: Depends on container host
	Compiler: clang 17.0.6 (Fedora 17.0.6-2.fc39)

Fedora 40 (ARM)
	Kernel: Depends on container host
	Compiler: gcc 14.2.1 20240801 (Red Hat 14.2.1-1)

Fedora 40 (ARM Clang)
	Kernel: Depends on container host
	Compiler: clang 18.1.6 (Fedora 18.1.6-3.fc40)

Ubuntu 24.04 (ARM)
	Kernel: Depends on container host
	Compiler: gcc (Ubuntu 13.2.0-23ubuntu4) 13.2.0

CentOS Stream 9 (ARM)
	Kernel: Depends on container host
	Compiler: gcc 11.4.1 20231218 (Red Hat 11.4.1-3)

Debian 11 (Buster) (ARM)
	Kernel: Depends on container host
	Compiler: gcc (Debian 10.2.1-6) 10.2.1 20210110

Ubuntu 20.04 ARM Clang Cross Compile
	Kernel: Depends on container host
	Compiler: clang 10.0.0-4ubuntu1

Debian 12 (arm)
	Kernel: Depends on container host
	Compiler: gcc (Debian 12.2.0-14) 12.2.0

Ubuntu 20.04 aarch32 GCC Cross Compile
	Kernel: Depends on container host
	Compiler: gcc 9.4.0

Ubuntu 20.04 (ARM)
	Kernel: Depends on container host
	Compiler: gcc (Ubuntu 9.4.0-1ubuntu1~20.04.2) 9.4.0

Ubuntu 22.04 (ARM)
	Kernel: Depends on container host
	Compiler: gcc (Ubuntu 11.4.0-1ubuntu1~22.04) 11.4.0

To view detailed results, visit:
https://lab.dpdk.org/results/dashboard/patchsets/31035/

UNH-IOL DPDK Community Lab

To manage your email subscriptions, visit: 
https://lab.dpdk.org/results/dashboard/preferences/subscriptions/