From mboxrd@z Thu Jan  1 00:00:00 1970
Return-Path: <test-report-bounces@dpdk.org>
Received: from mails.dpdk.org (mails.dpdk.org [217.70.189.124])
	by inbox.dpdk.org (Postfix) with ESMTP id 0F38E459B1
	for <public@inbox.dpdk.org>; Mon, 16 Sep 2024 17:42:37 +0200 (CEST)
Received: from mails.dpdk.org (localhost [127.0.0.1])
	by mails.dpdk.org (Postfix) with ESMTP id DE3894025F;
	Mon, 16 Sep 2024 17:42:36 +0200 (CEST)
Received: from mail-yw1-f226.google.com (mail-yw1-f226.google.com
 [209.85.128.226])
 by mails.dpdk.org (Postfix) with ESMTP id 7A8F140150
 for <test-report@dpdk.org>; Mon, 16 Sep 2024 17:42:35 +0200 (CEST)
Received: by mail-yw1-f226.google.com with SMTP id
 00721157ae682-6b747f2e2b7so35909717b3.3
 for <test-report@dpdk.org>; Mon, 16 Sep 2024 08:42:35 -0700 (PDT)
DKIM-Signature: v=1; a=rsa-sha256; c=relaxed/relaxed;
 d=iol.unh.edu; s=unh-iol; t=1726501355; x=1727106155; darn=dpdk.org;
 h=references:in-reply-to:cc:to:from:subject:message-id:date:from:to
 :cc:subject:date:message-id:reply-to;
 bh=SAZ+2joayHCmA0kG0k3xx1eampPjkGhMetd3RfoH2uw=;
 b=DoP8yJ+AIo4YUCHoINf/+MmVPm6QlZ4s8LPKyoehzAorMWaUns5/223K1DoDv1C0Xh
 C8FyekZIeP4aKNWQNTS3l5zRCrUMAEVj0/6d7tZ7IYVVPf8ePEjM6VAPzkPtaIGMC6LH
 2RAXW1xmHVoeunRW5RHvKz13kWRau0Mfce0rY=
X-Google-DKIM-Signature: v=1; a=rsa-sha256; c=relaxed/relaxed;
 d=1e100.net; s=20230601; t=1726501355; x=1727106155;
 h=references:in-reply-to:cc:to:from:subject:message-id:date
 :x-gm-message-state:from:to:cc:subject:date:message-id:reply-to;
 bh=SAZ+2joayHCmA0kG0k3xx1eampPjkGhMetd3RfoH2uw=;
 b=S2fUqvCpFeAhe+mu3hm25zb50R+5EaMCakJWvbUTIZ8Nrblb1FeZn8nRA25ADj67F3
 lWRrDROBCS/c/lcP9Qf2o/wR2tuL7Lk5Y21HQDnqqK1YjFcAkDIgKPHQ6B098W4AY40g
 QVJsemmG06l3fzVtur8aaZNpVj8eIYY+SayuTVo71PtrXDCEeP+Y2DUdTXeoikisAB9J
 Ju4PzRE42BAMwk3q1qYzINGrAh6y7h0YL5S5ERzL26ex62JoGEtbzqCqLmiXzVr7M1kY
 vFXyzFMmU9al6lSELstWNWDs0jrO/9IbDrPq+k8UoXqnC/vum3d6F4g8nK2u4XVVSCgb
 ZopQ==
X-Gm-Message-State: AOJu0YzidQzH1NC/XuMIDE6KDKCwCkfQ+lSWIhZjioP9WTnXvGnXZyj7
 vOPW6roamptcxXCVe6YjYTpeMsUpMMPTNi80chKr6keyxxwBjcwD/wOamd4YYKYmwa9cXkopJdW
 PhY93d4lk0rsADFvMHUM2zfBnN7t+zXXw86d2RIvo
X-Google-Smtp-Source: AGHT+IF+vpfoHtUyhZ4F/4CLBRaZh/1AdoHTxSwQp0Z7NkICJYBZv0/CrGRSlz+Zm+1fcz5aalIGPot/VOfh
X-Received: by 2002:a05:690c:4a07:b0:6d3:cfaa:edca with SMTP id
 00721157ae682-6dbb6b1372emr116785617b3.15.1726501354847; 
 Mon, 16 Sep 2024 08:42:34 -0700 (PDT)
Received: from postal.iol.unh.edu (postal.iol.unh.edu. [132.177.123.84])
 by smtp-relay.gmail.com with ESMTPS id
 6a1803df08f44-6c58c648988sm2954126d6.19.2024.09.16.08.42.34
 (version=TLS1_2 cipher=ECDHE-ECDSA-AES128-GCM-SHA256 bits=128/128);
 Mon, 16 Sep 2024 08:42:34 -0700 (PDT)
X-Relaying-Domain: iol.unh.edu
Date: Mon, 16 Sep 2024 08:42:34 -0700 (PDT)
Message-ID: <66e851ea.d40a0220.845ba.7e66SMTPIN_ADDED_MISSING@mx.google.com>
Received: from [172.21.0.3] (unknown [172.18.0.240])
 by postal.iol.unh.edu (Postfix) with ESMTP id 8D99B605C351;
 Mon, 16 Sep 2024 11:42:34 -0400 (EDT)
Subject: |SUCCESS| pw143982-143994 [PATCH] [v2,14/14] drivers: use per line l
From: dpdklab@iol.unh.edu
To: Test Report <test-report@dpdk.org>
Cc: dpdk-test-reports@iol.unh.edu
In-Reply-To: <20240912082643.1532679-15-david.marchand@redhat.com>
References: <20240912082643.1532679-15-david.marchand@redhat.com>
Content-Type: text/plain
X-BeenThere: test-report@dpdk.org
X-Mailman-Version: 2.1.29
Precedence: list
List-Id: automatic DPDK test reports <test-report.dpdk.org>
List-Unsubscribe: <https://mails.dpdk.org/options/test-report>,
 <mailto:test-report-request@dpdk.org?subject=unsubscribe>
List-Archive: <http://mails.dpdk.org/archives/test-report/>
List-Post: <mailto:test-report@dpdk.org>
List-Help: <mailto:test-report-request@dpdk.org?subject=help>
List-Subscribe: <https://mails.dpdk.org/listinfo/test-report>,
 <mailto:test-report-request@dpdk.org?subject=subscribe>
Errors-To: test-report-bounces@dpdk.org

Test-Label: iol-sample-apps-testing
Test-Status: SUCCESS
http://dpdk.org/patch/143994

_Testing PASS RETEST #1_

Submitter: David Marchand <david.marchand@redhat.com>
Date: Thursday, September 12 2024 08:26:40 
DPDK git baseline: Repo:dpdk
  Branch: master
  CommitID:41dd9a6bc2d9c6e20e139ad713cc9d172572dd43

143982-143994 --> testing pass

Upstream job id: Template-DTS-Pipeline#181509

Test environment and result as below:

+--------------------+----------------------+----------------------+
|    Environment     | compressdev_zlib_pmd | dpdk_fips_validation |
+====================+======================+======================+
| Ubuntu 22.04 (ARM) | PASS                 | SKIPPED              |
+--------------------+----------------------+----------------------+
| Ubuntu 22.04       | PASS                 | SKIPPED              |
+--------------------+----------------------+----------------------+
| Ubuntu 20.04       | SKIPPED              | PASS                 |
+--------------------+----------------------+----------------------+


Ubuntu 22.04 (ARM)
	Kernel: 5.15.0-97-generic
	Compiler: gcc gcc (Ubuntu 11.4.0-1ubuntu1~22.04) 11.4.0

Ubuntu 22.04
	Kernel: 5.15.0-100-generic
	Compiler: gcc gcc (Ubuntu 11.4.0-1ubuntu1~22.04) 11.4.0

Ubuntu 20.04
	Kernel: Depends on container host
	Compiler: gcc (Ubuntu 9.4.0-1ubuntu1~20.04.2) 9.4.0

To view detailed results, visit:
https://lab.dpdk.org/results/dashboard/patchsets/31016/

UNH-IOL DPDK Community Lab

To manage your email subscriptions, visit: 
https://lab.dpdk.org/results/dashboard/preferences/subscriptions/