From mboxrd@z Thu Jan  1 00:00:00 1970
Return-Path: <test-report-bounces@dpdk.org>
Received: from mails.dpdk.org (mails.dpdk.org [217.70.189.124])
	by inbox.dpdk.org (Postfix) with ESMTP id 29CBC459B2
	for <public@inbox.dpdk.org>; Mon, 16 Sep 2024 19:55:06 +0200 (CEST)
Received: from mails.dpdk.org (localhost [127.0.0.1])
	by mails.dpdk.org (Postfix) with ESMTP id 0563140ED9;
	Mon, 16 Sep 2024 19:55:06 +0200 (CEST)
Received: from mail-pg1-f226.google.com (mail-pg1-f226.google.com
 [209.85.215.226])
 by mails.dpdk.org (Postfix) with ESMTP id 6A92D40E37
 for <test-report@dpdk.org>; Mon, 16 Sep 2024 19:55:04 +0200 (CEST)
Received: by mail-pg1-f226.google.com with SMTP id
 41be03b00d2f7-7db12af2f31so4157264a12.1
 for <test-report@dpdk.org>; Mon, 16 Sep 2024 10:55:04 -0700 (PDT)
DKIM-Signature: v=1; a=rsa-sha256; c=relaxed/relaxed;
 d=iol.unh.edu; s=unh-iol; t=1726509303; x=1727114103; darn=dpdk.org;
 h=references:in-reply-to:cc:to:from:subject:message-id:date:from:to
 :cc:subject:date:message-id:reply-to;
 bh=ryhcqlJ0zGSzXFNQd/9c6lfl7uZ+1Ag50BhICOhPYKU=;
 b=KffajQpUH/vdBJjhCoJ7VGfO4oEqXRxb1XV7r6NGITNROCuovIzFxCTscb6h7A/HwX
 XPKMak+Rq4qQBg0yypu2jCAkA+jW/W3UMisFrm+V/aQHxXNl312sEDEX5W06tvCdl/ew
 Gf3R5ABWyPHFfNUbcjcUXQhNqgssh013j9eMs=
X-Google-DKIM-Signature: v=1; a=rsa-sha256; c=relaxed/relaxed;
 d=1e100.net; s=20230601; t=1726509303; x=1727114103;
 h=references:in-reply-to:cc:to:from:subject:message-id:date
 :x-gm-message-state:from:to:cc:subject:date:message-id:reply-to;
 bh=ryhcqlJ0zGSzXFNQd/9c6lfl7uZ+1Ag50BhICOhPYKU=;
 b=mLb2sP4BAUt99FP6ifYOXtfrsrfOBYN9UC6gbSfjlXT5DeYf7xiq1NkLnkrcjnnM69
 uM5ib9UPVkuWIPfm+hDaYAZ/sIrYCHJ3wK13rRnd4gS/u5Nz7rJ6bebfJ4WS2F4Sl6T6
 AFCQPb4dPuXTv7yoQ2sIOjzmwQ0rGDYPxW8VBOqxwAHsuYLyA074efEEkjRN+W65UeYU
 5ZVRy7eN7NPFaE1/e3jb9zN5DyiExkIk12nvG0Q4FBonghrJLAKPbVEZqkUK/fEehNT5
 E4jv1g1vqA3R2VguwGdktc4SvrrIxieKSuKYD8b0BvVZZBAXhjX5qt9dv1OurOU0Pfka
 60/w==
X-Gm-Message-State: AOJu0YwsVdCvtax1DgTZIe7oQ9DgyzUKqJAoCCRUQ4akYvvmFPMLdoDU
 nfiBuCvreGWXzAY+Pj5b5ybL+U3DfLf78K9+22h8egfhFPVxZXBSxIiGYiAuLc+SKhulOrNX4Hx
 UtDAyhpY1YU2paNFbQFfS0Wwn4Y1uS/ELEYmraAd0
X-Google-Smtp-Source: AGHT+IE0sN7H6AKVaPAdu3nTmchiHlJBkekvlLnbvfs/QkvQ0/wkK0r4EwliWyPSaombkpmaqrVKGB5LecqK
X-Received: by 2002:a17:90b:4a4a:b0:2da:7536:2b8c with SMTP id
 98e67ed59e1d1-2dba0082fecmr21503064a91.36.1726509303452; 
 Mon, 16 Sep 2024 10:55:03 -0700 (PDT)
Received: from postal.iol.unh.edu (postal.iol.unh.edu. [132.177.123.84])
 by smtp-relay.gmail.com with ESMTPS id
 98e67ed59e1d1-2dbcfdfd1a8sm258222a91.17.2024.09.16.10.55.03
 (version=TLS1_2 cipher=ECDHE-ECDSA-AES128-GCM-SHA256 bits=128/128);
 Mon, 16 Sep 2024 10:55:03 -0700 (PDT)
X-Relaying-Domain: iol.unh.edu
Date: Mon, 16 Sep 2024 10:55:03 -0700 (PDT)
Message-ID: <66e870f7.170a0220.fa28f.360aSMTPIN_ADDED_MISSING@mx.google.com>
Received: from [172.17.0.2] (unknown [172.18.0.217])
 by postal.iol.unh.edu (Postfix) with ESMTP id 9757A605C351;
 Mon, 16 Sep 2024 13:55:02 -0400 (EDT)
Subject: |SUCCESS| pw144084-144088 [PATCH] [v3,5/5] app/test: add unit tests 
From: dpdklab@iol.unh.edu
To: Test Report <test-report@dpdk.org>
Cc: dpdk-test-reports@iol.unh.edu
In-Reply-To: <20240916123733.994-6-konstantin.v.ananyev@yandex.ru>
References: <20240916123733.994-6-konstantin.v.ananyev@yandex.ru>
Content-Type: text/plain
X-BeenThere: test-report@dpdk.org
X-Mailman-Version: 2.1.29
Precedence: list
List-Id: automatic DPDK test reports <test-report.dpdk.org>
List-Unsubscribe: <https://mails.dpdk.org/options/test-report>,
 <mailto:test-report-request@dpdk.org?subject=unsubscribe>
List-Archive: <http://mails.dpdk.org/archives/test-report/>
List-Post: <mailto:test-report@dpdk.org>
List-Help: <mailto:test-report-request@dpdk.org?subject=help>
List-Subscribe: <https://mails.dpdk.org/listinfo/test-report>,
 <mailto:test-report-request@dpdk.org?subject=subscribe>
Errors-To: test-report-bounces@dpdk.org

Test-Label: iol-unit-amd64-testing
Test-Status: SUCCESS
http://dpdk.org/patch/144088

_Testing PASS_

Submitter: Konstantin Ananyev <konstantin.v.ananyev@yandex.ru>
Date: Monday, September 16 2024 12:37:33 
DPDK git baseline: Repo:dpdk
  Branch: master
  CommitID:41dd9a6bc2d9c6e20e139ad713cc9d172572dd43

144084-144088 --> testing pass

Upstream job id: Generic-Unit-Test-DPDK#262921

Test environment and result as below:

+---------------------+----------------+
|     Environment     | dpdk_unit_test |
+=====================+================+
| Windows Server 2022 | PASS           |
+---------------------+----------------+
| Debian 12           | PASS           |
+---------------------+----------------+
| Fedora 37           | PASS           |
+---------------------+----------------+
| Fedora 38           | PASS           |
+---------------------+----------------+
| Fedora 38 (Clang)   | PASS           |
+---------------------+----------------+
| Fedora 39           | PASS           |
+---------------------+----------------+
| Fedora 39 (Clang)   | PASS           |
+---------------------+----------------+
| Fedora 40 (Clang)   | PASS           |
+---------------------+----------------+
| RHEL8               | PASS           |
+---------------------+----------------+
| RHEL9               | PASS           |
+---------------------+----------------+
| Ubuntu 20.04        | PASS           |
+---------------------+----------------+
| Ubuntu 22.04        | PASS           |
+---------------------+----------------+
| Debian Bullseye     | PASS           |
+---------------------+----------------+
| Ubuntu 24.04        | PASS           |
+---------------------+----------------+
| CentOS Stream 9     | PASS           |
+---------------------+----------------+
| Fedora 40           | PASS           |
+---------------------+----------------+


Windows Server 2022
	Kernel: 10.0.20348.2031
	Compiler: clang 15.0.7, gcc 14.1.0 (MinGW), and MSVC VS 19.39.33521

Debian 12
	Kernel: Depends on container host
	Compiler: gcc (Debian 12.2.0-14) 12.2.0

Fedora 37
	Kernel: Depends on container host system
	Compiler: gcc 12.3.1 20230508 (Red Hat 12.3.1-1)

Fedora 38
	Kernel: Depends on container host
	Compiler: gcc 13.2.1 20240316 (Red Hat 13.2.1-7)

Fedora 38 (Clang)
	Kernel: Depends on container host
	Compiler: clang 16.0.6 (Fedora 16.0.6-4.fc38)

Fedora 39
	Kernel: Depends on container host
	Compiler: gcc 13.3.1 20240522 (Red Hat 13.3.1-1)

Fedora 39 (Clang)
	Kernel: Depends on container host
	Compiler: clang 17.0.6 (Fedora 17.0.6-2.fc39)

Fedora 40 (Clang)
	Kernel: Depends on container host
	Compiler: clang 18.1.6 (Fedora 18.1.6-3.fc40)

RHEL8
	Kernel: Depends on container host
	Compiler: gcc 8.5.0 20210514 (Red Hat 8.5.0-22)

RHEL9
	Kernel: Depends on container host
	Compiler: gcc 11.4.1 20231218 (Red Hat 11.4.1-3)

Ubuntu 20.04
	Kernel: Depends on container host
	Compiler: gcc (Ubuntu 9.4.0-1ubuntu1~20.04.2) 9.4.0

Ubuntu 22.04
	Kernel: Depends on container host
	Compiler: gcc (Ubuntu 11.4.0-1ubuntu1~22.04) 11.4.0

Debian Bullseye
	Kernel: Depends on container host
	Compiler: gcc (Debian 10.2.1-6) 10.2.1 20210110

Ubuntu 24.04
	Kernel: Depends on container host
	Compiler: gcc (Ubuntu 13.2.0-23ubuntu4) 13.2.0

CentOS Stream 9
	Kernel: Depends on container host
	Compiler: gcc 11.4.1 20231218 (Red Hat 11.4.1-3)

Fedora 40
	Kernel: Depends on container host
	Compiler: gcc 14.2.1 20240801 (Red Hat 14.2.1-1)

To view detailed results, visit:
https://lab.dpdk.org/results/dashboard/patchsets/31036/

UNH-IOL DPDK Community Lab

To manage your email subscriptions, visit: 
https://lab.dpdk.org/results/dashboard/preferences/subscriptions/