From mboxrd@z Thu Jan  1 00:00:00 1970
Return-Path: <test-report-bounces@dpdk.org>
Received: from mails.dpdk.org (mails.dpdk.org [217.70.189.124])
	by inbox.dpdk.org (Postfix) with ESMTP id 8891F459B4
	for <public@inbox.dpdk.org>; Mon, 16 Sep 2024 23:11:08 +0200 (CEST)
Received: from mails.dpdk.org (localhost [127.0.0.1])
	by mails.dpdk.org (Postfix) with ESMTP id 8400C40261;
	Mon, 16 Sep 2024 23:11:08 +0200 (CEST)
Received: from mail-il1-f225.google.com (mail-il1-f225.google.com
 [209.85.166.225])
 by mails.dpdk.org (Postfix) with ESMTP id 4B5F54021F
 for <test-report@dpdk.org>; Mon, 16 Sep 2024 23:11:07 +0200 (CEST)
Received: by mail-il1-f225.google.com with SMTP id
 e9e14a558f8ab-39f54ab8e69so19303805ab.1
 for <test-report@dpdk.org>; Mon, 16 Sep 2024 14:11:07 -0700 (PDT)
DKIM-Signature: v=1; a=rsa-sha256; c=relaxed/relaxed;
 d=iol.unh.edu; s=unh-iol; t=1726521066; x=1727125866; darn=dpdk.org;
 h=references:in-reply-to:cc:to:from:subject:message-id:date:from:to
 :cc:subject:date:message-id:reply-to;
 bh=e4KLXhKwnFE/jiGoLMTWeyt7CBdZjmp6i3nk4n6q0j8=;
 b=IOqDmIJBLWLakmnj8Ax+D9GFpXq1zEX7K3O8y2Zix6lGrvo6vw5nFKhpzOcTGLDplj
 82k2UMtC+B8A1JkxkmBClodl/hafsXzWOpEAVlY8dl7LzwGMmEd6z6rf2LwhhTj9tSJd
 YflaC1TtpmM0CBjOYWULe+IP0/r/A8pUXqh3o=
X-Google-DKIM-Signature: v=1; a=rsa-sha256; c=relaxed/relaxed;
 d=1e100.net; s=20230601; t=1726521066; x=1727125866;
 h=references:in-reply-to:cc:to:from:subject:message-id:date
 :x-gm-message-state:from:to:cc:subject:date:message-id:reply-to;
 bh=e4KLXhKwnFE/jiGoLMTWeyt7CBdZjmp6i3nk4n6q0j8=;
 b=fAJglV4/SkMp3KUW5fSrHhWyp8TP+Z5+0xbqUMt9+8FzYtoGl4uwVkJdPp1zXj4jc2
 MzF7/p9Wpd1AllreqvXyZJbCISdh+IjqLHTkHFJuE6iPnSpvopa08WoPxHy4HLorPaZm
 YTnG3K/47DtAqebNs2d8Wk7agArwQnI716NLl7Ny6LJYPhy90Rb420PBJDDWMuM9PPiU
 NlvmEscC0bzyK5dAzPHqeMJdeRMo8xKyZ3YC9DrkwKYxIEbg22tT4yzlxD1lsPLuh2z8
 fZgjEjB8SQZtBY6nSBz+ZYyRQPe4LjZXSvTgnf+iyI9jfHaNeKG2LGSP9p+sXl1WEt+A
 lvEg==
X-Gm-Message-State: AOJu0Yzy2yXEbFU28CpmzUquOxMtgY5TPhscxNWI6UC/XqJxYJzqP8GN
 zWsoWoWxWdT+LFatOz354t44dZ1WNeOvA4to0puCym7LwA/TePxXu9nNrHloNuRo9dAKakpiLXa
 dmeEYovBNx0yD+dRGxNE3nHHOvhjBO8gx27jvED2n
X-Google-Smtp-Source: AGHT+IEET7EKxoHY9xkKUUYDBXXoGkMc+zPEdj8lCjxbAenyQ7gmd4dtZLTtoRFjqMXkNXAMR9dQ3wsHmJXG
X-Received: by 2002:a92:b750:0:b0:3a0:8fba:4d32 with SMTP id
 e9e14a558f8ab-3a08fba4f1dmr72741345ab.13.1726521066570; 
 Mon, 16 Sep 2024 14:11:06 -0700 (PDT)
Received: from postal.iol.unh.edu (postal.iol.unh.edu. [132.177.123.84])
 by smtp-relay.gmail.com with ESMTPS id
 8926c6da1cb9f-4d37eb684a9sm141613173.23.2024.09.16.14.11.06
 (version=TLS1_2 cipher=ECDHE-ECDSA-AES128-GCM-SHA256 bits=128/128);
 Mon, 16 Sep 2024 14:11:06 -0700 (PDT)
X-Relaying-Domain: iol.unh.edu
Date: Mon, 16 Sep 2024 14:11:06 -0700 (PDT)
Message-ID: <66e89eea.050a0220.33958.b421SMTPIN_ADDED_MISSING@mx.google.com>
Received: from [172.21.0.3] (unknown [172.18.0.240])
 by postal.iol.unh.edu (Postfix) with ESMTP id 11F77605C351;
 Mon, 16 Sep 2024 17:11:06 -0400 (EDT)
Subject: |SUCCESS| pw144091 [PATCH] net/tap: add new macpair option for split
From: dpdklab@iol.unh.edu
To: Test Report <test-report@dpdk.org>
Cc: dpdk-test-reports@iol.unh.edu
In-Reply-To: <20240916173851.369395-1-iboukris@gmail.com>
References: <20240916173851.369395-1-iboukris@gmail.com>
Content-Type: text/plain
X-BeenThere: test-report@dpdk.org
X-Mailman-Version: 2.1.29
Precedence: list
List-Id: automatic DPDK test reports <test-report.dpdk.org>
List-Unsubscribe: <https://mails.dpdk.org/options/test-report>,
 <mailto:test-report-request@dpdk.org?subject=unsubscribe>
List-Archive: <http://mails.dpdk.org/archives/test-report/>
List-Post: <mailto:test-report@dpdk.org>
List-Help: <mailto:test-report-request@dpdk.org?subject=help>
List-Subscribe: <https://mails.dpdk.org/listinfo/test-report>,
 <mailto:test-report-request@dpdk.org?subject=subscribe>
Errors-To: test-report-bounces@dpdk.org

Test-Label: iol-unit-amd64-testing
Test-Status: SUCCESS
http://dpdk.org/patch/144091

_Testing PASS_

Submitter: Isaac Boukris <iboukris@gmail.com>
Date: Monday, September 16 2024 17:38:51 
DPDK git baseline: Repo:dpdk
  Branch: master
  CommitID:523fd7b3adfdf5a87651e8ca33bc69223b3211d5

144091 --> testing pass

Upstream job id: Generic-Unit-Test-DPDK#262990

Test environment and result as below:

+---------------------+----------------+
|     Environment     | dpdk_unit_test |
+=====================+================+
| Windows Server 2022 | PASS           |
+---------------------+----------------+
| CentOS Stream 9     | PASS           |
+---------------------+----------------+
| Debian 12           | PASS           |
+---------------------+----------------+
| Fedora 38           | PASS           |
+---------------------+----------------+
| Fedora 37           | PASS           |
+---------------------+----------------+
| Fedora 38 (Clang)   | PASS           |
+---------------------+----------------+
| Fedora 39           | PASS           |
+---------------------+----------------+
| Fedora 39 (Clang)   | PASS           |
+---------------------+----------------+
| Fedora 40           | PASS           |
+---------------------+----------------+
| Fedora 40 (Clang)   | PASS           |
+---------------------+----------------+
| Ubuntu 22.04        | PASS           |
+---------------------+----------------+
| Ubuntu 20.04        | PASS           |
+---------------------+----------------+
| RHEL9               | PASS           |
+---------------------+----------------+
| RHEL8               | PASS           |
+---------------------+----------------+
| Ubuntu 24.04        | PASS           |
+---------------------+----------------+


Windows Server 2022
	Kernel: 10.0.20348.2031
	Compiler: clang 15.0.7, gcc 14.1.0 (MinGW), and MSVC VS 19.39.33521

CentOS Stream 9
	Kernel: Depends on container host
	Compiler: gcc 11.4.1 20231218 (Red Hat 11.4.1-3)

Debian 12
	Kernel: Depends on container host
	Compiler: gcc (Debian 12.2.0-14) 12.2.0

Fedora 38
	Kernel: Depends on container host
	Compiler: gcc 13.2.1 20240316 (Red Hat 13.2.1-7)

Fedora 37
	Kernel: Depends on container host system
	Compiler: gcc 12.3.1 20230508 (Red Hat 12.3.1-1)

Fedora 38 (Clang)
	Kernel: Depends on container host
	Compiler: clang 16.0.6 (Fedora 16.0.6-4.fc38)

Fedora 39
	Kernel: Depends on container host
	Compiler: gcc 13.3.1 20240522 (Red Hat 13.3.1-1)

Fedora 39 (Clang)
	Kernel: Depends on container host
	Compiler: clang 17.0.6 (Fedora 17.0.6-2.fc39)

Fedora 40
	Kernel: Depends on container host
	Compiler: gcc 14.2.1 20240801 (Red Hat 14.2.1-1)

Fedora 40 (Clang)
	Kernel: Depends on container host
	Compiler: clang 18.1.6 (Fedora 18.1.6-3.fc40)

Ubuntu 22.04
	Kernel: Depends on container host
	Compiler: gcc (Ubuntu 11.4.0-1ubuntu1~22.04) 11.4.0

Ubuntu 20.04
	Kernel: Depends on container host
	Compiler: gcc (Ubuntu 9.4.0-1ubuntu1~20.04.2) 9.4.0

RHEL9
	Kernel: Depends on container host
	Compiler: gcc 11.4.1 20231218 (Red Hat 11.4.1-3)

RHEL8
	Kernel: Depends on container host
	Compiler: gcc 8.5.0 20210514 (Red Hat 8.5.0-22)

Ubuntu 24.04
	Kernel: Depends on container host
	Compiler: gcc (Ubuntu 13.2.0-23ubuntu4) 13.2.0

To view detailed results, visit:
https://lab.dpdk.org/results/dashboard/patchsets/31039/

UNH-IOL DPDK Community Lab

To manage your email subscriptions, visit: 
https://lab.dpdk.org/results/dashboard/preferences/subscriptions/