From mboxrd@z Thu Jan  1 00:00:00 1970
Return-Path: <test-report-bounces@dpdk.org>
Received: from mails.dpdk.org (mails.dpdk.org [217.70.189.124])
	by inbox.dpdk.org (Postfix) with ESMTP id 9596E459BE
	for <public@inbox.dpdk.org>; Tue, 17 Sep 2024 14:41:03 +0200 (CEST)
Received: from mails.dpdk.org (localhost [127.0.0.1])
	by mails.dpdk.org (Postfix) with ESMTP id 9012F402E1;
	Tue, 17 Sep 2024 14:41:03 +0200 (CEST)
Received: from mail-pl1-f226.google.com (mail-pl1-f226.google.com
 [209.85.214.226])
 by mails.dpdk.org (Postfix) with ESMTP id B025C4025F
 for <test-report@dpdk.org>; Tue, 17 Sep 2024 14:40:54 +0200 (CEST)
Received: by mail-pl1-f226.google.com with SMTP id
 d9443c01a7336-1fee6435a34so48432385ad.0
 for <test-report@dpdk.org>; Tue, 17 Sep 2024 05:40:54 -0700 (PDT)
DKIM-Signature: v=1; a=rsa-sha256; c=relaxed/relaxed;
 d=iol.unh.edu; s=unh-iol; t=1726576854; x=1727181654; darn=dpdk.org;
 h=references:in-reply-to:cc:to:from:subject:message-id:date:from:to
 :cc:subject:date:message-id:reply-to;
 bh=zytijVUpPocu9lc5NCzuS7TQu306siIlAH3PLc/QxLg=;
 b=hTiCOtJakHZ6t8mWvBASpyGjTXZH2WhSObgz+tFZ+Q6ghqghyCqiTx/KBOgjhHbnY7
 E3IG7M5sCN9mXYCJ5BX6uWUcP1F84q0xZxLTSZhu2WvAIqgkToXI2fO4nilbDTo1PxJZ
 2d6XEX+ZrU4fesSJx2+J68HPatXPl01p58wGI=
X-Google-DKIM-Signature: v=1; a=rsa-sha256; c=relaxed/relaxed;
 d=1e100.net; s=20230601; t=1726576854; x=1727181654;
 h=references:in-reply-to:cc:to:from:subject:message-id:date
 :x-gm-message-state:from:to:cc:subject:date:message-id:reply-to;
 bh=zytijVUpPocu9lc5NCzuS7TQu306siIlAH3PLc/QxLg=;
 b=Rc5nVY4inpgvg/GqJYXcp4r2smgxY4zbsBcse1IJ9+UeSUxk5W2eBU56g0bnlt9TxN
 keMJw59EffZ2Jp+Kk6TyY7ss/tNijSkBomGoyTkqI/375sRO4QLnjNwi4XMVqq5VYLn/
 /I/WnyIjuRhSrrv9oXEGexnUCQDyb4Ji8tTrSd4+In/n0zd9IKiT/Pe2Q0osBG3wpIK8
 9xgQ2NuBTjPYnxNloLCqmQp2OcyCH8WuOAunF3dwkei/P34LhoZuMcgOYqpsZsPEPA8e
 1aCyitknLBGP1g5qN4ZNp9Id7mJQSF8fR0GCLYDgCqVtHJ0F9ZhV6MsM0CFhXNOSUymh
 +MZg==
X-Gm-Message-State: AOJu0YzTJm3NXTrmIwE0Egu3zLRK4l0vU0PiZqViE65sH3RyT7nMyE19
 6wHqRKVw5aXwS6wUCSO4Z9Lebnm3fI8khhk9oJ1SzSQMjJBw7ymhpoxlpUl2DElWYPSMnUI0DmR
 UDhaecRHHJLTVQxdncvDhNGLsAGUF4+OrpKsQbT7YXGS1t5T3REcgDOyj
X-Google-Smtp-Source: AGHT+IGIIEzdrsFxYE8E4OTxDm9LXpvnNu3uU7T/mExWj/KgUUIU+mLuhfmcZCxsUuM01e5lIbgU7uFcxmqZ
X-Received: by 2002:a17:902:d503:b0:206:8f21:284e with SMTP id
 d9443c01a7336-2076e3f8533mr301332465ad.42.1726576853797; 
 Tue, 17 Sep 2024 05:40:53 -0700 (PDT)
Received: from postal.iol.unh.edu (postal.iol.unh.edu.
 [2606:4100:3880:1234::84]) by smtp-relay.gmail.com with ESMTPS id
 d9443c01a7336-2079460108esm1977175ad.32.2024.09.17.05.40.53
 (version=TLS1_2 cipher=ECDHE-ECDSA-AES128-GCM-SHA256 bits=128/128);
 Tue, 17 Sep 2024 05:40:53 -0700 (PDT)
X-Relaying-Domain: iol.unh.edu
Date: Tue, 17 Sep 2024 05:40:53 -0700 (PDT)
Message-ID: <66e978d5.170a0220.ff068.ea83SMTPIN_ADDED_MISSING@mx.google.com>
Received: from [172.17.0.3] (unknown [172.18.0.217])
 by postal.iol.unh.edu (Postfix) with ESMTP id E189D6050A6D;
 Tue, 17 Sep 2024 08:40:52 -0400 (EDT)
Subject: |SUCCESS| pw144100-144102 [PATCH] [v2,3/3] eventdev: add SW event pr
From: dpdklab@iol.unh.edu
To: Test Report <test-report@dpdk.org>
Cc: dpdk-test-reports@iol.unh.edu
In-Reply-To: <20240917071106.8815-4-pbhagavatula@marvell.com>
References: <20240917071106.8815-4-pbhagavatula@marvell.com>
Content-Type: text/plain
X-BeenThere: test-report@dpdk.org
X-Mailman-Version: 2.1.29
Precedence: list
List-Id: automatic DPDK test reports <test-report.dpdk.org>
List-Unsubscribe: <https://mails.dpdk.org/options/test-report>,
 <mailto:test-report-request@dpdk.org?subject=unsubscribe>
List-Archive: <http://mails.dpdk.org/archives/test-report/>
List-Post: <mailto:test-report@dpdk.org>
List-Help: <mailto:test-report-request@dpdk.org?subject=help>
List-Subscribe: <https://mails.dpdk.org/listinfo/test-report>,
 <mailto:test-report-request@dpdk.org?subject=subscribe>
Errors-To: test-report-bounces@dpdk.org

Test-Label: iol-unit-amd64-testing
Test-Status: SUCCESS
http://dpdk.org/patch/144102

_Testing PASS_

Submitter: Pavan Nikhilesh Bhagavatula <pbhagavatula@marvell.com>
Date: Tuesday, September 17 2024 07:11:06 
DPDK git baseline: Repo:dpdk
  Branch: master
  CommitID:cb9187bc5c2b4bab0ad80194ac3b60491de14e8c

144100-144102 --> testing pass

Upstream job id: Generic-Unit-Test-DPDK#263166

Test environment and result as below:

+---------------------+----------------+
|     Environment     | dpdk_unit_test |
+=====================+================+
| Windows Server 2022 | PASS           |
+---------------------+----------------+
| CentOS Stream 9     | PASS           |
+---------------------+----------------+
| Debian Bullseye     | PASS           |
+---------------------+----------------+
| Fedora 37           | PASS           |
+---------------------+----------------+
| Fedora 38           | PASS           |
+---------------------+----------------+
| Fedora 38 (Clang)   | PASS           |
+---------------------+----------------+
| Fedora 39           | PASS           |
+---------------------+----------------+
| Fedora 39 (Clang)   | PASS           |
+---------------------+----------------+
| Fedora 40           | PASS           |
+---------------------+----------------+
| Fedora 40 (Clang)   | PASS           |
+---------------------+----------------+
| RHEL8               | PASS           |
+---------------------+----------------+
| RHEL9               | PASS           |
+---------------------+----------------+
| Ubuntu 20.04        | PASS           |
+---------------------+----------------+
| Ubuntu 22.04        | PASS           |
+---------------------+----------------+
| Ubuntu 24.04        | PASS           |
+---------------------+----------------+
| Debian 12           | PASS           |
+---------------------+----------------+


Windows Server 2022
	Kernel: 10.0.20348.2031
	Compiler: clang 15.0.7, gcc 14.1.0 (MinGW), and MSVC VS 19.39.33521

CentOS Stream 9
	Kernel: Depends on container host
	Compiler: gcc 11.4.1 20231218 (Red Hat 11.4.1-3)

Debian Bullseye
	Kernel: Depends on container host
	Compiler: gcc (Debian 10.2.1-6) 10.2.1 20210110

Fedora 37
	Kernel: Depends on container host system
	Compiler: gcc 12.3.1 20230508 (Red Hat 12.3.1-1)

Fedora 38
	Kernel: Depends on container host
	Compiler: gcc 13.2.1 20240316 (Red Hat 13.2.1-7)

Fedora 38 (Clang)
	Kernel: Depends on container host
	Compiler: clang 16.0.6 (Fedora 16.0.6-4.fc38)

Fedora 39
	Kernel: Depends on container host
	Compiler: gcc 13.3.1 20240522 (Red Hat 13.3.1-1)

Fedora 39 (Clang)
	Kernel: Depends on container host
	Compiler: clang 17.0.6 (Fedora 17.0.6-2.fc39)

Fedora 40
	Kernel: Depends on container host
	Compiler: gcc 14.2.1 20240801 (Red Hat 14.2.1-1)

Fedora 40 (Clang)
	Kernel: Depends on container host
	Compiler: clang 18.1.6 (Fedora 18.1.6-3.fc40)

RHEL8
	Kernel: Depends on container host
	Compiler: gcc 8.5.0 20210514 (Red Hat 8.5.0-22)

RHEL9
	Kernel: Depends on container host
	Compiler: gcc 11.4.1 20231218 (Red Hat 11.4.1-3)

Ubuntu 20.04
	Kernel: Depends on container host
	Compiler: gcc (Ubuntu 9.4.0-1ubuntu1~20.04.2) 9.4.0

Ubuntu 22.04
	Kernel: Depends on container host
	Compiler: gcc (Ubuntu 11.4.0-1ubuntu1~22.04) 11.4.0

Ubuntu 24.04
	Kernel: Depends on container host
	Compiler: gcc (Ubuntu 13.2.0-23ubuntu4) 13.2.0

Debian 12
	Kernel: Depends on container host
	Compiler: gcc (Debian 12.2.0-14) 12.2.0

To view detailed results, visit:
https://lab.dpdk.org/results/dashboard/patchsets/31042/

UNH-IOL DPDK Community Lab

To manage your email subscriptions, visit: 
https://lab.dpdk.org/results/dashboard/preferences/subscriptions/