From mboxrd@z Thu Jan  1 00:00:00 1970
Return-Path: <test-report-bounces@dpdk.org>
Received: from mails.dpdk.org (mails.dpdk.org [217.70.189.124])
	by inbox.dpdk.org (Postfix) with ESMTP id 7A8CF459BE
	for <public@inbox.dpdk.org>; Tue, 17 Sep 2024 15:57:50 +0200 (CEST)
Received: from mails.dpdk.org (localhost [127.0.0.1])
	by mails.dpdk.org (Postfix) with ESMTP id 750E8402D8;
	Tue, 17 Sep 2024 15:57:50 +0200 (CEST)
Received: from mail-pl1-f228.google.com (mail-pl1-f228.google.com
 [209.85.214.228])
 by mails.dpdk.org (Postfix) with ESMTP id E027F40261
 for <test-report@dpdk.org>; Tue, 17 Sep 2024 15:57:49 +0200 (CEST)
Received: by mail-pl1-f228.google.com with SMTP id
 d9443c01a7336-206b9455460so43672585ad.0
 for <test-report@dpdk.org>; Tue, 17 Sep 2024 06:57:49 -0700 (PDT)
DKIM-Signature: v=1; a=rsa-sha256; c=relaxed/relaxed;
 d=iol.unh.edu; s=unh-iol; t=1726581469; x=1727186269; darn=dpdk.org;
 h=references:in-reply-to:cc:to:from:subject:message-id:date:from:to
 :cc:subject:date:message-id:reply-to;
 bh=21BRgiiS02NUmA24A2pWSN9nzlZ7pYepngJWeXVGzVE=;
 b=flj4frGbJ6LgmfgvIPoAZEBZDiFa/rYlkIfnc7mtx/e5V2vBfWrbMYszZ2u8NTVqUx
 c2rRoZrzwybosMYZpjQu7f/1dTeuHTb2jOqTFB+kiLufT8eEoMMlWBQqdw6BuBGw95jS
 /i1DoSKqUgCHYmlCfbKSZCjOyTZGxbNgT9Hz0=
X-Google-DKIM-Signature: v=1; a=rsa-sha256; c=relaxed/relaxed;
 d=1e100.net; s=20230601; t=1726581469; x=1727186269;
 h=references:in-reply-to:cc:to:from:subject:message-id:date
 :x-gm-message-state:from:to:cc:subject:date:message-id:reply-to;
 bh=21BRgiiS02NUmA24A2pWSN9nzlZ7pYepngJWeXVGzVE=;
 b=cjjF7QtjAG1aoTPLTR5GvPdEaTlHSSFGP6dsKWAzpKm5hTXJDubrmaXc9xQH8nTnOt
 WK91jtV87ubjhWmowxdpFuUy/FNrq5Ilimh4JjZBqYI0D18miBsQ+3hq1mrIj04Dtcey
 HP61r5+p275njtvzNItm/JzDJzpbMuM+WDnen0uryA25XWgcqsJOnc4XftGuBUxiMNXw
 xpnIW3Aur9BxNuaIYgD7Ykn+PoLt5nK/E2TPCMZpzvon9SYWObV4RbRqXQg3vNmh88PT
 ngh6hMaX4pkbuTriPEyeDzvp/+7nlg0Oe3g+EfVjpPVlMOssdP9ixcCQkzkIT/Nu1qiN
 a9Zg==
X-Gm-Message-State: AOJu0YxenpxI+z8cj8RbZ0Ah+zfoJy7nOgabF1l9Z+M9Ll8aBgl7Iz6F
 LzwxxeuPKwTJFmg/hlmNKBovrMJcmTwM8JgtvVPN2qckU/99sdFzFhMKSXMs+8vwf0Wr9WAYOlz
 WpoTvcNDYRT8gW71Z4EFu0GeTdYoAs8Rf563TtO6i
X-Google-Smtp-Source: AGHT+IEAz2xScpEwi/8jEhcn7nl0y3pi2d6Crp8lbOeleN13dWtgRO089z605rnuF0j6B0Zn9D1+DXAV9cWR
X-Received: by 2002:a17:902:c407:b0:1fd:8dfd:3553 with SMTP id
 d9443c01a7336-2074c674577mr363910245ad.18.1726581469012; 
 Tue, 17 Sep 2024 06:57:49 -0700 (PDT)
Received: from postal.iol.unh.edu (postal.iol.unh.edu. [132.177.123.84])
 by smtp-relay.gmail.com with ESMTPS id
 d9443c01a7336-207946b73bcsm1813435ad.94.2024.09.17.06.57.48
 (version=TLS1_2 cipher=ECDHE-ECDSA-AES128-GCM-SHA256 bits=128/128);
 Tue, 17 Sep 2024 06:57:49 -0700 (PDT)
X-Relaying-Domain: iol.unh.edu
Date: Tue, 17 Sep 2024 06:57:49 -0700 (PDT)
Message-ID: <66e98adc.170a0220.155669.f084SMTPIN_ADDED_MISSING@mx.google.com>
Received: from [172.21.0.2] (unknown [172.18.0.240])
 by postal.iol.unh.edu (Postfix) with ESMTP id 388B06050A6D;
 Tue, 17 Sep 2024 09:57:48 -0400 (EDT)
Subject: |SUCCESS| pw144108-144109 [PATCH] [v7,6/6] eal: extend bitops to han
From: dpdklab@iol.unh.edu
To: Test Report <test-report@dpdk.org>
Cc: dpdk-test-reports@iol.unh.edu
In-Reply-To: <20240917093646.723777-7-mattias.ronnblom@ericsson.com>
References: <20240917093646.723777-7-mattias.ronnblom@ericsson.com>
Content-Type: text/plain
X-BeenThere: test-report@dpdk.org
X-Mailman-Version: 2.1.29
Precedence: list
List-Id: automatic DPDK test reports <test-report.dpdk.org>
List-Unsubscribe: <https://mails.dpdk.org/options/test-report>,
 <mailto:test-report-request@dpdk.org?subject=unsubscribe>
List-Archive: <http://mails.dpdk.org/archives/test-report/>
List-Post: <mailto:test-report@dpdk.org>
List-Help: <mailto:test-report-request@dpdk.org?subject=help>
List-Subscribe: <https://mails.dpdk.org/listinfo/test-report>,
 <mailto:test-report-request@dpdk.org?subject=subscribe>
Errors-To: test-report-bounces@dpdk.org

Test-Label: iol-sample-apps-testing
Test-Status: SUCCESS
http://dpdk.org/patch/144109

_Testing PASS_

Submitter: Mattias Ronnblom <mattias.ronnblom@ericsson.com>
Date: Tuesday, September 17 2024 09:36:46 
DPDK git baseline: Repo:dpdk
  Branch: master
  CommitID:41dd9a6bc2d9c6e20e139ad713cc9d172572dd43

144108-144109 --> testing pass

Upstream job id: ACVP-FIPS-testing#6963

Test environment and result as below:

+--------------------+----------------------+----------------------+
|    Environment     | compressdev_zlib_pmd | dpdk_fips_validation |
+====================+======================+======================+
| Ubuntu 22.04 (ARM) | PASS                 | SKIPPED              |
+--------------------+----------------------+----------------------+
| Ubuntu 22.04       | PASS                 | SKIPPED              |
+--------------------+----------------------+----------------------+
| Ubuntu 20.04       | SKIPPED              | PASS                 |
+--------------------+----------------------+----------------------+


Ubuntu 22.04 (ARM)
	Kernel: 5.15.0-97-generic
	Compiler: gcc gcc (Ubuntu 11.4.0-1ubuntu1~22.04) 11.4.0

Ubuntu 22.04
	Kernel: 5.15.0-100-generic
	Compiler: gcc gcc (Ubuntu 11.4.0-1ubuntu1~22.04) 11.4.0

Ubuntu 20.04
	Kernel: Depends on container host
	Compiler: gcc (Ubuntu 9.4.0-1ubuntu1~20.04.2) 9.4.0

To view detailed results, visit:
https://lab.dpdk.org/results/dashboard/patchsets/31044/

UNH-IOL DPDK Community Lab

To manage your email subscriptions, visit: 
https://lab.dpdk.org/results/dashboard/preferences/subscriptions/