From mboxrd@z Thu Jan  1 00:00:00 1970
Return-Path: <test-report-bounces@dpdk.org>
Received: from mails.dpdk.org (mails.dpdk.org [217.70.189.124])
	by inbox.dpdk.org (Postfix) with ESMTP id A6608459C0
	for <public@inbox.dpdk.org>; Wed, 18 Sep 2024 01:32:27 +0200 (CEST)
Received: from mails.dpdk.org (localhost [127.0.0.1])
	by mails.dpdk.org (Postfix) with ESMTP id 903E94029B;
	Wed, 18 Sep 2024 01:32:27 +0200 (CEST)
Received: from mail-qv1-f99.google.com (mail-qv1-f99.google.com
 [209.85.219.99]) by mails.dpdk.org (Postfix) with ESMTP id 40C8A4027E
 for <test-report@dpdk.org>; Wed, 18 Sep 2024 01:32:26 +0200 (CEST)
Received: by mail-qv1-f99.google.com with SMTP id
 6a1803df08f44-6c35334dfb1so43711456d6.0
 for <test-report@dpdk.org>; Tue, 17 Sep 2024 16:32:26 -0700 (PDT)
DKIM-Signature: v=1; a=rsa-sha256; c=relaxed/relaxed;
 d=iol.unh.edu; s=unh-iol; t=1726615945; x=1727220745; darn=dpdk.org;
 h=references:in-reply-to:cc:to:from:subject:message-id:date:from:to
 :cc:subject:date:message-id:reply-to;
 bh=BJYctqHbjoITYC3NKb4W58KaLFnUGf9l/n+mG+3TDXo=;
 b=HgCyt8hN/i9Ko/YWRHiODr7Oqe4K2Wt0fAzrU1sPtrfChj1AY/Bd4QjjNWiUqlc1kq
 8SVJBgqZ8fbwcUihbKirS/btU1E5MndQpJwIWy0Y+cx5GCq4tVO14TgwUWMAEhwrg8QZ
 G4qvA1sjXlT/8jVXDthJTy+Q0tXd5Tua7aHYY=
X-Google-DKIM-Signature: v=1; a=rsa-sha256; c=relaxed/relaxed;
 d=1e100.net; s=20230601; t=1726615945; x=1727220745;
 h=references:in-reply-to:cc:to:from:subject:message-id:date
 :x-gm-message-state:from:to:cc:subject:date:message-id:reply-to;
 bh=BJYctqHbjoITYC3NKb4W58KaLFnUGf9l/n+mG+3TDXo=;
 b=QQGDLof0S63vxtKujyKsZUeRL/B0pZgDZWrAqJDDxSdTh1GvkdVhXYOfJHeLnJqi2b
 1OpJvo26TFyAjClfts52sw3KykEoLNEs26CsvyLl6GOcV22bp8Otn+hrsjomliRsBPVp
 7eQ5mcDS3f8C9o46AzKCSOGhCWOn8Fy4ATx4C+8q3UaCd8tGpek8ylSslQR5VxSvPF1g
 JS2qO2A08bKU9cCxytor1PQBnlgaKvmLUqfjopCPtmbU+7r7xyoeWrR9AFCrLOcKrizV
 Xv/osdGtjAXTqa02YAuXvYybshmDhGpevMpx6s6QQgV5ewZkebtn3YFtyX7cA6Jj1wLP
 V3Lw==
X-Gm-Message-State: AOJu0YyriwccRKOSmz85tEMqOVPpMqVpIIWUWExAGYSAfgGMWWpT/IvI
 IuQ9qqpyTPAtrtJ675OjpvyEM3e4/Qrnpv3vtpAAIdYvveKVewyJ9EY02moVKQ3Ei+VCuUWtp1S
 ovqSRbVzYas2Gay2pvE1icLdQ8R0hWCCso6miyZTZ
X-Google-Smtp-Source: AGHT+IH+Ef15zKdPk015Y00WLsnzHAm+dcWnWmSVIeoYzFjXmkxg2s2GBuLtlpJ+LZf8z0i25gDDM/cdpjwg
X-Received: by 2002:a05:6214:2f0b:b0:6bf:8d11:b640 with SMTP id
 6a1803df08f44-6c57351c87bmr249944546d6.19.1726615945629; 
 Tue, 17 Sep 2024 16:32:25 -0700 (PDT)
Received: from postal.iol.unh.edu (postal.iol.unh.edu. [132.177.123.84])
 by smtp-relay.gmail.com with ESMTPS id
 6a1803df08f44-6c58c7e47cdsm4397226d6.70.2024.09.17.16.32.25
 (version=TLS1_2 cipher=ECDHE-ECDSA-AES128-GCM-SHA256 bits=128/128);
 Tue, 17 Sep 2024 16:32:25 -0700 (PDT)
X-Relaying-Domain: iol.unh.edu
Date: Tue, 17 Sep 2024 16:32:25 -0700 (PDT)
Message-ID: <66ea1189.d40a0220.31d34d.2fc1SMTPIN_ADDED_MISSING@mx.google.com>
Received: from [172.17.0.2] (unknown [172.18.0.217])
 by postal.iol.unh.edu (Postfix) with ESMTP id 52947605C351;
 Tue, 17 Sep 2024 19:32:25 -0400 (EDT)
Subject: |SUCCESS| pw144115-144112 [PATCH] [v8,6/6] eal: extend bitops to han
From: dpdklab@iol.unh.edu
To: Test Report <test-report@dpdk.org>
Cc: dpdk-test-reports@iol.unh.edu
In-Reply-To: <20240917104811.723863-7-mattias.ronnblom@ericsson.com>
References: <20240917104811.723863-7-mattias.ronnblom@ericsson.com>
Content-Type: text/plain
X-BeenThere: test-report@dpdk.org
X-Mailman-Version: 2.1.29
Precedence: list
List-Id: automatic DPDK test reports <test-report.dpdk.org>
List-Unsubscribe: <https://mails.dpdk.org/options/test-report>,
 <mailto:test-report-request@dpdk.org?subject=unsubscribe>
List-Archive: <http://mails.dpdk.org/archives/test-report/>
List-Post: <mailto:test-report@dpdk.org>
List-Help: <mailto:test-report-request@dpdk.org?subject=help>
List-Subscribe: <https://mails.dpdk.org/listinfo/test-report>,
 <mailto:test-report-request@dpdk.org?subject=subscribe>
Errors-To: test-report-bounces@dpdk.org

Test-Label: iol-sample-apps-testing
Test-Status: SUCCESS
http://dpdk.org/patch/144112

_Testing PASS_

Submitter: Mattias Ronnblom <mattias.ronnblom@ericsson.com>
Date: Tuesday, September 17 2024 10:48:11 
DPDK git baseline: Repo:dpdk
  Branch: master
  CommitID:41dd9a6bc2d9c6e20e139ad713cc9d172572dd43

144115-144112 --> testing pass

Upstream job id: ACVP-FIPS-testing#6968

Test environment and result as below:

+--------------------+----------------------+----------------------+
|    Environment     | compressdev_zlib_pmd | dpdk_fips_validation |
+====================+======================+======================+
| Ubuntu 22.04 (ARM) | PASS                 | SKIPPED              |
+--------------------+----------------------+----------------------+
| Ubuntu 22.04       | PASS                 | SKIPPED              |
+--------------------+----------------------+----------------------+
| Ubuntu 20.04       | SKIPPED              | PASS                 |
+--------------------+----------------------+----------------------+


Ubuntu 22.04 (ARM)
	Kernel: 5.15.0-97-generic
	Compiler: gcc gcc (Ubuntu 11.4.0-1ubuntu1~22.04) 11.4.0

Ubuntu 22.04
	Kernel: 5.15.0-100-generic
	Compiler: gcc gcc (Ubuntu 11.4.0-1ubuntu1~22.04) 11.4.0

Ubuntu 20.04
	Kernel: Depends on container host
	Compiler: gcc (Ubuntu 9.4.0-1ubuntu1~20.04.2) 9.4.0

To view detailed results, visit:
https://lab.dpdk.org/results/dashboard/patchsets/31045/

UNH-IOL DPDK Community Lab

To manage your email subscriptions, visit: 
https://lab.dpdk.org/results/dashboard/preferences/subscriptions/