From mboxrd@z Thu Jan  1 00:00:00 1970
Return-Path: <test-report-bounces@dpdk.org>
Received: from mails.dpdk.org (mails.dpdk.org [217.70.189.124])
	by inbox.dpdk.org (Postfix) with ESMTP id 3F2C6459C1
	for <public@inbox.dpdk.org>; Wed, 18 Sep 2024 02:25:00 +0200 (CEST)
Received: from mails.dpdk.org (localhost [127.0.0.1])
	by mails.dpdk.org (Postfix) with ESMTP id 205074029B;
	Wed, 18 Sep 2024 02:25:00 +0200 (CEST)
Received: from mail-vk1-f227.google.com (mail-vk1-f227.google.com
 [209.85.221.227])
 by mails.dpdk.org (Postfix) with ESMTP id 0222A4027E
 for <test-report@dpdk.org>; Wed, 18 Sep 2024 02:24:58 +0200 (CEST)
Received: by mail-vk1-f227.google.com with SMTP id
 71dfb90a1353d-5011af33774so2003377e0c.3
 for <test-report@dpdk.org>; Tue, 17 Sep 2024 17:24:58 -0700 (PDT)
DKIM-Signature: v=1; a=rsa-sha256; c=relaxed/relaxed;
 d=iol.unh.edu; s=unh-iol; t=1726619098; x=1727223898; darn=dpdk.org;
 h=references:in-reply-to:cc:to:from:subject:message-id:date:from:to
 :cc:subject:date:message-id:reply-to;
 bh=vvke+CJ8LMMscoo27h3w0laFC5I1WoQqesbeMOn1X/c=;
 b=QVKWAwRYIIKJCKMTncFDCX4MP/WB5sxUuOhVproiTcZ77K9Wc/05AleKC1Pzl6icst
 k3hSCfVVeKIVqh4NiG/bsrP0cMY7QfudXw9so005YwM2zOGuxM2jetHgTMG87wdnYDyr
 QVgc1MoeY/9s2YIYzbhovmpr9dphv31HhMrQM=
X-Google-DKIM-Signature: v=1; a=rsa-sha256; c=relaxed/relaxed;
 d=1e100.net; s=20230601; t=1726619098; x=1727223898;
 h=references:in-reply-to:cc:to:from:subject:message-id:date
 :x-gm-message-state:from:to:cc:subject:date:message-id:reply-to;
 bh=vvke+CJ8LMMscoo27h3w0laFC5I1WoQqesbeMOn1X/c=;
 b=uWUmp1BbFIu+iivy98uXgcluIFOat/cVTIbf3rBitoEafncN2LUjs7f/s3p7KXnCCV
 /ZZ/kecpH+bf4FEX5uHQ7oGeE75f0iEe1KULw0YUTbO9NoINAIuh+McptmtBWvLJJE7r
 QX8xKx6EzhLlMuR6ZHoeDcFzhicRoobIG4nplqeAIOCXUhwtIP1FkkAxjh4wf5JWb81I
 N1ULv8a9vgP3cIsIxue+QxLnoRhkb6eqUrvEBNJON+j7B8kfjTSGFH/pMyGeQn5IAV9a
 kU8Kf6vYC8tivLTBIx7EVdwT1k4oNJTDwWX30oHUWVURlACtC8vGpVNJU2GAifn8urpk
 VzlA==
X-Gm-Message-State: AOJu0YwYo+WZLAfqFRAjmyI4WJUPSO2TSgKvtbbs9D+LjFhEhA2PSkg3
 2/6/ym0McR4RxdScxthc534nbEAaWLcRihlsNNiea8rWLY/DxDjDcSCR2UtCOOftLwN8xzYvUay
 4mrABXJZs9x9LEGZMGmpbNYmRwFcHeqwye+hmGXr7
X-Google-Smtp-Source: AGHT+IGM5kjhOJkVp9klcujmxDvpSslbdboyyMHWyMD5ivguax6j2pekXTZnc7kp3rzf+mpyQ4vOxc/gywN9
X-Received: by 2002:a05:6122:3b12:b0:4f6:aa3e:aa3e with SMTP id
 71dfb90a1353d-5032d4ec54fmr13718403e0c.11.1726619097399; 
 Tue, 17 Sep 2024 17:24:57 -0700 (PDT)
Received: from postal.iol.unh.edu (postal.iol.unh.edu. [132.177.123.84])
 by smtp-relay.gmail.com with ESMTPS id
 71dfb90a1353d-5035b955336sm296417e0c.5.2024.09.17.17.24.57
 (version=TLS1_2 cipher=ECDHE-ECDSA-AES128-GCM-SHA256 bits=128/128);
 Tue, 17 Sep 2024 17:24:57 -0700 (PDT)
X-Relaying-Domain: iol.unh.edu
Date: Tue, 17 Sep 2024 17:24:57 -0700 (PDT)
Message-ID: <66ea1dd9.050a0220.35a72e.60eaSMTPIN_ADDED_MISSING@mx.google.com>
Received: from [172.21.0.3] (unknown [172.18.0.240])
 by postal.iol.unh.edu (Postfix) with ESMTP id 03A01605C351;
 Tue, 17 Sep 2024 20:24:57 -0400 (EDT)
Subject: |SUCCESS| pw144082-144083 [PATCH] [2/2] bus/pci: enhance hotplug for
From: dpdklab@iol.unh.edu
To: Test Report <test-report@dpdk.org>
Cc: dpdk-test-reports@iol.unh.edu
In-Reply-To: <20240916123044.2692301-2-david.marchand@redhat.com>
References: <20240916123044.2692301-2-david.marchand@redhat.com>
Content-Type: text/plain
X-BeenThere: test-report@dpdk.org
X-Mailman-Version: 2.1.29
Precedence: list
List-Id: automatic DPDK test reports <test-report.dpdk.org>
List-Unsubscribe: <https://mails.dpdk.org/options/test-report>,
 <mailto:test-report-request@dpdk.org?subject=unsubscribe>
List-Archive: <http://mails.dpdk.org/archives/test-report/>
List-Post: <mailto:test-report@dpdk.org>
List-Help: <mailto:test-report-request@dpdk.org?subject=help>
List-Subscribe: <https://mails.dpdk.org/listinfo/test-report>,
 <mailto:test-report-request@dpdk.org?subject=subscribe>
Errors-To: test-report-bounces@dpdk.org

Test-Label: iol-sample-apps-testing
Test-Status: SUCCESS
http://dpdk.org/patch/144083

_Testing PASS_

Submitter: David Marchand <david.marchand@redhat.com>
Date: Monday, September 16 2024 12:30:43 
DPDK git baseline: Repo:dpdk
  Branch: master
  CommitID:41dd9a6bc2d9c6e20e139ad713cc9d172572dd43

144082-144083 --> testing pass

Upstream job id: Template-DTS-Pipeline#181817

Test environment and result as below:

+--------------------+----------------------+----------------------+
|    Environment     | dpdk_fips_validation | compressdev_zlib_pmd |
+====================+======================+======================+
| Ubuntu 20.04       | PASS                 | SKIPPED              |
+--------------------+----------------------+----------------------+
| Ubuntu 22.04       | SKIPPED              | PASS                 |
+--------------------+----------------------+----------------------+
| Ubuntu 22.04 (ARM) | SKIPPED              | PASS                 |
+--------------------+----------------------+----------------------+


Ubuntu 20.04
	Kernel: Depends on container host
	Compiler: gcc (Ubuntu 9.4.0-1ubuntu1~20.04.2) 9.4.0

Ubuntu 22.04
	Kernel: 5.15.0-100-generic
	Compiler: gcc gcc (Ubuntu 11.4.0-1ubuntu1~22.04) 11.4.0

Ubuntu 22.04 (ARM)
	Kernel: 5.15.0-97-generic
	Compiler: gcc gcc (Ubuntu 11.4.0-1ubuntu1~22.04) 11.4.0

To view detailed results, visit:
https://lab.dpdk.org/results/dashboard/patchsets/31035/

UNH-IOL DPDK Community Lab

To manage your email subscriptions, visit: 
https://lab.dpdk.org/results/dashboard/preferences/subscriptions/