From mboxrd@z Thu Jan  1 00:00:00 1970
Return-Path: <test-report-bounces@dpdk.org>
Received: from mails.dpdk.org (mails.dpdk.org [217.70.189.124])
	by inbox.dpdk.org (Postfix) with ESMTP id 44E1E4599B
	for <public@inbox.dpdk.org>; Wed, 18 Sep 2024 07:57:02 +0200 (CEST)
Received: from mails.dpdk.org (localhost [127.0.0.1])
	by mails.dpdk.org (Postfix) with ESMTP id 3E88F4027C;
	Wed, 18 Sep 2024 07:57:02 +0200 (CEST)
Received: from mail-ua1-f97.google.com (mail-ua1-f97.google.com
 [209.85.222.97]) by mails.dpdk.org (Postfix) with ESMTP id EA73140156
 for <test-report@dpdk.org>; Wed, 18 Sep 2024 07:57:00 +0200 (CEST)
Received: by mail-ua1-f97.google.com with SMTP id
 a1e0cc1a2514c-846bc2104c8so273609241.0
 for <test-report@dpdk.org>; Tue, 17 Sep 2024 22:57:00 -0700 (PDT)
DKIM-Signature: v=1; a=rsa-sha256; c=relaxed/relaxed;
 d=iol.unh.edu; s=unh-iol; t=1726639020; x=1727243820; darn=dpdk.org;
 h=cc:to:from:subject:message-id:date:from:to:cc:subject:date
 :message-id:reply-to;
 bh=5Oy4A6BKbI3gA3FLgoeal8rCSWBjRnxl1VVlQxvXv2Y=;
 b=WnzR/l8y1oul9WpAaxky9mCqrMqYnzDKS+OB/c/zkhpkO+VIh2XrvNIlvGaipJAVpQ
 IeHFLflNDKve3QLjYvQx1hVr4N6H8z7jX9iq6CsAuju0Eyaikl0Nbc4hxCLvjYTzpV9j
 8O1R1X+BHM+yLxN8OikC+5RkSaCsGrAi3JuI0=
X-Google-DKIM-Signature: v=1; a=rsa-sha256; c=relaxed/relaxed;
 d=1e100.net; s=20230601; t=1726639020; x=1727243820;
 h=cc:to:from:subject:message-id:date:x-gm-message-state:from:to:cc
 :subject:date:message-id:reply-to;
 bh=5Oy4A6BKbI3gA3FLgoeal8rCSWBjRnxl1VVlQxvXv2Y=;
 b=c6mmkf6sRfYQpqqVnXIByt9Wv7kUPbJ2EVzRPiXkKEVxSaVVT8Xw+U2WbRzr+D+dlR
 zkUI8gUOLmUxZYHkF6HB6yhd5XqyX3O0CjgAe4i/OSaMgfSqJS4rSfcddb2PXGLYQPTm
 sGjcqJXrbflS1GboQBS9f5OgNRsXiLIBAr//ufqHfG0CBkYAiEBizDpd6xS1Dj8JpAuH
 3PI8TfFlHDogvffOFkDcDnUhx/fSrcIErcjEcyHx3FQ1n3Q2i0QcFlt1Ct7y8TY3f5yW
 kaUIMiQqE0ThlHqcnm05beVmzwXy9Yaog0s0nfmt14jDLTu7b/aKF8KUuuV64NoezkDz
 EHCw==
X-Gm-Message-State: AOJu0YzGjmeF2Fkqze//Qq7WIPLLR3mWQunV+sKTGBktexV2/gBQQ2B+
 fYBkvbxpSPvjLiolZPXVUdwr1hWmFlnLMs/DTfOUAk2VzdiY8JRCGh7gdRGKY+aRLnKmOz75evR
 LjlwcQAztytCNk+WzKWfIyBb2aJsFYJus4HWxkSMk
X-Google-Smtp-Source: AGHT+IHa/MESJtPWiGeQeFOc55FzkVqs2H8QJ9eNVwa08f5iYjG+pls51/tFH7Q9grKY8zRjcqaOV5zhbPke
X-Received: by 2002:a05:6102:2b95:b0:49c:7af:2ec4 with SMTP id
 ada2fe7eead31-49c15aa889fmr20598761137.13.1726639020284; 
 Tue, 17 Sep 2024 22:57:00 -0700 (PDT)
Received: from postal.iol.unh.edu (postal.iol.unh.edu. [132.177.123.84])
 by smtp-relay.gmail.com with ESMTPS id
 a1e0cc1a2514c-84939772299sm358863241.5.2024.09.17.22.57.00
 (version=TLS1_2 cipher=ECDHE-ECDSA-AES128-GCM-SHA256 bits=128/128);
 Tue, 17 Sep 2024 22:57:00 -0700 (PDT)
X-Relaying-Domain: iol.unh.edu
Date: Tue, 17 Sep 2024 22:57:00 -0700 (PDT)
Message-ID: <66ea6bac.050a0220.34468d.b662SMTPIN_ADDED_MISSING@mx.google.com>
Received: from [172.21.0.4] (unknown [172.18.0.240])
 by postal.iol.unh.edu (Postfix) with ESMTP id EC126605C351;
 Wed, 18 Sep 2024 01:56:59 -0400 (EDT)
Subject: |SUCCESS| [GIT MASTER] 41dd9a6bc2d9c6e20e139ad713cc9d172572dd43
From: dpdklab@iol.unh.edu
To: Test Report <test-report@dpdk.org>
Cc: dpdk-test-reports@iol.unh.edu
Content-Type: text/plain
X-BeenThere: test-report@dpdk.org
X-Mailman-Version: 2.1.29
Precedence: list
List-Id: automatic DPDK test reports <test-report.dpdk.org>
List-Unsubscribe: <https://mails.dpdk.org/options/test-report>,
 <mailto:test-report-request@dpdk.org?subject=unsubscribe>
List-Archive: <http://mails.dpdk.org/archives/test-report/>
List-Post: <mailto:test-report@dpdk.org>
List-Help: <mailto:test-report-request@dpdk.org?subject=help>
List-Subscribe: <https://mails.dpdk.org/listinfo/test-report>,
 <mailto:test-report-request@dpdk.org?subject=subscribe>
Errors-To: test-report-bounces@dpdk.org

_Testing PASS_

Branch: dpdk

41dd9a6bc2d9c6e20e139ad713cc9d172572dd43 --> testing pass

Upstream job id: Generic-Unit-Test-DPDK#263658

Test environment and result as below:

+---------------------+----------------+
|     Environment     | dpdk_unit_test |
+=====================+================+
| Windows Server 2022 | PASS           |
+---------------------+----------------+
| Arch Linux          | PASS           |
+---------------------+----------------+
| CentOS Stream 9     | PASS           |
+---------------------+----------------+
| Fedora 37           | PASS           |
+---------------------+----------------+
| Debian 12           | PASS           |
+---------------------+----------------+
| Fedora 38           | PASS           |
+---------------------+----------------+
| Fedora 38 (Clang)   | PASS           |
+---------------------+----------------+
| Fedora 39           | PASS           |
+---------------------+----------------+
| Fedora 39 (Clang)   | PASS           |
+---------------------+----------------+
| Fedora 40           | PASS           |
+---------------------+----------------+
| RHEL8               | PASS           |
+---------------------+----------------+
| Fedora 40 (Clang)   | PASS           |
+---------------------+----------------+
| RHEL9               | PASS           |
+---------------------+----------------+
| Ubuntu 22.04        | PASS           |
+---------------------+----------------+
| Ubuntu 20.04        | PASS           |
+---------------------+----------------+
| Ubuntu 24.04        | PASS           |
+---------------------+----------------+


Windows Server 2022
	Kernel: 10.0.20348.2031
	Compiler: clang 15.0.7, gcc 14.1.0 (MinGW), and MSVC VS 19.39.33521

Arch Linux
	Kernel: Depends on container host
	Compiler: gcc 14.2.1 20240805

CentOS Stream 9
	Kernel: Depends on container host
	Compiler: gcc 11.4.1 20231218 (Red Hat 11.4.1-3)

Fedora 37
	Kernel: Depends on container host system
	Compiler: gcc 12.3.1 20230508 (Red Hat 12.3.1-1)

Debian 12
	Kernel: Depends on container host
	Compiler: gcc (Debian 12.2.0-14) 12.2.0

Fedora 38
	Kernel: Depends on container host
	Compiler: gcc 13.2.1 20240316 (Red Hat 13.2.1-7)

Fedora 38 (Clang)
	Kernel: Depends on container host
	Compiler: clang 16.0.6 (Fedora 16.0.6-4.fc38)

Fedora 39
	Kernel: Depends on container host
	Compiler: gcc 13.3.1 20240522 (Red Hat 13.3.1-1)

Fedora 39 (Clang)
	Kernel: Depends on container host
	Compiler: clang 17.0.6 (Fedora 17.0.6-2.fc39)

Fedora 40
	Kernel: Depends on container host
	Compiler: gcc 14.2.1 20240801 (Red Hat 14.2.1-1)

RHEL8
	Kernel: Depends on container host
	Compiler: gcc 8.5.0 20210514 (Red Hat 8.5.0-22)

Fedora 40 (Clang)
	Kernel: Depends on container host
	Compiler: clang 18.1.6 (Fedora 18.1.6-3.fc40)

RHEL9
	Kernel: Depends on container host
	Compiler: gcc 11.4.1 20231218 (Red Hat 11.4.1-3)

Ubuntu 22.04
	Kernel: Depends on container host
	Compiler: gcc (Ubuntu 11.4.0-1ubuntu1~22.04) 11.4.0

Ubuntu 20.04
	Kernel: Depends on container host
	Compiler: gcc (Ubuntu 9.4.0-1ubuntu1~20.04.2) 9.4.0

Ubuntu 24.04
	Kernel: Depends on container host
	Compiler: gcc (Ubuntu 13.2.0-23ubuntu4) 13.2.0

To view detailed results, visit:
https://lab.dpdk.org/results/dashboard/tarballs/30636/

UNH-IOL DPDK Community Lab

To manage your email subscriptions, visit: 
https://lab.dpdk.org/results/dashboard/preferences/subscriptions/