From mboxrd@z Thu Jan  1 00:00:00 1970
Return-Path: <test-report-bounces@dpdk.org>
Received: from mails.dpdk.org (mails.dpdk.org [217.70.189.124])
	by inbox.dpdk.org (Postfix) with ESMTP id 714FA459CB
	for <public@inbox.dpdk.org>; Thu, 19 Sep 2024 03:22:14 +0200 (CEST)
Received: from mails.dpdk.org (localhost [127.0.0.1])
	by mails.dpdk.org (Postfix) with ESMTP id 5FF8C42E5B;
	Thu, 19 Sep 2024 03:22:14 +0200 (CEST)
Received: from mail-oo1-f99.google.com (mail-oo1-f99.google.com
 [209.85.161.99]) by mails.dpdk.org (Postfix) with ESMTP id EFE7440156
 for <test-report@dpdk.org>; Thu, 19 Sep 2024 03:22:12 +0200 (CEST)
Received: by mail-oo1-f99.google.com with SMTP id
 006d021491bc7-5e1b35030aeso202522eaf.3
 for <test-report@dpdk.org>; Wed, 18 Sep 2024 18:22:12 -0700 (PDT)
DKIM-Signature: v=1; a=rsa-sha256; c=relaxed/relaxed;
 d=iol.unh.edu; s=unh-iol; t=1726708932; x=1727313732; darn=dpdk.org;
 h=references:in-reply-to:cc:to:from:subject:message-id:date:from:to
 :cc:subject:date:message-id:reply-to;
 bh=Q2yTR1atjX9zgD95gxQMejBDcu+OKVAWU61zCyr3B/8=;
 b=Coxa15PP48utuwGRhrssArTNBQU+bz9JtmJnUwYkND8PFbx6DCRqOUpwJSfyqUs+Th
 D5hRoqfG04YC90EEnulqJc4IFfBrQ9uXEMjfNugFrjvyockmcMb4zjSD+RkSxXVlpQpE
 0j2o6PsybRyyCRPnxGL8Qy7wwrG4aTofxF3/U=
X-Google-DKIM-Signature: v=1; a=rsa-sha256; c=relaxed/relaxed;
 d=1e100.net; s=20230601; t=1726708932; x=1727313732;
 h=references:in-reply-to:cc:to:from:subject:message-id:date
 :x-gm-message-state:from:to:cc:subject:date:message-id:reply-to;
 bh=Q2yTR1atjX9zgD95gxQMejBDcu+OKVAWU61zCyr3B/8=;
 b=HYpwrSAofSLPK6szHwYfWtyDsJVUQkBci4BYGZZzh5W9ftRzu7YyQGyhqEvdECcXMu
 NcIDPZ1AWb/D7THIOw1JawFZN/ylFsp49zmEFS3/9AvlIS4SQz6giO5vDKGoPvXCJJYI
 OBPdQ1lZESx6N3b5J38XKxVMLQSQMDFgUHMBTWC25BBbCSN5HifHXoG7g1diSn/DEq14
 2eISGEgoHu0U4o6rULckG02pmmyUfqVqt4HGpnv1D/iWtSWp2S3M2X9zdVAyZMM4ph7d
 yee+g9+z2yZyYCqEgN7LeeAYXme4VkADqmR3Wzc9W2pOdaXDYrL0X4I9Rn9IEhNjhi++
 ei+w==
X-Gm-Message-State: AOJu0Yw9OfMVAQt/iFz/0Ga1jIJXSfcu+PhR/3Is/HTfFYwjHKDEM1dg
 d286UJsTarcxGYI36AOTwHSbB4fG9hJh+7CvSaq5iM7AgD+2IVb1oEV2NJ+pxjjIq5jVitSfkWo
 rGWOWJCnklaM2NZbW2G74HJrUymTH/GBh5S6dpoyl
X-Google-Smtp-Source: AGHT+IGmCewqa2iDg8qNxkH1av20uQJIXyoXQ5PH4RtzU6F+1n1wWfwa3Yk0G1/7Y6GQ5ttRb/djnvykTct/
X-Received: by 2002:a05:6870:854a:b0:261:2072:7b5d with SMTP id
 586e51a60fabf-27c3f6469c8mr13946450fac.29.1726708931936; 
 Wed, 18 Sep 2024 18:22:11 -0700 (PDT)
Received: from postal.iol.unh.edu (postal.iol.unh.edu. [132.177.123.84])
 by smtp-relay.gmail.com with ESMTPS id
 586e51a60fabf-27d0b49b2b1sm34273fac.29.2024.09.18.18.22.11
 (version=TLS1_2 cipher=ECDHE-ECDSA-AES128-GCM-SHA256 bits=128/128);
 Wed, 18 Sep 2024 18:22:11 -0700 (PDT)
X-Relaying-Domain: iol.unh.edu
Date: Wed, 18 Sep 2024 18:22:11 -0700 (PDT)
Message-ID: <66eb7cc3.050a0220.1f7e6c.28c3SMTPIN_ADDED_MISSING@mx.google.com>
Received: from [172.17.0.2] (unknown [172.18.0.217])
 by postal.iol.unh.edu (Postfix) with ESMTP id 687BB605C351;
 Wed, 18 Sep 2024 21:22:11 -0400 (EDT)
Subject: |SUCCESS| pw144149-144163 [PATCH] [v23,15/15] doc: add release note 
From: dpdklab@iol.unh.edu
To: Test Report <test-report@dpdk.org>
Cc: dpdk-test-reports@iol.unh.edu
In-Reply-To: <20240918045830.3798-16-stephen@networkplumber.org>
References: <20240918045830.3798-16-stephen@networkplumber.org>
Content-Type: text/plain
X-BeenThere: test-report@dpdk.org
X-Mailman-Version: 2.1.29
Precedence: list
List-Id: automatic DPDK test reports <test-report.dpdk.org>
List-Unsubscribe: <https://mails.dpdk.org/options/test-report>,
 <mailto:test-report-request@dpdk.org?subject=unsubscribe>
List-Archive: <http://mails.dpdk.org/archives/test-report/>
List-Post: <mailto:test-report@dpdk.org>
List-Help: <mailto:test-report-request@dpdk.org?subject=help>
List-Subscribe: <https://mails.dpdk.org/listinfo/test-report>,
 <mailto:test-report-request@dpdk.org?subject=subscribe>
Errors-To: test-report-bounces@dpdk.org

Test-Label: iol-sample-apps-testing
Test-Status: SUCCESS
http://dpdk.org/patch/144163

_Testing PASS_

Submitter: Stephen Hemminger <stephen@networkplumber.org>
Date: Wednesday, September 18 2024 04:56:20 
DPDK git baseline: Repo:dpdk
  Branch: master
  CommitID:41dd9a6bc2d9c6e20e139ad713cc9d172572dd43

144149-144163 --> testing pass

Upstream job id: ACVP-FIPS-testing#6980

Test environment and result as below:

+--------------------+----------------------+----------------------+
|    Environment     | compressdev_zlib_pmd | dpdk_fips_validation |
+====================+======================+======================+
| Ubuntu 22.04       | PASS                 | SKIPPED              |
+--------------------+----------------------+----------------------+
| Ubuntu 22.04 (ARM) | PASS                 | SKIPPED              |
+--------------------+----------------------+----------------------+
| Ubuntu 20.04       | SKIPPED              | PASS                 |
+--------------------+----------------------+----------------------+


Ubuntu 22.04
	Kernel: 5.15.0-100-generic
	Compiler: gcc gcc (Ubuntu 11.4.0-1ubuntu1~22.04) 11.4.0

Ubuntu 22.04 (ARM)
	Kernel: 5.15.0-97-generic
	Compiler: gcc gcc (Ubuntu 11.4.0-1ubuntu1~22.04) 11.4.0

Ubuntu 20.04
	Kernel: Depends on container host
	Compiler: gcc (Ubuntu 9.4.0-1ubuntu1~20.04.2) 9.4.0

To view detailed results, visit:
https://lab.dpdk.org/results/dashboard/patchsets/31054/

UNH-IOL DPDK Community Lab

To manage your email subscriptions, visit: 
https://lab.dpdk.org/results/dashboard/preferences/subscriptions/