From mboxrd@z Thu Jan  1 00:00:00 1970
Return-Path: <test-report-bounces@dpdk.org>
Received: from mails.dpdk.org (mails.dpdk.org [217.70.189.124])
	by inbox.dpdk.org (Postfix) with ESMTP id 01B2C459CB
	for <public@inbox.dpdk.org>; Thu, 19 Sep 2024 03:46:47 +0200 (CEST)
Received: from mails.dpdk.org (localhost [127.0.0.1])
	by mails.dpdk.org (Postfix) with ESMTP id CD81A42E5B;
	Thu, 19 Sep 2024 03:46:47 +0200 (CEST)
Received: from mail-yw1-f225.google.com (mail-yw1-f225.google.com
 [209.85.128.225])
 by mails.dpdk.org (Postfix) with ESMTP id C233540668
 for <test-report@dpdk.org>; Thu, 19 Sep 2024 03:46:45 +0200 (CEST)
Received: by mail-yw1-f225.google.com with SMTP id
 00721157ae682-6db4b602e38so2964157b3.1
 for <test-report@dpdk.org>; Wed, 18 Sep 2024 18:46:45 -0700 (PDT)
DKIM-Signature: v=1; a=rsa-sha256; c=relaxed/relaxed;
 d=iol.unh.edu; s=unh-iol; t=1726710405; x=1727315205; darn=dpdk.org;
 h=references:in-reply-to:cc:to:from:subject:message-id:date:from:to
 :cc:subject:date:message-id:reply-to;
 bh=powfIh21ttPjTE11YNsAgUwWgn0cW5ZZ8iUpdS6MQlU=;
 b=BK2VbOtUirF7SwPHIgXYi/D7iHc3yyqBZv7Ny7d+iT2Vkx8PjkXodlMAnmGhWmpHNb
 MnOXLLcUOFv1qBFqYuNJfX2JL6/P91SBoMncNEONUwqozo3cwwnpA46NIOKxZbHYZSVW
 nd4QZI3hg1tFBHk9MdaNPelHm78W00/ziaRzk=
X-Google-DKIM-Signature: v=1; a=rsa-sha256; c=relaxed/relaxed;
 d=1e100.net; s=20230601; t=1726710405; x=1727315205;
 h=references:in-reply-to:cc:to:from:subject:message-id:date
 :x-gm-message-state:from:to:cc:subject:date:message-id:reply-to;
 bh=powfIh21ttPjTE11YNsAgUwWgn0cW5ZZ8iUpdS6MQlU=;
 b=dPN8hqIwdxQByTbRvqfuN5DlX1l8kwrfWF5MhiHDqP3jF6aCBFD8+HZV/I3QBs1ClF
 P90G1HPrSXrDpMZ8APmHdENmWX0dymnSJQ/eRBhyyYV89D++qTPlWTGNYWDsbK0Ibdg2
 jdOJwjol9IAYZN65yluFu/POoU4rZlzKHpGtU+/PptarNOUKKHzxzFKWwagsParylfl3
 Vwho+h4E0EfuJuuXmijDTUV4Db7OQpGpJhM7N0Oi5FZLDT9TmxfZsq076uMXTI4YKu2h
 1PFv7zEuYvz1TjARAjmjsyq4hnNx76udU1TShKUHbvIKyizGyltEBwHoojAgMp74mMbq
 aLqg==
X-Gm-Message-State: AOJu0YzA4GsyF4rgTPl/u6xW0GpfUQ8rRTCcAaWel2cDWX6Ti19gI43J
 LakL7Wn4Klv3uWE5NbGxlAyhJc9NQ4C9j8YbLZ3agJMq+cvL+DlsAlXC0hA8hTSCYNi2iGw5Bl4
 N2jEGAgDOcpjtiT0eo8Z+7+5NFUqD950tdSxaPHQ7
X-Google-Smtp-Source: AGHT+IFVDks7EEKURRsYf/1sHZtoX72gonBJOY8qQkDW42Ve6/HJR9TjfHQ7CWf/0iAeKg6r8wtw0mmcTMH/
X-Received: by 2002:a05:690c:61c5:b0:6dd:d709:6f18 with SMTP id
 00721157ae682-6ddd7097072mr115387397b3.39.1726710405094; 
 Wed, 18 Sep 2024 18:46:45 -0700 (PDT)
Received: from postal.iol.unh.edu (postal.iol.unh.edu. [132.177.123.84])
 by smtp-relay.gmail.com with ESMTPS id
 00721157ae682-6dbe2def246sm4822617b3.11.2024.09.18.18.46.45
 (version=TLS1_2 cipher=ECDHE-ECDSA-AES128-GCM-SHA256 bits=128/128);
 Wed, 18 Sep 2024 18:46:45 -0700 (PDT)
X-Relaying-Domain: iol.unh.edu
Date: Wed, 18 Sep 2024 18:46:45 -0700 (PDT)
Message-ID: <66eb8285.0d0a0220.5fc77.3fb9SMTPIN_ADDED_MISSING@mx.google.com>
Received: from [172.17.0.2] (unknown [172.18.0.217])
 by postal.iol.unh.edu (Postfix) with ESMTP id AB7B5605C380;
 Wed, 18 Sep 2024 21:46:44 -0400 (EDT)
Subject: |SUCCESS| pw144266 [PATCH] [v2] ethdev: optimize the activation of f
From: dpdklab@iol.unh.edu
To: Test Report <test-report@dpdk.org>
Cc: dpdk-test-reports@iol.unh.edu
In-Reply-To: <20240918162750.116243-1-adel.belkhiri@gmail.com>
References: <20240918162750.116243-1-adel.belkhiri@gmail.com>
Content-Type: text/plain
X-BeenThere: test-report@dpdk.org
X-Mailman-Version: 2.1.29
Precedence: list
List-Id: automatic DPDK test reports <test-report.dpdk.org>
List-Unsubscribe: <https://mails.dpdk.org/options/test-report>,
 <mailto:test-report-request@dpdk.org?subject=unsubscribe>
List-Archive: <http://mails.dpdk.org/archives/test-report/>
List-Post: <mailto:test-report@dpdk.org>
List-Help: <mailto:test-report-request@dpdk.org?subject=help>
List-Subscribe: <https://mails.dpdk.org/listinfo/test-report>,
 <mailto:test-report-request@dpdk.org?subject=subscribe>
Errors-To: test-report-bounces@dpdk.org

Test-Label: iol-unit-arm64-testing
Test-Status: SUCCESS
http://dpdk.org/patch/144266

_Testing PASS_

Submitter: Adel Belkhiri <adel.belkhiri@gmail.com>
Date: Wednesday, September 18 2024 16:27:50 
DPDK git baseline: Repo:dpdk
  Branch: master
  CommitID:523fd7b3adfdf5a87651e8ca33bc69223b3211d5

144266 --> testing pass

Upstream job id: Generic-Unit-Test-DPDK#264105

Test environment and result as below:

+-----------------------------+----------------+--------------+---------------------------+------------------------------+
|         Environment         | dpdk_unit_test | lpm_autotest | cryptodev_sw_zuc_autotest | cryptodev_sw_snow3g_autotest |
+=============================+================+==============+===========================+==============================+
| CentOS Stream 9 (ARM)       | PASS           | SKIPPED      | SKIPPED                   | SKIPPED                      |
+-----------------------------+----------------+--------------+---------------------------+------------------------------+
| Debian 11 (Buster) (ARM)    | PASS           | SKIPPED      | SKIPPED                   | SKIPPED                      |
+-----------------------------+----------------+--------------+---------------------------+------------------------------+
| Fedora 37 (ARM)             | PASS           | SKIPPED      | SKIPPED                   | SKIPPED                      |
+-----------------------------+----------------+--------------+---------------------------+------------------------------+
| Debian 12 (arm)             | PASS           | SKIPPED      | PASS                      | PASS                         |
+-----------------------------+----------------+--------------+---------------------------+------------------------------+
| Fedora 38 (ARM)             | PASS           | SKIPPED      | SKIPPED                   | SKIPPED                      |
+-----------------------------+----------------+--------------+---------------------------+------------------------------+
| Fedora 38 (ARM Clang)       | PASS           | SKIPPED      | SKIPPED                   | SKIPPED                      |
+-----------------------------+----------------+--------------+---------------------------+------------------------------+
| Fedora 39 (ARM)             | PASS           | SKIPPED      | SKIPPED                   | SKIPPED                      |
+-----------------------------+----------------+--------------+---------------------------+------------------------------+
| Fedora 39 (ARM Clang)       | PASS           | SKIPPED      | SKIPPED                   | SKIPPED                      |
+-----------------------------+----------------+--------------+---------------------------+------------------------------+
| Fedora 40 (ARM)             | PASS           | SKIPPED      | SKIPPED                   | SKIPPED                      |
+-----------------------------+----------------+--------------+---------------------------+------------------------------+
| Fedora 40 (ARM Clang)       | PASS           | SKIPPED      | SKIPPED                   | SKIPPED                      |
+-----------------------------+----------------+--------------+---------------------------+------------------------------+
| RHEL9 (ARM)                 | PASS           | SKIPPED      | SKIPPED                   | SKIPPED                      |
+-----------------------------+----------------+--------------+---------------------------+------------------------------+
| Ubuntu 20.04 (ARM)          | PASS           | SKIPPED      | SKIPPED                   | SKIPPED                      |
+-----------------------------+----------------+--------------+---------------------------+------------------------------+
| Ubuntu 22.04 (ARM)          | PASS           | SKIPPED      | SKIPPED                   | SKIPPED                      |
+-----------------------------+----------------+--------------+---------------------------+------------------------------+
| Ubuntu 24.04 (ARM)          | PASS           | SKIPPED      | SKIPPED                   | SKIPPED                      |
+-----------------------------+----------------+--------------+---------------------------+------------------------------+
| 32-bit Ubuntu 20.04.4 (ARM) | PASS           | SKIPPED      | SKIPPED                   | SKIPPED                      |
+-----------------------------+----------------+--------------+---------------------------+------------------------------+
| Ubuntu 20.04 ARM SVE        | SKIPPED        | PASS         | SKIPPED                   | SKIPPED                      |
+-----------------------------+----------------+--------------+---------------------------+------------------------------+


CentOS Stream 9 (ARM)
	Kernel: Depends on container host
	Compiler: gcc 11.4.1 20231218 (Red Hat 11.4.1-3)

Debian 11 (Buster) (ARM)
	Kernel: Depends on container host
	Compiler: gcc (Debian 10.2.1-6) 10.2.1 20210110

Fedora 37 (ARM)
	Kernel: Depends on container host
	Compiler: gcc 12.3.1 20230508 (Red Hat 12.3.1-1)

Debian 12 (arm)
	Kernel: Depends on container host
	Compiler: gcc (Debian 12.2.0-14) 12.2.0

Fedora 38 (ARM)
	Kernel: Depends on container host
	Compiler: gcc 13.2.1 20240316 (Red Hat 13.2.1-7)

Fedora 38 (ARM Clang)
	Kernel: Depends on container host
	Compiler: clang 16.0.6 (Fedora 16.0.6-4.fc38)

Fedora 39 (ARM)
	Kernel: Depends on container host
	Compiler: gcc 13.3.1 20240522 (Red Hat 13.3.1-1)

Fedora 39 (ARM Clang)
	Kernel: Depends on container host
	Compiler: clang 17.0.6 (Fedora 17.0.6-2.fc39)

Fedora 40 (ARM)
	Kernel: Depends on container host
	Compiler: gcc 14.2.1 20240801 (Red Hat 14.2.1-1)

Fedora 40 (ARM Clang)
	Kernel: Depends on container host
	Compiler: clang 18.1.6 (Fedora 18.1.6-3.fc40)

RHEL9 (ARM)
	Kernel: Depends on container host
	Compiler: gcc 11.4.1 20231218 (Red Hat 11.4.1-3)

Ubuntu 20.04 (ARM)
	Kernel: Depends on container host
	Compiler: gcc (Ubuntu 9.4.0-1ubuntu1~20.04.2) 9.4.0

Ubuntu 22.04 (ARM)
	Kernel: Depends on container host
	Compiler: gcc (Ubuntu 11.4.0-1ubuntu1~22.04) 11.4.0

Ubuntu 24.04 (ARM)
	Kernel: Depends on container host
	Compiler: gcc (Ubuntu 13.2.0-23ubuntu4) 13.2.0

32-bit Ubuntu 20.04.4 (ARM)
	Kernel: 5.4.0-155-generic aarch64
	Compiler: gcc 9.4

Ubuntu 20.04 ARM SVE
	Kernel: Depends on container host
	Compiler: gcc (Ubuntu 10.5.0-1ubuntu1~20.04) 10.5.0

To view detailed results, visit:
https://lab.dpdk.org/results/dashboard/patchsets/31069/

UNH-IOL DPDK Community Lab

To manage your email subscriptions, visit: 
https://lab.dpdk.org/results/dashboard/preferences/subscriptions/