From mboxrd@z Thu Jan  1 00:00:00 1970
Return-Path: <test-report-bounces@dpdk.org>
Received: from mails.dpdk.org (mails.dpdk.org [217.70.189.124])
	by inbox.dpdk.org (Postfix) with ESMTP id 8E218459DD
	for <public@inbox.dpdk.org>; Fri, 20 Sep 2024 06:28:47 +0200 (CEST)
Received: from mails.dpdk.org (localhost [127.0.0.1])
	by mails.dpdk.org (Postfix) with ESMTP id 693FD40669;
	Fri, 20 Sep 2024 06:28:47 +0200 (CEST)
Received: from mail-pj1-f99.google.com (mail-pj1-f99.google.com
 [209.85.216.99]) by mails.dpdk.org (Postfix) with ESMTP id 9F207400EF
 for <test-report@dpdk.org>; Fri, 20 Sep 2024 06:28:46 +0200 (CEST)
Received: by mail-pj1-f99.google.com with SMTP id
 98e67ed59e1d1-2d8a7c50607so1162000a91.1
 for <test-report@dpdk.org>; Thu, 19 Sep 2024 21:28:46 -0700 (PDT)
DKIM-Signature: v=1; a=rsa-sha256; c=relaxed/relaxed;
 d=iol.unh.edu; s=unh-iol; t=1726806525; x=1727411325; darn=dpdk.org;
 h=references:in-reply-to:cc:to:from:subject:message-id:date:from:to
 :cc:subject:date:message-id:reply-to;
 bh=rDWmEkUZE+1aAI02sUNockTP8xryGvPeoQZ29tYVQ9M=;
 b=TxBFz1xkTMRn3a/V5Xdee5etCKiVqfPwWsjBGBoQJStejZHxGIuZLtUKVHqZXaosi0
 7Sd7RaIBgdGcP3UQPKGvc2IFiOpyCRo5BoNa3Mhnm6UYDTnX0gtp2NXIkYOWRcIcwnOx
 C7jRB71Zn8GMs8E09xg12nVFj8xEF5cIozYQA=
X-Google-DKIM-Signature: v=1; a=rsa-sha256; c=relaxed/relaxed;
 d=1e100.net; s=20230601; t=1726806525; x=1727411325;
 h=references:in-reply-to:cc:to:from:subject:message-id:date
 :x-gm-message-state:from:to:cc:subject:date:message-id:reply-to;
 bh=rDWmEkUZE+1aAI02sUNockTP8xryGvPeoQZ29tYVQ9M=;
 b=ozBq3xKjMpTwWz6uOMdp+xaClhNqfp2blkr+7hDxrgh8+9cHUKSL1WmiFh9eVKhkt6
 lr8Z8zoXhMxhJsIbLvvITOritiBmt8q7WM2J7Ke5dnWCygRUeI9D6QUEQdy9WxKY4KMD
 6QGa8HIwJGLTEaNGaE0AMbZlcU/RNjlXxdSUQSnVjKg5/R0BcD+/1nQHM0Hr8AUDQ6a8
 ZbGfj4ERa9Ce8EbVecWmbbzFYcPz2XcCGCfbSQs0Y9aQBsTLSup4+BM3fyecI6k574Wd
 TPpkpVIz5HRdOfOl+qG/OoJ77YLz69t5O54R/mKz6rdP2CU5hJ3Bi7PZmVFOfJD7PpwS
 gKiQ==
X-Gm-Message-State: AOJu0YwZjIZZ4Co67sElipwT1Cfv+ywxmlbDDzRMaKNyAZhiHypcqQxV
 zpoR9rZL2Pe+ofKUaoc48SpadhfF99xeZV0En6zAbu10XCu3VwO6Om6Z9PkdlH558kS17QSJZJx
 YFoTzAaH/RPAkNyhiWK9IAyQeFVE6q5s48hYnEw/mBdVsQDKnzFaAaBT+
X-Google-Smtp-Source: AGHT+IEVhdtmq/svRb6AQ/4y8m3ZWGpPBNVeECe0xOWvMJ/MoPcik170AsdGYUD5E0a8ypZ6GTs0/6r/TwwO
X-Received: by 2002:a17:90b:384a:b0:2d3:c664:e253 with SMTP id
 98e67ed59e1d1-2dd80c15c04mr1815160a91.10.1726806525589; 
 Thu, 19 Sep 2024 21:28:45 -0700 (PDT)
Received: from postal.iol.unh.edu (postal.iol.unh.edu.
 [2606:4100:3880:1234::84]) by smtp-relay.gmail.com with ESMTPS id
 98e67ed59e1d1-2dd6ee7c875sm184208a91.2.2024.09.19.21.28.45
 (version=TLS1_2 cipher=ECDHE-ECDSA-AES128-GCM-SHA256 bits=128/128);
 Thu, 19 Sep 2024 21:28:45 -0700 (PDT)
X-Relaying-Domain: iol.unh.edu
Date: Thu, 19 Sep 2024 21:28:45 -0700 (PDT)
Message-ID: <66ecf9fd.170a0220.4b357.c840SMTPIN_ADDED_MISSING@mx.google.com>
Received: from [172.21.0.2] (unknown [172.18.0.240])
 by postal.iol.unh.edu (Postfix) with ESMTP id A1783605C351;
 Fri, 20 Sep 2024 00:28:44 -0400 (EDT)
Subject: |SUCCESS| pw144246-144247 [PATCH] [v9,6/6] eal: extend bitops to han
From: dpdklab@iol.unh.edu
To: Test Report <test-report@dpdk.org>
Cc: dpdk-test-reports@iol.unh.edu
In-Reply-To: <20240918090445.725283-7-mattias.ronnblom@ericsson.com>
References: <20240918090445.725283-7-mattias.ronnblom@ericsson.com>
Content-Type: text/plain
X-BeenThere: test-report@dpdk.org
X-Mailman-Version: 2.1.29
Precedence: list
List-Id: automatic DPDK test reports <test-report.dpdk.org>
List-Unsubscribe: <https://mails.dpdk.org/options/test-report>,
 <mailto:test-report-request@dpdk.org?subject=unsubscribe>
List-Archive: <http://mails.dpdk.org/archives/test-report/>
List-Post: <mailto:test-report@dpdk.org>
List-Help: <mailto:test-report-request@dpdk.org?subject=help>
List-Subscribe: <https://mails.dpdk.org/listinfo/test-report>,
 <mailto:test-report-request@dpdk.org?subject=subscribe>
Errors-To: test-report-bounces@dpdk.org

Test-Label: iol-sample-apps-testing
Test-Status: SUCCESS
http://dpdk.org/patch/144247

_Testing PASS_

Submitter: Mattias Ronnblom <mattias.ronnblom@ericsson.com>
Date: Wednesday, September 18 2024 09:04:45 
DPDK git baseline: Repo:dpdk
  Branch: master
  CommitID:41dd9a6bc2d9c6e20e139ad713cc9d172572dd43

144246-144247 --> testing pass

Upstream job id: ACVP-FIPS-testing#6994

Test environment and result as below:

+--------------------+----------------------+----------------------+
|    Environment     | compressdev_zlib_pmd | dpdk_fips_validation |
+====================+======================+======================+
| Ubuntu 22.04 (ARM) | PASS                 | SKIPPED              |
+--------------------+----------------------+----------------------+
| Ubuntu 22.04       | PASS                 | SKIPPED              |
+--------------------+----------------------+----------------------+
| Ubuntu 20.04       | SKIPPED              | PASS                 |
+--------------------+----------------------+----------------------+


Ubuntu 22.04 (ARM)
	Kernel: 5.15.0-97-generic
	Compiler: gcc gcc (Ubuntu 11.4.0-1ubuntu1~22.04) 11.4.0

Ubuntu 22.04
	Kernel: 5.15.0-100-generic
	Compiler: gcc gcc (Ubuntu 11.4.0-1ubuntu1~22.04) 11.4.0

Ubuntu 20.04
	Kernel: Depends on container host
	Compiler: gcc (Ubuntu 9.4.0-1ubuntu1~20.04.2) 9.4.0

To view detailed results, visit:
https://lab.dpdk.org/results/dashboard/patchsets/31062/

UNH-IOL DPDK Community Lab

To manage your email subscriptions, visit: 
https://lab.dpdk.org/results/dashboard/preferences/subscriptions/