From mboxrd@z Thu Jan  1 00:00:00 1970
Return-Path: <test-report-bounces@dpdk.org>
Received: from mails.dpdk.org (mails.dpdk.org [217.70.189.124])
	by inbox.dpdk.org (Postfix) with ESMTP id 3D0C0459E2
	for <public@inbox.dpdk.org>; Fri, 20 Sep 2024 23:47:51 +0200 (CEST)
Received: from mails.dpdk.org (localhost [127.0.0.1])
	by mails.dpdk.org (Postfix) with ESMTP id 12D9A40041;
	Fri, 20 Sep 2024 23:47:51 +0200 (CEST)
Received: from mail-pj1-f99.google.com (mail-pj1-f99.google.com
 [209.85.216.99]) by mails.dpdk.org (Postfix) with ESMTP id A0E804003C
 for <test-report@dpdk.org>; Fri, 20 Sep 2024 23:47:49 +0200 (CEST)
Received: by mail-pj1-f99.google.com with SMTP id
 98e67ed59e1d1-2db928dbd53so2069069a91.2
 for <test-report@dpdk.org>; Fri, 20 Sep 2024 14:47:49 -0700 (PDT)
DKIM-Signature: v=1; a=rsa-sha256; c=relaxed/relaxed;
 d=iol.unh.edu; s=unh-iol; t=1726868868; x=1727473668; darn=dpdk.org;
 h=references:in-reply-to:cc:to:from:subject:message-id:date:from:to
 :cc:subject:date:message-id:reply-to;
 bh=Xs+XSLCIp0NztnoHctazvbfsiyZP+IZOQHUypnfDEPU=;
 b=YV4U36xxcrrNB7aaVP3wdCFlFWbaUGQPFIJVWufMDLxwErls312Erv975vvyWh726i
 CGS+UFpEjPrd/PVhYB769rT3Pr51QHT4KUuD+HIE6Dm604U7YWy/80pBzurqOqRvG0oM
 T5RNnJN4K3BfmXk8zmxW2YjVgFmNFoHQAmCRU=
X-Google-DKIM-Signature: v=1; a=rsa-sha256; c=relaxed/relaxed;
 d=1e100.net; s=20230601; t=1726868868; x=1727473668;
 h=references:in-reply-to:cc:to:from:subject:message-id:date
 :x-gm-message-state:from:to:cc:subject:date:message-id:reply-to;
 bh=Xs+XSLCIp0NztnoHctazvbfsiyZP+IZOQHUypnfDEPU=;
 b=B/w4aNobqPK5kmSj36Mkn0zbLyZtedwkhIs/k4UWT0RXlbNwCxEK3IlyI2DRIL13rA
 toCpxFOAc9GotZ/oe0bEu16k96kHF1/xe3R2tlkW4eWnSzftiQG4OCZXLa5ReHNl1nvb
 cfNqMZJo+6/ICZWEAhgM/tw4SfDsI7U4AOeFlUB2E6UnrOA2l2B7abGGSBWzfCCMqNsV
 BAF94Imo0hFZF2hw50YXf+rSnBLo951g7s71p9H9OTLGCYgIuFhS+I0hErs7N8cShGYU
 3HoNm7GfC4fbAFVqdJ9/HzH6HcnvLLsY/ZW8N/NnPPsPHvnp7S2vF8i2TNDuVNp+IVJ3
 qC6w==
X-Gm-Message-State: AOJu0Yy896LgBvCvKkp1mUwnUEmjMijBEmkDSZVQBs7OOXXHfhwRijgV
 wLjWVxe3pKdDnwQNvs8zYwPUTgI2JKtTLCZAFLpy8/uEEPM8NrTG62oQArGfIQtrfXtSqI2y5Jx
 8sZh2AencSd4779LA5uYaabSxjTVHzsghYue7NAPl
X-Google-Smtp-Source: AGHT+IEVbXCFCtHbJnyjXB+ywLB5wGlAi+8Wi1Kp4WQ4xugvLlB271YdVpUCIzI68nIus+6O63TpmviJ+Rxk
X-Received: by 2002:a17:90a:6509:b0:2cf:7388:ad9e with SMTP id
 98e67ed59e1d1-2dd7f3daa91mr6238566a91.2.1726868868590; 
 Fri, 20 Sep 2024 14:47:48 -0700 (PDT)
Received: from postal.iol.unh.edu (postal.iol.unh.edu. [132.177.123.84])
 by smtp-relay.gmail.com with ESMTPS id
 98e67ed59e1d1-2dd6eec304fsm295202a91.9.2024.09.20.14.47.48
 (version=TLS1_2 cipher=ECDHE-ECDSA-AES128-GCM-SHA256 bits=128/128);
 Fri, 20 Sep 2024 14:47:48 -0700 (PDT)
X-Relaying-Domain: iol.unh.edu
Date: Fri, 20 Sep 2024 14:47:48 -0700 (PDT)
Message-ID: <66eded84.170a0220.23181e.1550SMTPIN_ADDED_MISSING@mx.google.com>
Received: from [172.21.0.2] (unknown [172.18.0.240])
 by postal.iol.unh.edu (Postfix) with ESMTP id 105C6605C351;
 Fri, 20 Sep 2024 17:47:48 -0400 (EDT)
Subject: |SUCCESS| pw144365-144366 [PATCH] [v2,2/2] vhost: add reconnection s
From: dpdklab@iol.unh.edu
To: Test Report <test-report@dpdk.org>
Cc: dpdk-test-reports@iol.unh.edu
In-Reply-To: <20240920150921.994434-3-maxime.coquelin@redhat.com>
References: <20240920150921.994434-3-maxime.coquelin@redhat.com>
Content-Type: text/plain
X-BeenThere: test-report@dpdk.org
X-Mailman-Version: 2.1.29
Precedence: list
List-Id: automatic DPDK test reports <test-report.dpdk.org>
List-Unsubscribe: <https://mails.dpdk.org/options/test-report>,
 <mailto:test-report-request@dpdk.org?subject=unsubscribe>
List-Archive: <http://mails.dpdk.org/archives/test-report/>
List-Post: <mailto:test-report@dpdk.org>
List-Help: <mailto:test-report-request@dpdk.org?subject=help>
List-Subscribe: <https://mails.dpdk.org/listinfo/test-report>,
 <mailto:test-report-request@dpdk.org?subject=subscribe>
Errors-To: test-report-bounces@dpdk.org

Test-Label: iol-compile-amd64-testing
Test-Status: SUCCESS
http://dpdk.org/patch/144366

_Testing PASS_

Submitter: Maxime Coquelin <maxime.coquelin@redhat.com>
Date: Friday, September 20 2024 15:09:21 
DPDK git baseline: Repo:dpdk
  Branch: master
  CommitID:94d8b04cfa53a41ab952b48f245867111a6f2509

144365-144366 --> testing pass

Upstream job id: Generic-VM-DPDK-Compile-Meson#29620

Test environment and result as below:

+---------------------+-----------------------+----------------------+--------------------+-------------------+
|     Environment     | dpdk_win_llvm_compile | dpdk_mingw64_compile | dpdk_meson_compile | dpdk_msvc_compile |
+=====================+=======================+======================+====================+===================+
| Windows Server 2022 | PASS                  | PASS                 | SKIPPED            | PASS              |
+---------------------+-----------------------+----------------------+--------------------+-------------------+
| FreeBSD 13.3        | SKIPPED               | SKIPPED              | PASS               | SKIPPED           |
+---------------------+-----------------------+----------------------+--------------------+-------------------+
| FreeBSD 14.1        | SKIPPED               | SKIPPED              | PASS               | SKIPPED           |
+---------------------+-----------------------+----------------------+--------------------+-------------------+


Windows Server 2022
	Kernel: 10.0.20348.2031
	Compiler: clang 15.0.7, gcc 14.1.0 (MinGW), and MSVC VS 19.39.33521

FreeBSD 13.3
	Kernel: 13.3-RELEASE-p5
	Compiler: clang 17.0.6

FreeBSD 14.1
	Kernel: 14.1-RELEASE-p3
	Compiler: clang 18.1.5

To view detailed results, visit:
https://lab.dpdk.org/results/dashboard/patchsets/31101/

UNH-IOL DPDK Community Lab

To manage your email subscriptions, visit: 
https://lab.dpdk.org/results/dashboard/preferences/subscriptions/