From mboxrd@z Thu Jan  1 00:00:00 1970
Return-Path: <test-report-bounces@dpdk.org>
Received: from mails.dpdk.org (mails.dpdk.org [217.70.189.124])
	by inbox.dpdk.org (Postfix) with ESMTP id 62133459ED
	for <public@inbox.dpdk.org>; Sat, 21 Sep 2024 17:09:56 +0200 (CEST)
Received: from mails.dpdk.org (localhost [127.0.0.1])
	by mails.dpdk.org (Postfix) with ESMTP id 45CB140041;
	Sat, 21 Sep 2024 17:09:56 +0200 (CEST)
Received: from mail-qt1-f227.google.com (mail-qt1-f227.google.com
 [209.85.160.227])
 by mails.dpdk.org (Postfix) with ESMTP id C9AE44003C
 for <test-report@dpdk.org>; Sat, 21 Sep 2024 17:09:54 +0200 (CEST)
Received: by mail-qt1-f227.google.com with SMTP id
 d75a77b69052e-45830ff5b70so23423781cf.1
 for <test-report@dpdk.org>; Sat, 21 Sep 2024 08:09:54 -0700 (PDT)
DKIM-Signature: v=1; a=rsa-sha256; c=relaxed/relaxed;
 d=iol.unh.edu; s=unh-iol; t=1726931394; x=1727536194; darn=dpdk.org;
 h=references:in-reply-to:cc:to:from:subject:message-id:date:from:to
 :cc:subject:date:message-id:reply-to;
 bh=GX4oO0lwEV2ppvjYeUKETBzwSt3aOiiol1+Zl9+Ak9c=;
 b=gZB3oaDmLBLc9OhCg3nmD8j5NAsmHPOwOb0N8gloFekMvEAq7Wny2sEgYlgApDy4U8
 mEKKWCsWDjrl9Y2KO2OXbneZ7OY/R11kYc/UFMPTPWsozLLz5RL5pODtaofp93Fk1lp+
 nj4l1ExjpQnqXEGpLYWwpGYaCB5BCoTnK09xQ=
X-Google-DKIM-Signature: v=1; a=rsa-sha256; c=relaxed/relaxed;
 d=1e100.net; s=20230601; t=1726931394; x=1727536194;
 h=references:in-reply-to:cc:to:from:subject:message-id:date
 :x-gm-message-state:from:to:cc:subject:date:message-id:reply-to;
 bh=GX4oO0lwEV2ppvjYeUKETBzwSt3aOiiol1+Zl9+Ak9c=;
 b=bgCJUb+0C/I5u1hP40HAaC0JRTPp7zOQ22mRYTpYGNeEkjjsNuG+8Ts3PH9hQC1la/
 +ySPpTf6Oh6/BgZ7L6bLSGE2lASbGF6XfpgVkNROZJT+GS1zpAk5DnrYt98u4+M0qLW0
 Ub8yv4/5AG53WyYpmJEe4OnO1Jj4xJHLDWjlmdpa9uU1CiotfXIDR478bmMK8uW8r18u
 EbUkDV1zQVPiX6cKnjpO7VgO2BswgpRkab/Mzj82SsKP+xZR2xWdlqfbaEhgA7Wf6syq
 hChrUoNG9du7oWcrjDAjsbEwEP7jjc17V4BHW61reVKsF7x4Nl4IK1oYdM/QJthvArN6
 5CTg==
X-Gm-Message-State: AOJu0YyxN97qIBRJBSrtKDe/8TmU0JFZkCxNfXxI+JX3tvmT1233bqvt
 UVTIgQX4441GYYO8JTOWbntFEwNZxwKG+pgwzdV6BZqrhbnl49f2zwnVlBYQ/egHguszxfWDAIC
 MMft3oD5nIxO41OW0h/DsMiczD5WH2ioqB+aJlLOh
X-Google-Smtp-Source: AGHT+IHb/m+pYUk6Tl3wPp99BHr2P6ISmw3SPnEVu4htbBgbPFsKMyEAwvm0b7zJrtxxYsivLZVN+jq64KVz
X-Received: by 2002:a05:622a:47ce:b0:458:42ee:db45 with SMTP id
 d75a77b69052e-45b226f3ac9mr85899721cf.20.1726931394186; 
 Sat, 21 Sep 2024 08:09:54 -0700 (PDT)
Received: from postal.iol.unh.edu (postal.iol.unh.edu. [132.177.123.84])
 by smtp-relay.gmail.com with ESMTPS id
 d75a77b69052e-45b17878531sm2504011cf.7.2024.09.21.08.09.54
 (version=TLS1_2 cipher=ECDHE-ECDSA-AES128-GCM-SHA256 bits=128/128);
 Sat, 21 Sep 2024 08:09:54 -0700 (PDT)
X-Relaying-Domain: iol.unh.edu
Date: Sat, 21 Sep 2024 08:09:54 -0700 (PDT)
Message-ID: <66eee1c2.050a0220.2adab6.f28dSMTPIN_ADDED_MISSING@mx.google.com>
Received: from [172.17.0.5] (unknown [172.18.0.217])
 by postal.iol.unh.edu (Postfix) with ESMTP id DA9306050A6B;
 Sat, 21 Sep 2024 11:09:53 -0400 (EDT)
Subject: |WARNING| pw144354-144358 [PATCH] [5/5] build: replace deprecated me
From: dpdklab@iol.unh.edu
To: Test Report <test-report@dpdk.org>
Cc: dpdk-test-reports@iol.unh.edu
In-Reply-To: <20240920125737.1197969-6-bruce.richardson@intel.com>
References: <20240920125737.1197969-6-bruce.richardson@intel.com>
Content-Type: text/plain
X-BeenThere: test-report@dpdk.org
X-Mailman-Version: 2.1.29
Precedence: list
List-Id: automatic DPDK test reports <test-report.dpdk.org>
List-Unsubscribe: <https://mails.dpdk.org/options/test-report>,
 <mailto:test-report-request@dpdk.org?subject=unsubscribe>
List-Archive: <http://mails.dpdk.org/archives/test-report/>
List-Post: <mailto:test-report@dpdk.org>
List-Help: <mailto:test-report-request@dpdk.org?subject=help>
List-Subscribe: <https://mails.dpdk.org/listinfo/test-report>,
 <mailto:test-report-request@dpdk.org?subject=subscribe>
Errors-To: test-report-bounces@dpdk.org

Test-Label: iol-sample-apps-testing
Test-Status: WARNING
http://dpdk.org/patch/144358

_Testing issues_

Submitter: Bruce Richardson <bruce.richardson@intel.com>
Date: Friday, September 20 2024 12:57:37 
DPDK git baseline: Repo:dpdk
  Branch: master
  CommitID:41dd9a6bc2d9c6e20e139ad713cc9d172572dd43

144354-144358 --> testing issues

Upstream job id: ACVP-FIPS-testing#7024

Test environment and result as below:

+--------------------+----------------------+----------------------+
|    Environment     | compressdev_zlib_pmd | dpdk_fips_validation |
+====================+======================+======================+
| Ubuntu 22.04 (ARM) | PASS                 | SKIPPED              |
+--------------------+----------------------+----------------------+
| Ubuntu 22.04       | PASS                 | SKIPPED              |
+--------------------+----------------------+----------------------+
| Ubuntu 20.04       | SKIPPED              | WARN                 |
+--------------------+----------------------+----------------------+

==== 20 line log output for Ubuntu 20.04 (dpdk_fips_validation): ====
The Meson build system
Version: 0.53.2
Source dir: /home-local/jenkins-local/jenkins-agent/workspace/ACVP-FIPS-testing/dpdk
Build dir: /home-local/jenkins-local/jenkins-agent/workspace/ACVP-FIPS-testing/dpdk/build
Build type: native build

meson.build:4:0: ERROR: Meson version is 0.53.2 but project requires >= 0.57

A full log can be found at /home-local/jenkins-local/jenkins-agent/workspace/ACVP-FIPS-testing/dpdk/build/meson-logs/meson-log.txt
==== End log output ====

Ubuntu 22.04 (ARM)
	Kernel: 5.15.0-97-generic
	Compiler: gcc gcc (Ubuntu 11.4.0-1ubuntu1~22.04) 11.4.0

Ubuntu 22.04
	Kernel: 5.15.0-100-generic
	Compiler: gcc gcc (Ubuntu 11.4.0-1ubuntu1~22.04) 11.4.0

Ubuntu 20.04
	Kernel: Depends on container host
	Compiler: gcc (Ubuntu 9.4.0-1ubuntu1~20.04.2) 9.4.0

To view detailed results, visit:
https://lab.dpdk.org/results/dashboard/patchsets/31099/

UNH-IOL DPDK Community Lab

To manage your email subscriptions, visit: 
https://lab.dpdk.org/results/dashboard/preferences/subscriptions/