From mboxrd@z Thu Jan  1 00:00:00 1970
Return-Path: <test-report-bounces@dpdk.org>
Received: from mails.dpdk.org (mails.dpdk.org [217.70.189.124])
	by inbox.dpdk.org (Postfix) with ESMTP id B3AF8459ED
	for <public@inbox.dpdk.org>; Sat, 21 Sep 2024 17:13:37 +0200 (CEST)
Received: from mails.dpdk.org (localhost [127.0.0.1])
	by mails.dpdk.org (Postfix) with ESMTP id AF55840041;
	Sat, 21 Sep 2024 17:13:37 +0200 (CEST)
Received: from mail-qk1-f225.google.com (mail-qk1-f225.google.com
 [209.85.222.225])
 by mails.dpdk.org (Postfix) with ESMTP id 2B86F4003C
 for <test-report@dpdk.org>; Sat, 21 Sep 2024 17:13:36 +0200 (CEST)
Received: by mail-qk1-f225.google.com with SMTP id
 af79cd13be357-7a99fd0535bso253521085a.3
 for <test-report@dpdk.org>; Sat, 21 Sep 2024 08:13:36 -0700 (PDT)
DKIM-Signature: v=1; a=rsa-sha256; c=relaxed/relaxed;
 d=iol.unh.edu; s=unh-iol; t=1726931615; x=1727536415; darn=dpdk.org;
 h=references:in-reply-to:cc:to:from:subject:message-id:date:from:to
 :cc:subject:date:message-id:reply-to;
 bh=cuIBlkVAjOOEYWlacIO6qiqKFig1t7YRAVLDoHa78YI=;
 b=YwD8CP3YZGulwwIv5zflNvxllRFT2EwElHcuqF3KEXuF9XaCSKaWry+O1IFeLkZ/Cw
 Wg/YL1YLISufmlybfkwo7+gviGlXW4CrGh1GsNrF3thuJKlFs96q/s0QQobRJ5KDie9O
 bKPPZdXHE0KWvT/1tNY5dMwkiVHj85idd14FQ=
X-Google-DKIM-Signature: v=1; a=rsa-sha256; c=relaxed/relaxed;
 d=1e100.net; s=20230601; t=1726931615; x=1727536415;
 h=references:in-reply-to:cc:to:from:subject:message-id:date
 :x-gm-message-state:from:to:cc:subject:date:message-id:reply-to;
 bh=cuIBlkVAjOOEYWlacIO6qiqKFig1t7YRAVLDoHa78YI=;
 b=eNCNNUgTJm8zSWve3u1D5Ha7+G6rXqyyqjrt+H0DRTbW02iqG8MJ9hTm5sZpH6Bjmj
 qG9VH8mRx6GWAuVn+51Qcmr+PKpQfsOb/6vjnwTwZ/vEhfZ3TZbS/x1rcmdOgUrv1LVX
 j0PPMzeZhHM+oQEUBoNmhXjAzoIRK7lkjNTTgEPEMjc0vrK39bM2BhqPGu60WlhDSKa5
 aYQ5/ehWRNMBNQ/LOy0pem6BOWVaJyZBLw9TL5dD3QS+PngWvQ+UJf5GpqTHoSv1igPs
 FVLwMTiM+yxgx3/iaZIN9AWzsIPyAVr+/U9dCX1Vt9i68kpHDxVBbvnod3BVL3dal5cP
 jVvw==
X-Gm-Message-State: AOJu0YzQdUBVEFYex5M53Zhii7zQKIJAqEQOjBywXH3wcm42qT1rFZTy
 8aJW2uyqwzVpwtATJNJQNLNUm1ABg6ucPtCHWoSVTz0slK0YCvKoyitN5s2m/vx0mxHN4h71ksb
 jqDxax7yXuHdPjP6nZCeQgjq2Qq4ZuT+aF5SEWgu5
X-Google-Smtp-Source: AGHT+IEppaIGZkGZVlVSk7ycObY3G6pAot1SMXK5Xcus1wED9vHeHOneqcwtNjPTJBzLQEC20vqa+avZVxTx
X-Received: by 2002:a0c:eb49:0:b0:6c7:c5b5:f576 with SMTP id
 6a1803df08f44-6c7c5b621acmr51066796d6.20.1726931615431; 
 Sat, 21 Sep 2024 08:13:35 -0700 (PDT)
Received: from postal.iol.unh.edu (postal.iol.unh.edu. [132.177.123.84])
 by smtp-relay.gmail.com with ESMTPS id
 6a1803df08f44-6c75e44bf07sm2653046d6.8.2024.09.21.08.13.35
 (version=TLS1_2 cipher=ECDHE-ECDSA-AES128-GCM-SHA256 bits=128/128);
 Sat, 21 Sep 2024 08:13:35 -0700 (PDT)
X-Relaying-Domain: iol.unh.edu
Date: Sat, 21 Sep 2024 08:13:35 -0700 (PDT)
Message-ID: <66eee29f.0c0a0220.71487.0e3aSMTPIN_ADDED_MISSING@mx.google.com>
Received: from [172.17.0.3] (unknown [172.18.0.217])
 by postal.iol.unh.edu (Postfix) with ESMTP id 25B6A6050A6B;
 Sat, 21 Sep 2024 11:13:35 -0400 (EDT)
Subject: |WARNING| pw144367 [PATCH] [RFC] mempool: obey configured cache size
From: dpdklab@iol.unh.edu
To: Test Report <test-report@dpdk.org>
Cc: dpdk-test-reports@iol.unh.edu
In-Reply-To: <20240920163203.840770-1-mb@smartsharesystems.com>
References: <20240920163203.840770-1-mb@smartsharesystems.com>
Content-Type: text/plain
X-BeenThere: test-report@dpdk.org
X-Mailman-Version: 2.1.29
Precedence: list
List-Id: automatic DPDK test reports <test-report.dpdk.org>
List-Unsubscribe: <https://mails.dpdk.org/options/test-report>,
 <mailto:test-report-request@dpdk.org?subject=unsubscribe>
List-Archive: <http://mails.dpdk.org/archives/test-report/>
List-Post: <mailto:test-report@dpdk.org>
List-Help: <mailto:test-report-request@dpdk.org?subject=help>
List-Subscribe: <https://mails.dpdk.org/listinfo/test-report>,
 <mailto:test-report-request@dpdk.org?subject=subscribe>
Errors-To: test-report-bounces@dpdk.org

Test-Label: iol-sample-apps-testing
Test-Status: WARNING
http://dpdk.org/patch/144367

_Testing issues_

Submitter: Morten Brorup <mb@smartsharesystems.com>
Date: Friday, September 20 2024 16:32:03 
DPDK git baseline: Repo:dpdk
  Branch: master
  CommitID:41dd9a6bc2d9c6e20e139ad713cc9d172572dd43

144367 --> testing issues

Upstream job id: ACVP-FIPS-testing#7025

Test environment and result as below:

+--------------------+----------------------+----------------------+
|    Environment     | compressdev_zlib_pmd | dpdk_fips_validation |
+====================+======================+======================+
| Ubuntu 22.04 (ARM) | PASS                 | SKIPPED              |
+--------------------+----------------------+----------------------+
| Ubuntu 22.04       | PASS                 | SKIPPED              |
+--------------------+----------------------+----------------------+
| Ubuntu 20.04       | SKIPPED              | WARN                 |
+--------------------+----------------------+----------------------+

==== 20 line log output for Ubuntu 20.04 (dpdk_fips_validation): ====
1548 |  __attribute__((assume(cache != NULL)));
|  ^~~~~~~~~~~~~
../lib/mempool/rte_mempool.h:1549:2: error: empty declaration [-Werror]
1549 |  __attribute__((assume(cache->size <= RTE_MEMPOOL_CACHE_MAX_SIZE)));
|  ^~~~~~~~~~~~~
../lib/mempool/rte_mempool.h:1550:2: error: empty declaration [-Werror]
1550 |  __attribute__((assume(cache->len <= RTE_MEMPOOL_CACHE_MAX_SIZE)));
|  ^~~~~~~~~~~~~
../lib/mempool/rte_mempool.h:1551:2: error: empty declaration [-Werror]
1551 |  __attribute__((assume(n > cache->len)));
|  ^~~~~~~~~~~~~
../lib/mempool/rte_mempool.h: In function 'rte_mempool_do_generic_get':
../lib/mempool/rte_mempool.h:1675:3: error: empty declaration [-Werror]
1675 |   __attribute__((assume(cache->size <= RTE_MEMPOOL_CACHE_MAX_SIZE)));
|   ^~~~~~~~~~~~~
../lib/mempool/rte_mempool.h:1676:3: error: empty declaration [-Werror]
1676 |   __attribute__((assume(cache->len <= RTE_MEMPOOL_CACHE_MAX_SIZE)));
|   ^~~~~~~~~~~~~
cc1: all warnings being treated as errors
ninja: build stopped: subcommand failed.
==== End log output ====

Ubuntu 22.04 (ARM)
	Kernel: 5.15.0-97-generic
	Compiler: gcc gcc (Ubuntu 11.4.0-1ubuntu1~22.04) 11.4.0

Ubuntu 22.04
	Kernel: 5.15.0-100-generic
	Compiler: gcc gcc (Ubuntu 11.4.0-1ubuntu1~22.04) 11.4.0

Ubuntu 20.04
	Kernel: Depends on container host
	Compiler: gcc (Ubuntu 9.4.0-1ubuntu1~20.04.2) 9.4.0

To view detailed results, visit:
https://lab.dpdk.org/results/dashboard/patchsets/31102/

UNH-IOL DPDK Community Lab

To manage your email subscriptions, visit: 
https://lab.dpdk.org/results/dashboard/preferences/subscriptions/