From mboxrd@z Thu Jan  1 00:00:00 1970
Return-Path: <test-report-bounces@dpdk.org>
Received: from mails.dpdk.org (mails.dpdk.org [217.70.189.124])
	by inbox.dpdk.org (Postfix) with ESMTP id 9038745A03
	for <public@inbox.dpdk.org>; Tue, 24 Sep 2024 16:05:03 +0200 (CEST)
Received: from mails.dpdk.org (localhost [127.0.0.1])
	by mails.dpdk.org (Postfix) with ESMTP id 8C00640274;
	Tue, 24 Sep 2024 16:05:03 +0200 (CEST)
Received: from mail-qt1-f225.google.com (mail-qt1-f225.google.com
 [209.85.160.225])
 by mails.dpdk.org (Postfix) with ESMTP id 64AED400D5
 for <test-report@dpdk.org>; Tue, 24 Sep 2024 16:05:02 +0200 (CEST)
Received: by mail-qt1-f225.google.com with SMTP id
 d75a77b69052e-457cfc2106aso45946931cf.2
 for <test-report@dpdk.org>; Tue, 24 Sep 2024 07:05:02 -0700 (PDT)
DKIM-Signature: v=1; a=rsa-sha256; c=relaxed/relaxed;
 d=iol.unh.edu; s=unh-iol; t=1727186702; x=1727791502; darn=dpdk.org;
 h=references:in-reply-to:cc:to:from:subject:message-id:date:from:to
 :cc:subject:date:message-id:reply-to;
 bh=XZ7FIuXeBVP3k7nJvRitpOU5bMS2Ft6mLUUaqw9JaMs=;
 b=G0Q/Ip7GAalyKdeF5RilqpCrk8O+U7C8EpFFeN4+eyJYUJVnJJeHARbzKiMbs5PJtO
 mRLwf3Mybs74CnuZpdlCpquBYWsrghWnIw+sTK4nr3L3fEOGu0gKiI4inWaY65zHHWS/
 3it/Moexd8coXa+DMDkygy7PgdQnd30g3NAsc=
X-Google-DKIM-Signature: v=1; a=rsa-sha256; c=relaxed/relaxed;
 d=1e100.net; s=20230601; t=1727186702; x=1727791502;
 h=references:in-reply-to:cc:to:from:subject:message-id:date
 :x-gm-message-state:from:to:cc:subject:date:message-id:reply-to;
 bh=XZ7FIuXeBVP3k7nJvRitpOU5bMS2Ft6mLUUaqw9JaMs=;
 b=vOSGImks4DRoDikOwg+Mav+TdSnAx7iCcNfZjyAwBWAeFA2K0YhsF5gxGRs+4eGf6O
 HSaWG3krlqhbX+CoHLb2PpqRzCenDAws5nEixuxAr+KF3BUMEu7wvrGTLBBflUPUApY+
 4sqN4jcd2PtysLkgXBjijlUiRtyVA46U7HLtUCNt0f2Ymw/8VANewHz9YgZzFLZgNlYj
 +DX3v2wIGjQQl6jXL+lRQlvr6RenmiC1KTf1vRfIeVx+rzykPgzUv/pd3/Cyqb+UMsfN
 DhWcE25XNmH7WtfvmlOcV8TOMnRHj8xPHpTvUMktFB5fFXtLWyXwAi1n80wqY0zQoI1i
 baQw==
X-Gm-Message-State: AOJu0YxLFfDDxCPnkWL20hBK4JgeEESZ2iTwQG7wHMhUsKFXAyX0M5G1
 jfXih9gOfQV9RFL2Rwf6pq3ix1B5yjKN/zXZMee5iVFzWYR4B2uU1Oemzve3UZ7qkl+hlJ3lVtu
 RbF7GZUOioUgDYGz3wFv0U4RLdF4Frhizd2f92TCkJXcDG32HcN0oOt2s
X-Google-Smtp-Source: AGHT+IGcsmT0gWubJR6KA1k8Nr2YZzlxpHWQlD0YGfm5pNGfLDdjCRAyjCrApfDMvv1bugDHR6awL43fQI+I
X-Received: by 2002:ac8:5813:0:b0:458:31cd:d7be with SMTP id
 d75a77b69052e-45b205859bfmr273603421cf.57.1727186701721; 
 Tue, 24 Sep 2024 07:05:01 -0700 (PDT)
Received: from postal.iol.unh.edu (postal.iol.unh.edu.
 [2606:4100:3880:1234::84]) by smtp-relay.gmail.com with ESMTPS id
 d75a77b69052e-45b522efdbdsm522381cf.7.2024.09.24.07.05.01
 (version=TLS1_2 cipher=ECDHE-ECDSA-AES128-GCM-SHA256 bits=128/128);
 Tue, 24 Sep 2024 07:05:01 -0700 (PDT)
X-Relaying-Domain: iol.unh.edu
Date: Tue, 24 Sep 2024 07:05:01 -0700 (PDT)
Message-ID: <66f2c70d.050a0220.18b49c.3990SMTPIN_ADDED_MISSING@mx.google.com>
Received: from [172.21.0.2] (unknown [172.18.0.240])
 by postal.iol.unh.edu (Postfix) with ESMTP id 65069604A954;
 Tue, 24 Sep 2024 10:05:01 -0400 (EDT)
Subject: |SUCCESS| pw144398-144399 [PATCH] [v3,2/2] vhost: add reconnection s
From: dpdklab@iol.unh.edu
To: Test Report <test-report@dpdk.org>
Cc: dpdk-test-reports@iol.unh.edu
In-Reply-To: <20240923195151.73527-3-maxime.coquelin@redhat.com>
References: <20240923195151.73527-3-maxime.coquelin@redhat.com>
Content-Type: text/plain
X-BeenThere: test-report@dpdk.org
X-Mailman-Version: 2.1.29
Precedence: list
List-Id: automatic DPDK test reports <test-report.dpdk.org>
List-Unsubscribe: <https://mails.dpdk.org/options/test-report>,
 <mailto:test-report-request@dpdk.org?subject=unsubscribe>
List-Archive: <http://mails.dpdk.org/archives/test-report/>
List-Post: <mailto:test-report@dpdk.org>
List-Help: <mailto:test-report-request@dpdk.org?subject=help>
List-Subscribe: <https://mails.dpdk.org/listinfo/test-report>,
 <mailto:test-report-request@dpdk.org?subject=subscribe>
Errors-To: test-report-bounces@dpdk.org

Test-Label: iol-sample-apps-testing
Test-Status: SUCCESS
http://dpdk.org/patch/144399

_Testing PASS_

Submitter: Maxime Coquelin <maxime.coquelin@redhat.com>
Date: Monday, September 23 2024 19:51:51 
DPDK git baseline: Repo:dpdk
  Branch: master
  CommitID:94d8b04cfa53a41ab952b48f245867111a6f2509

144398-144399 --> testing pass

Upstream job id: ACVP-FIPS-testing#7048

Test environment and result as below:

+--------------------+----------------------+----------------------+
|    Environment     | compressdev_zlib_pmd | dpdk_fips_validation |
+====================+======================+======================+
| Ubuntu 22.04 (ARM) | PASS                 | SKIPPED              |
+--------------------+----------------------+----------------------+
| Ubuntu 22.04       | PASS                 | SKIPPED              |
+--------------------+----------------------+----------------------+
| Ubuntu 20.04       | SKIPPED              | PASS                 |
+--------------------+----------------------+----------------------+


Ubuntu 22.04 (ARM)
	Kernel: 5.15.0-97-generic
	Compiler: gcc gcc (Ubuntu 11.4.0-1ubuntu1~22.04) 11.4.0

Ubuntu 22.04
	Kernel: 5.15.0-100-generic
	Compiler: gcc gcc (Ubuntu 11.4.0-1ubuntu1~22.04) 11.4.0

Ubuntu 20.04
	Kernel: Depends on container host
	Compiler: gcc (Ubuntu 9.4.0-1ubuntu1~20.04.2) 9.4.0

To view detailed results, visit:
https://lab.dpdk.org/results/dashboard/patchsets/31115/

UNH-IOL DPDK Community Lab

To manage your email subscriptions, visit: 
https://lab.dpdk.org/results/dashboard/preferences/subscriptions/