From mboxrd@z Thu Jan  1 00:00:00 1970
Return-Path: <test-report-bounces@dpdk.org>
Received: from mails.dpdk.org (mails.dpdk.org [217.70.189.124])
	by inbox.dpdk.org (Postfix) with ESMTP id 6F0FC45A34
	for <public@inbox.dpdk.org>; Thu, 26 Sep 2024 08:40:34 +0200 (CEST)
Received: from mails.dpdk.org (localhost [127.0.0.1])
	by mails.dpdk.org (Postfix) with ESMTP id 4C2A84025D;
	Thu, 26 Sep 2024 08:40:34 +0200 (CEST)
Received: from mail-yb1-f226.google.com (mail-yb1-f226.google.com
 [209.85.219.226])
 by mails.dpdk.org (Postfix) with ESMTP id B147A400EF
 for <test-report@dpdk.org>; Thu, 26 Sep 2024 08:40:33 +0200 (CEST)
Received: by mail-yb1-f226.google.com with SMTP id
 3f1490d57ef6-e25cf3c7278so225023276.3
 for <test-report@dpdk.org>; Wed, 25 Sep 2024 23:40:33 -0700 (PDT)
DKIM-Signature: v=1; a=rsa-sha256; c=relaxed/relaxed;
 d=iol.unh.edu; s=unh-iol; t=1727332833; x=1727937633; darn=dpdk.org;
 h=cc:to:from:subject:message-id:date:from:to:cc:subject:date
 :message-id:reply-to;
 bh=tms5WaGP0xtSaNszg9iNwGW7AyiGqGELp28QfGjeMQQ=;
 b=bQJ6ZlGUu4hYYM9oYeRnW04hI7fewHC8x7Q6nPAAdgdg5bhLUdwwHe0esRI+F04oNM
 Mqbz5w2OikQPLVJmFgyQsHQF1W4bqkfqd2OVl8CXBB2SLF+vzFLRLisjpa0vW+oJlxHW
 zOLksjPfrK32VaqnWqTAhrzcIJ1Pe5JRFN/Z0=
X-Google-DKIM-Signature: v=1; a=rsa-sha256; c=relaxed/relaxed;
 d=1e100.net; s=20230601; t=1727332833; x=1727937633;
 h=cc:to:from:subject:message-id:date:x-gm-message-state:from:to:cc
 :subject:date:message-id:reply-to;
 bh=tms5WaGP0xtSaNszg9iNwGW7AyiGqGELp28QfGjeMQQ=;
 b=NtGZGIxQ1EbIR3Nku54rj6jhrVE30UM8gg/0yUK1Oz0f7HgYrxZj/+HTM3qdA/sj7c
 TVnjiTvv7agFGPjnv+WKOvABnmcZPCzdFkuCsYURXtD3lM4SnzcKFwXVd2k99bC4kFp+
 8GtWTjFN96Cc9wYVXgP0FsG8VCVMx5y2IYDgNj3rKu6XkvDtiBs7qHp1o94AoE+GK2aa
 rDDOjsc9G8s82VLOUYVXCuzfWG+pd5lQtPQbrNmGLwUPc7iUvUya6/cXOnNLw2qz1fIp
 KXFss+EZPG/hGVzZm7cYUz6S4MR4f1Fg1PgEuPOlZwQzjlPRYrxeaW2WCOmMOuzojfIo
 Qmpg==
X-Gm-Message-State: AOJu0Yy8FJ2oUwlpNj4ruXM3/rG3hwri5A3oFvWb9EIM+JGZUhxXsKnr
 SXgeAYJAD+GPcfdIGPxj6e/6lXfRJpTFDCri4Stnsdv7XHoRzeRoKhMGg62TtSz0h+m9tirSrA6
 mm6fYfBLN6JbiHb4Eisk66ygY3zyXrxkZ
X-Google-Smtp-Source: AGHT+IG4sSmurPp0Ri71F9e5EgiNG1W0zOC++/5g10v2MbfO+feY6azPFnf8Jnd+HuW9YhoV3v9svVVHd3S2
X-Received: by 2002:a05:690c:64c3:b0:6dd:d85a:15e3 with SMTP id
 00721157ae682-6e21d9f2201mr51096597b3.37.1727332832988; 
 Wed, 25 Sep 2024 23:40:32 -0700 (PDT)
Received: from postal.iol.unh.edu (postal.iol.unh.edu. [132.177.123.84])
 by smtp-relay.gmail.com with ESMTPS id
 00721157ae682-6e20d039994sm2396417b3.17.2024.09.25.23.40.27
 (version=TLS1_2 cipher=ECDHE-ECDSA-AES128-GCM-SHA256 bits=128/128);
 Wed, 25 Sep 2024 23:40:27 -0700 (PDT)
X-Relaying-Domain: iol.unh.edu
Date: Wed, 25 Sep 2024 23:40:27 -0700 (PDT)
Message-ID: <66f501db.810a0220.11fda9.02d8SMTPIN_ADDED_MISSING@mx.google.com>
Received: from [172.21.0.4] (unknown [172.18.0.240])
 by postal.iol.unh.edu (Postfix) with ESMTP id 9BE7A605C351;
 Thu, 26 Sep 2024 02:40:25 -0400 (EDT)
Subject: |SUCCESS| [GIT MASTER] e8eb14e00d56027bef8569d68cf00e39670edca2
From: dpdklab@iol.unh.edu
To: Test Report <test-report@dpdk.org>
Cc: dpdk-test-reports@iol.unh.edu, Xueming Li <xuemingl@nvidia.com>,
 Christian Ehrhardt <christian.ehrhardt@canonical.com>,
 Kevin Traynor <ktraynor@redhat.com>, Luca Boccassi <bluca@debian.org>
Content-Type: text/plain
X-BeenThere: test-report@dpdk.org
X-Mailman-Version: 2.1.29
Precedence: list
List-Id: automatic DPDK test reports <test-report.dpdk.org>
List-Unsubscribe: <https://mails.dpdk.org/options/test-report>,
 <mailto:test-report-request@dpdk.org?subject=unsubscribe>
List-Archive: <http://mails.dpdk.org/archives/test-report/>
List-Post: <mailto:test-report@dpdk.org>
List-Help: <mailto:test-report-request@dpdk.org?subject=help>
List-Subscribe: <https://mails.dpdk.org/listinfo/test-report>,
 <mailto:test-report-request@dpdk.org?subject=subscribe>
Errors-To: test-report-bounces@dpdk.org

_Testing PASS_

Branch: tags/v23.11

e8eb14e00d56027bef8569d68cf00e39670edca2 --> testing pass

Upstream job id: Generic-DPDK-Compile-ABI#104999

Test environment and result as below:

+-------------------+----------+
|    Environment    | abi_test |
+===================+==========+
| Debian Bullseye   | PASS     |
+-------------------+----------+
| CentOS Stream 9   | PASS     |
+-------------------+----------+
| Debian 12         | PASS     |
+-------------------+----------+
| Fedora 38 (Clang) | PASS     |
+-------------------+----------+
| Fedora 37         | PASS     |
+-------------------+----------+
| Fedora 38         | PASS     |
+-------------------+----------+
| Fedora 39         | PASS     |
+-------------------+----------+
| Fedora 40         | PASS     |
+-------------------+----------+
| Fedora 39 (Clang) | PASS     |
+-------------------+----------+
| RHEL8             | PASS     |
+-------------------+----------+
| openSUSE Leap 15  | PASS     |
+-------------------+----------+
| Fedora 40 (Clang) | PASS     |
+-------------------+----------+
| Ubuntu 24.04      | PASS     |
+-------------------+----------+
| RHEL9             | PASS     |
+-------------------+----------+
| Ubuntu 22.04      | PASS     |
+-------------------+----------+


Debian Bullseye
	Kernel: Depends on container host
	Compiler: gcc (Debian 10.2.1-6) 10.2.1 20210110

CentOS Stream 9
	Kernel: Depends on container host
	Compiler: gcc 11.4.1 20231218 (Red Hat 11.4.1-3)

Debian 12
	Kernel: Depends on container host
	Compiler: gcc (Debian 12.2.0-14) 12.2.0

Fedora 38 (Clang)
	Kernel: Depends on container host
	Compiler: clang 16.0.6 (Fedora 16.0.6-4.fc38)

Fedora 37
	Kernel: Depends on container host system
	Compiler: gcc 12.3.1 20230508 (Red Hat 12.3.1-1)

Fedora 38
	Kernel: Depends on container host
	Compiler: gcc 13.2.1 20240316 (Red Hat 13.2.1-7)

Fedora 39
	Kernel: Depends on container host
	Compiler: gcc 13.3.1 20240522 (Red Hat 13.3.1-1)

Fedora 40
	Kernel: Depends on container host
	Compiler: gcc 14.2.1 20240801 (Red Hat 14.2.1-1)

Fedora 39 (Clang)
	Kernel: Depends on container host
	Compiler: clang 17.0.6 (Fedora 17.0.6-2.fc39)

RHEL8
	Kernel: Depends on container host
	Compiler: gcc 8.5.0 20210514 (Red Hat 8.5.0-22)

openSUSE Leap 15
	Kernel: Depends on container host
	Compiler: gcc (SUSE Linux) 7.5.0

Fedora 40 (Clang)
	Kernel: Depends on container host
	Compiler: clang 18.1.6 (Fedora 18.1.6-3.fc40)

Ubuntu 24.04
	Kernel: Depends on container host
	Compiler: gcc (Ubuntu 13.2.0-23ubuntu4) 13.2.0

RHEL9
	Kernel: Depends on container host
	Compiler: gcc 11.4.1 20231218 (Red Hat 11.4.1-3)

Ubuntu 22.04
	Kernel: Depends on container host
	Compiler: gcc (Ubuntu 11.4.0-1ubuntu1~22.04) 11.4.0

To view detailed results, visit:
https://lab.dpdk.org/results/dashboard/tarballs/30738/

UNH-IOL DPDK Community Lab

To manage your email subscriptions, visit: 
https://lab.dpdk.org/results/dashboard/preferences/subscriptions/